Back to Multiple platform build/check report for BioC 3.15
ABCDEFGHIJKLMNOP[Q]RSTUVWXYZ

This page was generated on 2022-08-12 13:22:03 -0400 (Fri, 12 Aug 2022).

HostnameOSArch (*)R versionInstalled pkgs
nebbiolo1Linux (Ubuntu 20.04.4 LTS)x86_644.2.1 (2022-06-23) -- "Funny-Looking Kid" 4364
palomino3Windows Server 2022 Datacenterx644.2.1 (2022-06-23 ucrt) -- "Funny-Looking Kid" 4117
merida1macOS 10.14.6 Mojavex86_644.2.1 (2022-06-23) -- "Funny-Looking Kid" 4182
Click on any hostname to see more info about the system (e.g. compilers)      (*) as reported by 'uname -p', except on Windows and Mac OS X

BUILD BIN results for QuasR on palomino3


To the developers/maintainers of the QuasR package:
- Please allow up to 24 hours (and sometimes 48 hours) for your latest push to git@git.bioconductor.org:packages/QuasR.git to
reflect on this report. See How and When does the builder pull? When will my changes propagate? for more information.
- Make sure to use the following settings in order to reproduce any error or warning you see on this page.

raw results

Package 1551/2140HostnameOS / ArchINSTALLBUILDCHECKBUILD BIN
QuasR 1.36.0  (landing page)
Michael Stadler
Snapshot Date: 2022-08-11 13:55:06 -0400 (Thu, 11 Aug 2022)
git_url: https://git.bioconductor.org/packages/QuasR
git_branch: RELEASE_3_15
git_last_commit: e0383d7
git_last_commit_date: 2022-04-26 11:13:15 -0400 (Tue, 26 Apr 2022)
nebbiolo1Linux (Ubuntu 20.04.4 LTS) / x86_64  OK    OK    OK  UNNEEDED, same version is already published
palomino3Windows Server 2022 Datacenter / x64  OK    OK    OK    OK  UNNEEDED, same version is already published
merida1macOS 10.14.6 Mojave / x86_64  OK    OK    OK    OK  UNNEEDED, same version is already published

Summary

Package: QuasR
Version: 1.36.0
Command: rm -rf QuasR.buildbin-libdir && mkdir QuasR.buildbin-libdir && F:\biocbuild\bbs-3.15-bioc\R\bin\R.exe CMD INSTALL --build --library=QuasR.buildbin-libdir QuasR_1.36.0.tar.gz
StartedAt: 2022-08-12 06:59:49 -0400 (Fri, 12 Aug 2022)
EndedAt: 2022-08-12 07:01:39 -0400 (Fri, 12 Aug 2022)
EllapsedTime: 110.3 seconds
RetCode: 0
Status:   OK  
PackageFile: QuasR_1.36.0.zip
PackageFileSize: 5.757 MiB

Command output

##############################################################################
##############################################################################
###
### Running command:
###
###   rm -rf QuasR.buildbin-libdir && mkdir QuasR.buildbin-libdir && F:\biocbuild\bbs-3.15-bioc\R\bin\R.exe CMD INSTALL --build --library=QuasR.buildbin-libdir QuasR_1.36.0.tar.gz
###
##############################################################################
##############################################################################


* installing *source* package 'QuasR' ...
** using staged installation
** libs
g++ -std=gnu++11  -I"F:/biocbuild/bbs-3.15-bioc/R/include" -DNDEBUG -D_FILE_OFFSET_BITS=64 -I'F:/biocbuild/bbs-3.15-bioc/R/library/Rhtslib/include'   -I"C:/rtools42/x86_64-w64-mingw32.static.posix/include"     -O2 -Wall  -mfpmath=sse -msse2 -mstackrealign  -c R_init_QuasR.cpp -o R_init_QuasR.o
gcc  -I"F:/biocbuild/bbs-3.15-bioc/R/include" -DNDEBUG -D_FILE_OFFSET_BITS=64 -I'F:/biocbuild/bbs-3.15-bioc/R/library/Rhtslib/include'   -I"C:/rtools42/x86_64-w64-mingw32.static.posix/include"     -O2 -Wall  -std=gnu99 -mfpmath=sse -msse2 -mstackrealign  -c bam.c -o bam.o
gcc  -I"F:/biocbuild/bbs-3.15-bioc/R/include" -DNDEBUG -D_FILE_OFFSET_BITS=64 -I'F:/biocbuild/bbs-3.15-bioc/R/library/Rhtslib/include'   -I"C:/rtools42/x86_64-w64-mingw32.static.posix/include"     -O2 -Wall  -std=gnu99 -mfpmath=sse -msse2 -mstackrealign  -c bam_cat.c -o bam_cat.o
gcc  -I"F:/biocbuild/bbs-3.15-bioc/R/include" -DNDEBUG -D_FILE_OFFSET_BITS=64 -I'F:/biocbuild/bbs-3.15-bioc/R/library/Rhtslib/include'   -I"C:/rtools42/x86_64-w64-mingw32.static.posix/include"     -O2 -Wall  -std=gnu99 -mfpmath=sse -msse2 -mstackrealign  -c bam_plbuf.c -o bam_plbuf.o
gcc  -I"F:/biocbuild/bbs-3.15-bioc/R/include" -DNDEBUG -D_FILE_OFFSET_BITS=64 -I'F:/biocbuild/bbs-3.15-bioc/R/library/Rhtslib/include'   -I"C:/rtools42/x86_64-w64-mingw32.static.posix/include"     -O2 -Wall  -std=gnu99 -mfpmath=sse -msse2 -mstackrealign  -c cat_bam.c -o cat_bam.o
gcc  -I"F:/biocbuild/bbs-3.15-bioc/R/include" -DNDEBUG -D_FILE_OFFSET_BITS=64 -I'F:/biocbuild/bbs-3.15-bioc/R/library/Rhtslib/include'   -I"C:/rtools42/x86_64-w64-mingw32.static.posix/include"     -O2 -Wall  -std=gnu99 -mfpmath=sse -msse2 -mstackrealign  -c convert_reads_id_bis_rc.c -o convert_reads_id_bis_rc.o
gcc  -I"F:/biocbuild/bbs-3.15-bioc/R/include" -DNDEBUG -D_FILE_OFFSET_BITS=64 -I'F:/biocbuild/bbs-3.15-bioc/R/library/Rhtslib/include'   -I"C:/rtools42/x86_64-w64-mingw32.static.posix/include"     -O2 -Wall  -std=gnu99 -mfpmath=sse -msse2 -mstackrealign  -c count_alignments.c -o count_alignments.o
gcc  -I"F:/biocbuild/bbs-3.15-bioc/R/include" -DNDEBUG -D_FILE_OFFSET_BITS=64 -I'F:/biocbuild/bbs-3.15-bioc/R/library/Rhtslib/include'   -I"C:/rtools42/x86_64-w64-mingw32.static.posix/include"     -O2 -Wall  -std=gnu99 -mfpmath=sse -msse2 -mstackrealign  -c count_alignments_subregions.c -o count_alignments_subregions.o
g++ -std=gnu++11  -I"F:/biocbuild/bbs-3.15-bioc/R/include" -DNDEBUG -D_FILE_OFFSET_BITS=64 -I'F:/biocbuild/bbs-3.15-bioc/R/library/Rhtslib/include'   -I"C:/rtools42/x86_64-w64-mingw32.static.posix/include"     -O2 -Wall  -mfpmath=sse -msse2 -mstackrealign  -c count_junctions.cpp -o count_junctions.o
gcc  -I"F:/biocbuild/bbs-3.15-bioc/R/include" -DNDEBUG -D_FILE_OFFSET_BITS=64 -I'F:/biocbuild/bbs-3.15-bioc/R/library/Rhtslib/include'   -I"C:/rtools42/x86_64-w64-mingw32.static.posix/include"     -O2 -Wall  -std=gnu99 -mfpmath=sse -msse2 -mstackrealign  -c export_wig.c -o export_wig.o
gcc  -I"F:/biocbuild/bbs-3.15-bioc/R/include" -DNDEBUG -D_FILE_OFFSET_BITS=64 -I'F:/biocbuild/bbs-3.15-bioc/R/library/Rhtslib/include'   -I"C:/rtools42/x86_64-w64-mingw32.static.posix/include"     -O2 -Wall  -std=gnu99 -mfpmath=sse -msse2 -mstackrealign  -c extract_unmapped_reads.c -o extract_unmapped_reads.o
gcc  -I"F:/biocbuild/bbs-3.15-bioc/R/include" -DNDEBUG -D_FILE_OFFSET_BITS=64 -I'F:/biocbuild/bbs-3.15-bioc/R/library/Rhtslib/include'   -I"C:/rtools42/x86_64-w64-mingw32.static.posix/include"     -O2 -Wall  -std=gnu99 -mfpmath=sse -msse2 -mstackrealign  -c filter_hisat2.c -o filter_hisat2.o
gcc  -I"F:/biocbuild/bbs-3.15-bioc/R/include" -DNDEBUG -D_FILE_OFFSET_BITS=64 -I'F:/biocbuild/bbs-3.15-bioc/R/library/Rhtslib/include'   -I"C:/rtools42/x86_64-w64-mingw32.static.posix/include"     -O2 -Wall  -std=gnu99 -mfpmath=sse -msse2 -mstackrealign  -c idxstats_bam.c -o idxstats_bam.o
g++ -std=gnu++11  -I"F:/biocbuild/bbs-3.15-bioc/R/include" -DNDEBUG -D_FILE_OFFSET_BITS=64 -I'F:/biocbuild/bbs-3.15-bioc/R/library/Rhtslib/include'   -I"C:/rtools42/x86_64-w64-mingw32.static.posix/include"     -O2 -Wall  -mfpmath=sse -msse2 -mstackrealign  -c merge_reorder_sam.cpp -o merge_reorder_sam.o
gcc  -I"F:/biocbuild/bbs-3.15-bioc/R/include" -DNDEBUG -D_FILE_OFFSET_BITS=64 -I'F:/biocbuild/bbs-3.15-bioc/R/library/Rhtslib/include'   -I"C:/rtools42/x86_64-w64-mingw32.static.posix/include"     -O2 -Wall  -std=gnu99 -mfpmath=sse -msse2 -mstackrealign  -c nucleotide_alignment_frequencies.c -o nucleotide_alignment_frequencies.o
gcc  -I"F:/biocbuild/bbs-3.15-bioc/R/include" -DNDEBUG -D_FILE_OFFSET_BITS=64 -I'F:/biocbuild/bbs-3.15-bioc/R/library/Rhtslib/include'   -I"C:/rtools42/x86_64-w64-mingw32.static.posix/include"     -O2 -Wall  -std=gnu99 -mfpmath=sse -msse2 -mstackrealign  -c profile_alignments.c -o profile_alignments.o
g++ -std=gnu++11  -I"F:/biocbuild/bbs-3.15-bioc/R/include" -DNDEBUG -D_FILE_OFFSET_BITS=64 -I'F:/biocbuild/bbs-3.15-bioc/R/library/Rhtslib/include'   -I"C:/rtools42/x86_64-w64-mingw32.static.posix/include"     -O2 -Wall  -mfpmath=sse -msse2 -mstackrealign  -c quantify_methylation.cpp -o quantify_methylation.o
gcc  -I"F:/biocbuild/bbs-3.15-bioc/R/include" -DNDEBUG -D_FILE_OFFSET_BITS=64 -I'F:/biocbuild/bbs-3.15-bioc/R/library/Rhtslib/include'   -I"C:/rtools42/x86_64-w64-mingw32.static.posix/include"     -O2 -Wall  -std=gnu99 -mfpmath=sse -msse2 -mstackrealign  -c remove_unmapped_from_sam.c -o remove_unmapped_from_sam.o
gcc  -I"F:/biocbuild/bbs-3.15-bioc/R/include" -DNDEBUG -D_FILE_OFFSET_BITS=64 -I'F:/biocbuild/bbs-3.15-bioc/R/library/Rhtslib/include'   -I"C:/rtools42/x86_64-w64-mingw32.static.posix/include"     -O2 -Wall  -std=gnu99 -mfpmath=sse -msse2 -mstackrealign  -c sam.c -o sam.o
gcc  -I"F:/biocbuild/bbs-3.15-bioc/R/include" -DNDEBUG -D_FILE_OFFSET_BITS=64 -I'F:/biocbuild/bbs-3.15-bioc/R/library/Rhtslib/include'   -I"C:/rtools42/x86_64-w64-mingw32.static.posix/include"     -O2 -Wall  -std=gnu99 -mfpmath=sse -msse2 -mstackrealign  -c sam_utils.c -o sam_utils.o
gcc  -I"F:/biocbuild/bbs-3.15-bioc/R/include" -DNDEBUG -D_FILE_OFFSET_BITS=64 -I'F:/biocbuild/bbs-3.15-bioc/R/library/Rhtslib/include'   -I"C:/rtools42/x86_64-w64-mingw32.static.posix/include"     -O2 -Wall  -std=gnu99 -mfpmath=sse -msse2 -mstackrealign  -c split_sam_chr.c -o split_sam_chr.o
gcc  -I"F:/biocbuild/bbs-3.15-bioc/R/include" -DNDEBUG -D_FILE_OFFSET_BITS=64 -I'F:/biocbuild/bbs-3.15-bioc/R/library/Rhtslib/include'   -I"C:/rtools42/x86_64-w64-mingw32.static.posix/include"     -O2 -Wall  -std=gnu99 -mfpmath=sse -msse2 -mstackrealign  -c utilities.c -o utilities.o
g++ -std=gnu++11 -shared -s -static-libgcc -o QuasR.dll tmp.def R_init_QuasR.o bam.o bam_cat.o bam_plbuf.o cat_bam.o convert_reads_id_bis_rc.o count_alignments.o count_alignments_subregions.o count_junctions.o export_wig.o extract_unmapped_reads.o filter_hisat2.o idxstats_bam.o merge_reorder_sam.o nucleotide_alignment_frequencies.o profile_alignments.o quantify_methylation.o remove_unmapped_from_sam.o sam.o sam_utils.o split_sam_chr.o utilities.o F:/biocbuild/bbs-3.15-bioc/R/library/Rhtslib/usrlib/x64/libhts.a -LC:/rtools42/x86_64-w64-mingw32.static.posix/lib/x64 -lsbml-static -lwinmm -lwldap32 -lgdi32 -lbz2 -lcurl -lrtmp -lssl -lssh2 -lidn2 -lunistring -lcharset -lintl -liconv -lgcrypt -lcrypto -lgpg-error -lws2_32 -llzma -lz -lzstd -lmincore -LC:/rtools42/x86_64-w64-mingw32.static.posix/lib/x64 -LC:/rtools42/x86_64-w64-mingw32.static.posix/lib -LF:/biocbuild/bbs-3.15-bioc/R/bin/x64 -lR
installing to F:/biocbuild/bbs-3.15-bioc/meat/QuasR.buildbin-libdir/00LOCK-QuasR/00new/QuasR/libs/x64
** R
** inst
** byte-compile and prepare package for lazy loading
** help
*** installing help indices
** building package indices
** installing vignettes
** testing if installed package can be loaded from temporary location
** testing if installed package can be loaded from final location
** testing if installed package keeps a record of temporary installation path
* MD5 sums
packaged installation of 'QuasR' as QuasR_1.36.0.zip
* DONE (QuasR)