Back to Multiple platform build/check report for BioC 3.15
ABCDEFGHIJKLMNOPQ[R]STUVWXYZ

This page was generated on 2022-06-24 12:05:16 -0400 (Fri, 24 Jun 2022).

HostnameOSArch (*)R versionInstalled pkgs
nebbiolo1Linux (Ubuntu 20.04.4 LTS)x86_644.2.0 (2022-04-22) -- "Vigorous Calisthenics" 4380
palomino3Windows Server 2022 Datacenterx644.2.0 (2022-04-22 ucrt) -- "Vigorous Calisthenics" 4156
merida1macOS 10.14.6 Mojavex86_644.2.0 (2022-04-22) -- "Vigorous Calisthenics" 4221
Click on any hostname to see more info about the system (e.g. compilers)      (*) as reported by 'uname -p', except on Windows and Mac OS X

CHECK results for recoup on nebbiolo1


To the developers/maintainers of the recoup package:
- Please allow up to 24 hours (and sometimes 48 hours) for your latest push to git@git.bioconductor.org:packages/recoup.git to
reflect on this report. See How and When does the builder pull? When will my changes propagate? for more information.
- Make sure to use the following settings in order to reproduce any error or warning you see on this page.

raw results

Package 1612/2140HostnameOS / ArchINSTALLBUILDCHECKBUILD BIN
recoup 1.24.0  (landing page)
Panagiotis Moulos
Snapshot Date: 2022-06-23 13:55:15 -0400 (Thu, 23 Jun 2022)
git_url: https://git.bioconductor.org/packages/recoup
git_branch: RELEASE_3_15
git_last_commit: 945741c
git_last_commit_date: 2022-04-26 11:30:44 -0400 (Tue, 26 Apr 2022)
nebbiolo1Linux (Ubuntu 20.04.4 LTS) / x86_64  OK    OK    OK  UNNEEDED, same version is already published
palomino3Windows Server 2022 Datacenter / x64  OK    OK    OK    OK  UNNEEDED, same version is already published
merida1macOS 10.14.6 Mojave / x86_64  OK    OK    OK    NA  

Summary

Package: recoup
Version: 1.24.0
Command: /home/biocbuild/bbs-3.15-bioc/R/bin/R CMD check --install=check:recoup.install-out.txt --library=/home/biocbuild/bbs-3.15-bioc/R/library --no-vignettes --timings recoup_1.24.0.tar.gz
StartedAt: 2022-06-23 21:36:26 -0400 (Thu, 23 Jun 2022)
EndedAt: 2022-06-23 21:42:48 -0400 (Thu, 23 Jun 2022)
EllapsedTime: 382.6 seconds
RetCode: 0
Status:   OK  
CheckDir: recoup.Rcheck
Warnings: 0

Command output

##############################################################################
##############################################################################
###
### Running command:
###
###   /home/biocbuild/bbs-3.15-bioc/R/bin/R CMD check --install=check:recoup.install-out.txt --library=/home/biocbuild/bbs-3.15-bioc/R/library --no-vignettes --timings recoup_1.24.0.tar.gz
###
##############################################################################
##############################################################################


* using log directory ‘/home/biocbuild/bbs-3.15-bioc/meat/recoup.Rcheck’
* using R version 4.2.0 (2022-04-22)
* using platform: x86_64-pc-linux-gnu (64-bit)
* using session charset: UTF-8
* using option ‘--no-vignettes’
* checking for file ‘recoup/DESCRIPTION’ ... OK
* checking extension type ... Package
* this is package ‘recoup’ version ‘1.24.0’
* package encoding: UTF-8
* checking package namespace information ... OK
* checking package dependencies ... OK
* checking if this is a source package ... OK
* checking if there is a namespace ... OK
* checking for hidden files and directories ... OK
* checking for portable file names ... OK
* checking for sufficient/correct file permissions ... OK
* checking whether package ‘recoup’ can be installed ... OK
* checking installed package size ... OK
* checking package directory ... OK
* checking ‘build’ directory ... OK
* checking DESCRIPTION meta-information ... OK
* checking top-level files ... OK
* checking for left-over files ... OK
* checking index information ... OK
* checking package subdirectories ... OK
* checking R files for non-ASCII characters ... OK
* checking R files for syntax errors ... OK
* checking whether the package can be loaded ... OK
* checking whether the package can be loaded with stated dependencies ... OK
* checking whether the package can be unloaded cleanly ... OK
* checking whether the namespace can be loaded with stated dependencies ... OK
* checking whether the namespace can be unloaded cleanly ... OK
* checking dependencies in R code ... NOTE
Unexported objects imported by ':::' calls:
  ‘GenomicFeatures:::GFF_FEATURE_TYPES’ ‘biomaRt:::.generateFilterXML’
  ‘biomaRt:::.setResultColNames’ ‘biomaRt:::martCheck’
  ‘biomaRt:::martDataset’ ‘biomaRt:::martHost’ ‘biomaRt:::martVSchema’
  See the note in ?`:::` about the use of this operator.
There are ::: calls to the package's namespace in its code. A package
  almost never needs to use ::: for its own objects:
  ‘makeHorizontalAnnotation’
* checking S3 generic/method consistency ... OK
* checking replacement functions ... OK
* checking foreign function calls ... OK
* checking R code for possible problems ... NOTE
readBamIntervals: no visible binding for global variable ‘bam.file’
recoupCorrelation: no visible binding for global variable ‘Index’
recoupCorrelation: no visible binding for global variable ‘Coverage’
recoupCorrelation: no visible binding for global variable ‘Condition’
recoupCorrelation: no visible binding for global variable ‘Design’
recoupHeatmap : <anonymous>: no visible global function definition for
  ‘grid.text’
recoupProfile: no visible binding for global variable ‘Signal’
recoupProfile: no visible binding for global variable ‘Condition’
recoupProfile: no visible binding for global variable ‘Design’
Undefined global functions or variables:
  Condition Coverage Design Index Signal bam.file grid.text
* checking Rd files ... OK
* checking Rd metadata ... OK
* checking Rd cross-references ... OK
* checking for missing documentation entries ... OK
* checking for code/documentation mismatches ... OK
* checking Rd \usage sections ... OK
* checking Rd contents ... OK
* checking for unstated dependencies in examples ... OK
* checking contents of ‘data’ directory ... OK
* checking data for non-ASCII characters ... OK
* checking LazyData ... OK
* checking data for ASCII and uncompressed saves ... OK
* checking files in ‘vignettes’ ... OK
* checking examples ... OK
Examples with CPU (user + system) or elapsed time > 5s
                    user system elapsed
mergeRuns         19.772  8.838  19.006
profileMatrix     10.144  6.400   8.029
sliceObj           8.149  5.738   7.779
recoupPlot         9.045  4.788   9.090
kmeansDesign       8.028  4.898   7.991
simpleGetSet       7.226  5.181   6.958
recoup             7.505  4.647   7.339
recoupCorrelation  4.971  2.248   5.920
recoupHeatmap      5.225  1.928   6.231
recoupProfile      5.159  1.733   6.039
getAnnotation      1.782  0.092   7.093
* checking for unstated dependencies in ‘tests’ ... OK
* checking tests ...
  Running ‘runTests.R’
 OK
* checking for unstated dependencies in vignettes ... OK
* checking package vignettes in ‘inst/doc’ ... OK
* checking running R code from vignettes ... SKIPPED
* checking re-building of vignette outputs ... SKIPPED
* checking PDF version of manual ... OK
* DONE

Status: 2 NOTEs
See
  ‘/home/biocbuild/bbs-3.15-bioc/meat/recoup.Rcheck/00check.log’
for details.



Installation output

recoup.Rcheck/00install.out

##############################################################################
##############################################################################
###
### Running command:
###
###   /home/biocbuild/bbs-3.15-bioc/R/bin/R CMD INSTALL recoup
###
##############################################################################
##############################################################################


* installing to library ‘/home/biocbuild/bbs-3.15-bioc/R/library’
* installing *source* package ‘recoup’ ...
** using staged installation
** R
** data
*** moving datasets to lazyload DB
** inst
** byte-compile and prepare package for lazy loading
** help
*** installing help indices
** building package indices
** installing vignettes
** testing if installed package can be loaded from temporary location
** testing if installed package can be loaded from final location
** testing if installed package keeps a record of temporary installation path
* DONE (recoup)

Tests output

recoup.Rcheck/tests/runTests.Rout


R version 4.2.0 (2022-04-22) -- "Vigorous Calisthenics"
Copyright (C) 2022 The R Foundation for Statistical Computing
Platform: x86_64-pc-linux-gnu (64-bit)

R is free software and comes with ABSOLUTELY NO WARRANTY.
You are welcome to redistribute it under certain conditions.
Type 'license()' or 'licence()' for distribution details.

R is a collaborative project with many contributors.
Type 'contributors()' for more information and
'citation()' on how to cite R or R packages in publications.

Type 'demo()' for some demos, 'help()' for on-line help, or
'help.start()' for an HTML browser interface to help.
Type 'q()' to quit R.

> BiocGenerics:::testPackage("recoup")

Attaching package: 'BiocGenerics'

The following objects are masked from 'package:stats':

    IQR, mad, sd, var, xtabs

The following objects are masked from 'package:base':

    Filter, Find, Map, Position, Reduce, anyDuplicated, append,
    as.data.frame, basename, cbind, colnames, dirname, do.call,
    duplicated, eval, evalq, get, grep, grepl, intersect, is.unsorted,
    lapply, mapply, match, mget, order, paste, pmax, pmax.int, pmin,
    pmin.int, rank, rbind, rownames, sapply, setdiff, sort, table,
    tapply, union, unique, unsplit, which.max, which.min


Attaching package: 'S4Vectors'

The following objects are masked from 'package:base':

    I, expand.grid, unname


Attaching package: 'MatrixGenerics'

The following objects are masked from 'package:matrixStats':

    colAlls, colAnyNAs, colAnys, colAvgsPerRowSet, colCollapse,
    colCounts, colCummaxs, colCummins, colCumprods, colCumsums,
    colDiffs, colIQRDiffs, colIQRs, colLogSumExps, colMadDiffs,
    colMads, colMaxs, colMeans2, colMedians, colMins, colOrderStats,
    colProds, colQuantiles, colRanges, colRanks, colSdDiffs, colSds,
    colSums2, colTabulates, colVarDiffs, colVars, colWeightedMads,
    colWeightedMeans, colWeightedMedians, colWeightedSds,
    colWeightedVars, rowAlls, rowAnyNAs, rowAnys, rowAvgsPerColSet,
    rowCollapse, rowCounts, rowCummaxs, rowCummins, rowCumprods,
    rowCumsums, rowDiffs, rowIQRDiffs, rowIQRs, rowLogSumExps,
    rowMadDiffs, rowMads, rowMaxs, rowMeans2, rowMedians, rowMins,
    rowOrderStats, rowProds, rowQuantiles, rowRanges, rowRanks,
    rowSdDiffs, rowSds, rowSums2, rowTabulates, rowVarDiffs, rowVars,
    rowWeightedMads, rowWeightedMeans, rowWeightedMedians,
    rowWeightedSds, rowWeightedVars

Welcome to Bioconductor

    Vignettes contain introductory material; view with
    'browseVignettes()'. To cite Bioconductor, see
    'citation("Biobase")', and for packages 'citation("pkgname")'.


Attaching package: 'Biobase'

The following object is masked from 'package:MatrixGenerics':

    rowMedians

The following objects are masked from 'package:matrixStats':

    anyMissing, rowMedians


Attaching package: 'Biostrings'

The following object is masked from 'package:base':

    strsplit


Attaching package: 'grid'

The following object is masked from 'package:Biostrings':

    pattern

========================================
ComplexHeatmap version 2.12.0
Bioconductor page: http://bioconductor.org/packages/ComplexHeatmap/
Github page: https://github.com/jokergoo/ComplexHeatmap
Documentation: http://jokergoo.github.io/ComplexHeatmap-reference

If you use it in published research, please cite:
Gu, Z. Complex heatmaps reveal patterns and correlations in multidimensional 
  genomic data. Bioinformatics 2016.

The new InteractiveComplexHeatmap package can directly export static 
complex heatmaps into an interactive Shiny app with zero effort. Have a try!

This message can be suppressed by:
  suppressPackageStartupMessages(library(ComplexHeatmap))
========================================

Getting main ranges for measurements
  measurement type: chipseq
  genomic region type: tss
Calculating requested regions coverage for WT H4K20me1
  calculating total coverage
  processing chr12
Calculating requested regions coverage for Set8KO H4K20me1
  calculating total coverage
  processing chr12
Calculating profile for WT H4K20me1
Calculating profile for Set8KO H4K20me1
Constructing genomic coverage profile curve(s)
The resolution of the requested profiles will be lowered to avoid
increased computation time and/or storage space for heatmap profiles...
Calculating tss profile for WT H4K20me1
Calculating tss profile for Set8KO H4K20me1
Constructing genomic coverage heatmap(s)
Constructing coverage correlation profile curve(s)
dev.new(): using pdf(file="Rplots1.pdf")
dev.new(): using pdf(file="Rplots2.pdf")
Getting main ranges for measurements
  measurement type: chipseq
  genomic region type: genebody
Calculating requested regions coverage for WT H4K20me1
  calculating total coverage
  processing chr12
Calculating requested regions coverage for Set8KO H4K20me1
  calculating total coverage
  processing chr12
Calculating profile for WT H4K20me1
 center
 upstream
 downstream
Calculating profile for Set8KO H4K20me1
 center
 upstream
 downstream
Constructing genomic coverage profile curve(s)
Using provided design to facet the coverage profiles
Constructing genomic coverage heatmap(s)
Using provided design to facet the coverage profiles
Constructing coverage correlation profile curve(s)
Using provided design to facet the coverage profiles
dev.new(): using pdf(file="Rplots3.pdf")
dev.new(): using pdf(file="Rplots4.pdf")
dev.new(): using pdf(file="Rplots5.pdf")


RUNIT TEST PROTOCOL -- Thu Jun 23 21:42:45 2022 
*********************************************** 
Number of test functions: 1 
Number of errors: 0 
Number of failures: 0 

 
1 Test Suite : 
recoup RUnit Tests - 1 test function, 0 errors, 0 failures
Number of test functions: 1 
Number of errors: 0 
Number of failures: 0 
> 
> proc.time()
   user  system elapsed 
 36.573  13.032  34.215 

Example timings

recoup.Rcheck/recoup-Ex.timings

nameusersystemelapsed
buildAnnotationDatabase000
buildAnnotationStore0.0000.0000.001
buildCustomAnnotation2.3620.1362.500
calcCoverage3.2280.1283.355
coverageRef4.4760.0574.549
coverageRnaRef0.0010.0000.001
getAnnotation1.7820.0927.093
getBiotypes0.0000.0000.001
getInstalledAnnotations0.0000.0010.001
importCustomAnnotation0.8350.1100.945
kmeansDesign8.0284.8987.991
loadAnnotation0.0010.0000.001
mergeRuns19.772 8.83819.006
preprocessRanges0.2270.0310.280
profileMatrix10.144 6.400 8.029
recoup7.5054.6477.339
recoupCorrelation4.9712.2485.920
recoupHeatmap5.2251.9286.231
recoupPlot9.0454.7889.090
recoupProfile5.1591.7336.039
removeData0.0650.0680.016
rpMatrix0.5490.0680.616
simpleGetSet7.2265.1816.958
sliceObj8.1495.7387.779