Back to Multiple platform build/check report for BioC 3.15
ABCDEFGHIJKL[M]NOPQRSTUVWXYZ

This page was generated on 2022-05-23 12:06:41 -0400 (Mon, 23 May 2022).

HostnameOSArch (*)R versionInstalled pkgs
nebbiolo1Linux (Ubuntu 20.04.4 LTS)x86_644.2.0 (2022-04-22) -- "Vigorous Calisthenics" 4380
palomino3Windows Server 2022 Datacenterx644.2.0 (2022-04-22 ucrt) -- "Vigorous Calisthenics" 4155
merida1macOS 10.14.6 Mojavex86_644.2.0 (2022-04-22) -- "Vigorous Calisthenics" 4221
Click on any hostname to see more info about the system (e.g. compilers)      (*) as reported by 'uname -p', except on Windows and Mac OS X

BUILD BIN results for megadepth on palomino3


To the developers/maintainers of the megadepth package:
- Please allow up to 24 hours (and sometimes 48 hours) for your latest push to git@git.bioconductor.org:packages/megadepth.git to
reflect on this report. See How and When does the builder pull? When will my changes propagate? for more information.
- Make sure to use the following settings in order to reproduce any error or warning you see on this page.

raw results

Package 1108/2140HostnameOS / ArchINSTALLBUILDCHECKBUILD BIN
megadepth 1.6.0  (landing page)
David Zhang
Snapshot Date: 2022-05-22 13:55:15 -0400 (Sun, 22 May 2022)
git_url: https://git.bioconductor.org/packages/megadepth
git_branch: RELEASE_3_15
git_last_commit: 8168273
git_last_commit_date: 2022-04-26 12:10:00 -0400 (Tue, 26 Apr 2022)
nebbiolo1Linux (Ubuntu 20.04.4 LTS) / x86_64  OK    OK    OK  UNNEEDED, same version is already published
palomino3Windows Server 2022 Datacenter / x64  OK    OK    OK    OK  UNNEEDED, same version is already published
merida1macOS 10.14.6 Mojave / x86_64  OK    OK    OK    OK  UNNEEDED, same version is already published

Summary

Package: megadepth
Version: 1.6.0
Command: rm -rf megadepth.buildbin-libdir && mkdir megadepth.buildbin-libdir && F:\biocbuild\bbs-3.15-bioc\R\bin\R.exe CMD INSTALL --build --library=megadepth.buildbin-libdir megadepth_1.6.0.tar.gz
StartedAt: 2022-05-23 05:12:44 -0400 (Mon, 23 May 2022)
EndedAt: 2022-05-23 05:13:09 -0400 (Mon, 23 May 2022)
EllapsedTime: 24.3 seconds
RetCode: 0
Status:   OK  
PackageFile: megadepth_1.6.0.zip
PackageFileSize: 476.9 KiB

Command output

##############################################################################
##############################################################################
###
### Running command:
###
###   rm -rf megadepth.buildbin-libdir && mkdir megadepth.buildbin-libdir && F:\biocbuild\bbs-3.15-bioc\R\bin\R.exe CMD INSTALL --build --library=megadepth.buildbin-libdir megadepth_1.6.0.tar.gz
###
##############################################################################
##############################################################################


* installing *source* package 'megadepth' ...
** using staged installation
** R
** inst
** byte-compile and prepare package for lazy loading
** help
*** installing help indices
** building package indices
** installing vignettes
** testing if installed package can be loaded from temporary location
** testing if installed package can be loaded from final location
** testing if installed package keeps a record of temporary installation path
* MD5 sums
packaged installation of 'megadepth' as megadepth_1.6.0.zip
* DONE (megadepth)