Back to Multiple platform build/check report for BioC 3.15
ABCDEFGHIJKLMNOPQR[S]TUVWXYZ

This page was generated on 2022-08-15 13:22:12 -0400 (Mon, 15 Aug 2022).

HostnameOSArch (*)R versionInstalled pkgs
nebbiolo1Linux (Ubuntu 20.04.4 LTS)x86_644.2.1 (2022-06-23) -- "Funny-Looking Kid" 4365
palomino3Windows Server 2022 Datacenterx644.2.1 (2022-06-23 ucrt) -- "Funny-Looking Kid" 4118
merida1macOS 10.14.6 Mojavex86_644.2.1 (2022-06-23) -- "Funny-Looking Kid" 4183
Click on any hostname to see more info about the system (e.g. compilers)      (*) as reported by 'uname -p', except on Windows and Mac OS X

BUILD results for shinyepico on palomino3


To the developers/maintainers of the shinyepico package:
- Please allow up to 24 hours (and sometimes 48 hours) for your latest push to git@git.bioconductor.org:packages/shinyepico.git to
reflect on this report. See How and When does the builder pull? When will my changes propagate? for more information.
- Make sure to use the following settings in order to reproduce any error or warning you see on this page.

raw results

Package 1829/2140HostnameOS / ArchINSTALLBUILDCHECKBUILD BIN
shinyepico 1.4.2  (landing page)
Octavio Morante-Palacios
Snapshot Date: 2022-08-14 13:55:13 -0400 (Sun, 14 Aug 2022)
git_url: https://git.bioconductor.org/packages/shinyepico
git_branch: RELEASE_3_15
git_last_commit: 731c058
git_last_commit_date: 2022-05-18 14:37:19 -0400 (Wed, 18 May 2022)
nebbiolo1Linux (Ubuntu 20.04.4 LTS) / x86_64  OK    OK    OK  UNNEEDED, same version is already published
palomino3Windows Server 2022 Datacenter / x64  OK    OK    OK    OK  UNNEEDED, same version is already published
merida1macOS 10.14.6 Mojave / x86_64  OK    OK    OK    OK  UNNEEDED, same version is already published

Summary

Package: shinyepico
Version: 1.4.2
Command: chmod a+r shinyepico -R && F:\biocbuild\bbs-3.15-bioc\R\bin\R.exe CMD build --keep-empty-dirs --no-resave-data shinyepico
StartedAt: 2022-08-14 21:02:01 -0400 (Sun, 14 Aug 2022)
EndedAt: 2022-08-14 21:02:26 -0400 (Sun, 14 Aug 2022)
EllapsedTime: 25.2 seconds
RetCode: 0
Status:   OK  
PackageFile: shinyepico_1.4.2.tar.gz
PackageFileSize: 2.231 MiB

Command output

##############################################################################
##############################################################################
###
### Running command:
###
###   chmod a+r shinyepico -R && F:\biocbuild\bbs-3.15-bioc\R\bin\R.exe CMD build --keep-empty-dirs --no-resave-data shinyepico
###
##############################################################################
##############################################################################


* checking for file 'shinyepico/DESCRIPTION' ... OK
* preparing 'shinyepico':
* checking DESCRIPTION meta-information ... OK
* installing the package to build vignettes
* creating vignettes ... OK
* checking for LF line-endings in source and make files and shell scripts
* checking for empty or unneeded directories
Omitted 'LazyData' from DESCRIPTION
* building 'shinyepico_1.4.2.tar.gz'