Back to Multiple platform build/check report for BioC 3.15
ABCDEFGHIJKLMNO[P]QRSTUVWXYZ

This page was generated on 2022-06-24 12:06:31 -0400 (Fri, 24 Jun 2022).

HostnameOSArch (*)R versionInstalled pkgs
nebbiolo1Linux (Ubuntu 20.04.4 LTS)x86_644.2.0 (2022-04-22) -- "Vigorous Calisthenics" 4380
palomino3Windows Server 2022 Datacenterx644.2.0 (2022-04-22 ucrt) -- "Vigorous Calisthenics" 4156
merida1macOS 10.14.6 Mojavex86_644.2.0 (2022-04-22) -- "Vigorous Calisthenics" 4221
Click on any hostname to see more info about the system (e.g. compilers)      (*) as reported by 'uname -p', except on Windows and Mac OS X

INSTALL results for PICS on palomino3


To the developers/maintainers of the PICS package:
- Please allow up to 24 hours (and sometimes 48 hours) for your latest push to git@git.bioconductor.org:packages/PICS.git to
reflect on this report. See How and When does the builder pull? When will my changes propagate? for more information.
- Make sure to use the following settings in order to reproduce any error or warning you see on this page.

raw results

Package 1457/2140HostnameOS / ArchINSTALLBUILDCHECKBUILD BIN
PICS 2.40.0  (landing page)
Renan Sauteraud
Snapshot Date: 2022-06-23 13:55:15 -0400 (Thu, 23 Jun 2022)
git_url: https://git.bioconductor.org/packages/PICS
git_branch: RELEASE_3_15
git_last_commit: dce082e
git_last_commit_date: 2022-04-26 11:04:42 -0400 (Tue, 26 Apr 2022)
nebbiolo1Linux (Ubuntu 20.04.4 LTS) / x86_64  OK    OK    OK  UNNEEDED, same version is already published
palomino3Windows Server 2022 Datacenter / x64  OK    OK    OK    OK  UNNEEDED, same version is already published
merida1macOS 10.14.6 Mojave / x86_64  OK    OK    OK    NA  

Summary

Package: PICS
Version: 2.40.0
Command: F:\biocbuild\bbs-3.15-bioc\R\bin\R.exe CMD INSTALL PICS
StartedAt: 2022-06-23 16:04:11 -0400 (Thu, 23 Jun 2022)
EndedAt: 2022-06-23 16:04:57 -0400 (Thu, 23 Jun 2022)
EllapsedTime: 45.9 seconds
RetCode: 0
Status:   OK  

Command output

##############################################################################
##############################################################################
###
### Running command:
###
###   F:\biocbuild\bbs-3.15-bioc\R\bin\R.exe CMD INSTALL PICS
###
##############################################################################
##############################################################################


* installing to library 'F:/biocbuild/bbs-3.15-bioc/R/library'
* installing *source* package 'PICS' ...
** using staged installation

   **********************************************
   WARNING: this package has a configure script
         It probably needs manual configuration
   **********************************************


** libs
gcc  -I"F:/biocbuild/bbs-3.15-bioc/R/include" -DNDEBUG -Ifusion_sdk -D_USE_MEM_MAPPING_ -I/x64/include    -I"C:/rtools42/x86_64-w64-mingw32.static.posix/include"     -O2 -Wall  -std=gnu99 -mfpmath=sse -msse2 -mstackrealign  -c pics.c -o pics.o
pics.c: In function 'ECM2':
pics.c:1009:9: warning: variable 'chiSum' set but not used [-Wunused-but-set-variable]
 1009 |  double chiSum, etaF, etaR, dd, cc;
      |         ^~~~~~
pics.c: In function 'getInfMat':
pics.c:1633:76: warning: unused variable 'PhiRw' [-Wunused-variable]
 1633 |    double aNormF, aNormR, bNormF, bNormR, P0F=1, P0R=1, PhiF, PhiR, PhiFw, PhiRw, wPjF, wPjR;
      |                                                                            ^~~~~
pics.c:1633:69: warning: unused variable 'PhiFw' [-Wunused-variable]
 1633 |    double aNormF, aNormR, bNormF, bNormR, P0F=1, P0R=1, PhiF, PhiR, PhiFw, PhiRw, wPjF, wPjR;
      |                                                                     ^~~~~
pics.c: In function 'mergePeak':
pics.c:1889:11: warning: unused variable 'j' [-Wunused-variable]
 1889 |   int i=0,j=0,k=0,l=0,kMerge=0,flag=0;
      |           ^
pics.c:1889:7: warning: unused variable 'i' [-Wunused-variable]
 1889 |   int i=0,j=0,k=0,l=0,kMerge=0,flag=0;
      |       ^
pics.c: In function 'BIC':
pics.c:1307:6: warning: 'penalty' may be used uninitialized in this function [-Wmaybe-uninitialized]
 1307 |  bic = logDensityMix(yF, w, muF, sigmaSqF, K, NF) + logDensityMix(yR, w, muR, sigmaSqR, K,NR) - penalty;
      |  ~~~~^~~~~~~~~~~~~~~~~~~~~~~~~~~~~~~~~~~~~~~~~~~~~~~~~~~~~~~~~~~~~~~~~~~~~~~~~~~~~~~~~~~~~~~~~~~~~~~~~~
pics.c: In function 'fitModelK':
pics.c:421:18: warning: 'firstFit' may be used uninitialized in this function [-Wmaybe-uninitialized]
  421 |  SEXP ans, temp, firstFit;
      |                  ^~~~~~~~
gcc  -I"F:/biocbuild/bbs-3.15-bioc/R/include" -DNDEBUG -Ifusion_sdk -D_USE_MEM_MAPPING_ -I/x64/include    -I"C:/rtools42/x86_64-w64-mingw32.static.posix/include"     -O2 -Wall  -std=gnu99 -mfpmath=sse -msse2 -mstackrealign  -c segment.c -o segment.o
segment.c: In function 'getDensity':
segment.c:1494:19: warning: variable 'chr' set but not used [-Wunused-but-set-variable]
 1494 |   SEXP ans, x, y, chr, names;
      |                   ^~~
segment.c:1490:8: warning: unused variable 'filter1' [-Wunused-variable]
 1490 |   SEXP filter1;
      |        ^~~~~~~
segment.c:1489:11: warning: unused variable 'muFilter' [-Wunused-variable]
 1489 |   double *muFilter, *deltaFilter, *sFFilter, *sRFilter, *seFilter, *seFilterF, *seFilterR, *scoreFilter, *score;
      |           ^~~~~~~~
gcc -shared -s -static-libgcc -o PICS.dll tmp.def pics.o segment.o -lws2_32 -L/x64/lib -lgsl -lgslcblas -lm -LC:/rtools42/x86_64-w64-mingw32.static.posix/lib/x64 -LC:/rtools42/x86_64-w64-mingw32.static.posix/lib -LF:/biocbuild/bbs-3.15-bioc/R/bin/x64 -lR
installing to F:/biocbuild/bbs-3.15-bioc/R/library/00LOCK-PICS/00new/PICS/libs/x64
** R
** inst
** byte-compile and prepare package for lazy loading
** help
*** installing help indices
** building package indices
** installing vignettes
** testing if installed package can be loaded from temporary location
** testing if installed package can be loaded from final location
** testing if installed package keeps a record of temporary installation path
* DONE (PICS)