Back to Multiple platform build/check report for BioC 3.15
ABCDEFGHIJKLMNOPQR[S]TUVWXYZ

This page was generated on 2022-08-08 13:20:53 -0400 (Mon, 08 Aug 2022).

HostnameOSArch (*)R versionInstalled pkgs
nebbiolo1Linux (Ubuntu 20.04.4 LTS)x86_644.2.1 (2022-06-23) -- "Funny-Looking Kid" 4362
merida1macOS 10.14.6 Mojavex86_644.2.1 (2022-06-23) -- "Funny-Looking Kid" 4180
Click on any hostname to see more info about the system (e.g. compilers)      (*) as reported by 'uname -p', except on Windows and Mac OS X

BUILD results for svaNUMT on merida1


To the developers/maintainers of the svaNUMT package:
- Please allow up to 24 hours (and sometimes 48 hours) for your latest push to git@git.bioconductor.org:packages/svaNUMT.git to
reflect on this report. See How and When does the builder pull? When will my changes propagate? for more information.
- Make sure to use the following settings in order to reproduce any error or warning you see on this page.

raw results

Package 1961/2140HostnameOS / ArchINSTALLBUILDCHECKBUILD BIN
svaNUMT 1.2.0  (landing page)
Ruining Dong
Snapshot Date: 2022-08-07 13:55:12 -0400 (Sun, 07 Aug 2022)
git_url: https://git.bioconductor.org/packages/svaNUMT
git_branch: RELEASE_3_15
git_last_commit: 19aac31
git_last_commit_date: 2022-04-26 12:16:59 -0400 (Tue, 26 Apr 2022)
nebbiolo1Linux (Ubuntu 20.04.4 LTS) / x86_64  OK    OK    OK  UNNEEDED, same version is already published
merida1macOS 10.14.6 Mojave / x86_64  OK    OK    OK    OK  UNNEEDED, same version is already published

Summary

Package: svaNUMT
Version: 1.2.0
Command: /Library/Frameworks/R.framework/Resources/bin/R CMD build --keep-empty-dirs --no-resave-data svaNUMT
StartedAt: 2022-08-07 22:00:15 -0400 (Sun, 07 Aug 2022)
EndedAt: 2022-08-07 22:02:04 -0400 (Sun, 07 Aug 2022)
EllapsedTime: 109.3 seconds
RetCode: 0
Status:   OK  
PackageFile: svaNUMT_1.2.0.tar.gz
PackageFileSize: 720.4 KiB

Command output

##############################################################################
##############################################################################
###
### Running command:
###
###   /Library/Frameworks/R.framework/Resources/bin/R CMD build --keep-empty-dirs --no-resave-data svaNUMT
###
##############################################################################
##############################################################################


* checking for file ‘svaNUMT/DESCRIPTION’ ... OK
* preparing ‘svaNUMT’:
* checking DESCRIPTION meta-information ... OK
* installing the package to build vignettes
* creating vignettes ... OK
* checking for LF line-endings in source and make files and shell scripts
* checking for empty or unneeded directories
* building ‘svaNUMT_1.2.0.tar.gz’