Back to Multiple platform build/check report for BioC 3.15
ABCDEFGHIJKLMNOP[Q]RSTUVWXYZ

This page was generated on 2022-08-03 13:22:10 -0400 (Wed, 03 Aug 2022).

HostnameOSArch (*)R versionInstalled pkgs
nebbiolo1Linux (Ubuntu 20.04.4 LTS)x86_644.2.1 (2022-06-23) -- "Funny-Looking Kid" 4361
palomino3Windows Server 2022 Datacenterx644.2.1 (2022-06-23 ucrt) -- "Funny-Looking Kid" 4114
merida1macOS 10.14.6 Mojavex86_644.2.1 (2022-06-23) -- "Funny-Looking Kid" 4179
Click on any hostname to see more info about the system (e.g. compilers)      (*) as reported by 'uname -p', except on Windows and Mac OS X

BUILD results for QuasR on palomino3


To the developers/maintainers of the QuasR package:
- Please allow up to 24 hours (and sometimes 48 hours) for your latest push to git@git.bioconductor.org:packages/QuasR.git to
reflect on this report. See How and When does the builder pull? When will my changes propagate? for more information.
- Make sure to use the following settings in order to reproduce any error or warning you see on this page.

raw results

Package 1551/2140HostnameOS / ArchINSTALLBUILDCHECKBUILD BIN
QuasR 1.36.0  (landing page)
Michael Stadler
Snapshot Date: 2022-08-02 13:55:13 -0400 (Tue, 02 Aug 2022)
git_url: https://git.bioconductor.org/packages/QuasR
git_branch: RELEASE_3_15
git_last_commit: e0383d7
git_last_commit_date: 2022-04-26 11:13:15 -0400 (Tue, 26 Apr 2022)
nebbiolo1Linux (Ubuntu 20.04.4 LTS) / x86_64  OK    OK    OK  UNNEEDED, same version is already published
palomino3Windows Server 2022 Datacenter / x64  OK    OK    OK    OK  UNNEEDED, same version is already published
merida1macOS 10.14.6 Mojave / x86_64  OK    OK    OK    OK  UNNEEDED, same version is already published

Summary

Package: QuasR
Version: 1.36.0
Command: chmod a+r QuasR -R && F:\biocbuild\bbs-3.15-bioc\R\bin\R.exe CMD build --keep-empty-dirs --no-resave-data QuasR
StartedAt: 2022-08-02 20:20:58 -0400 (Tue, 02 Aug 2022)
EndedAt: 2022-08-02 20:26:18 -0400 (Tue, 02 Aug 2022)
EllapsedTime: 320.0 seconds
RetCode: 0
Status:   OK  
PackageFile: QuasR_1.36.0.tar.gz
PackageFileSize: 1.736 MiB

Command output

##############################################################################
##############################################################################
###
### Running command:
###
###   chmod a+r QuasR -R && F:\biocbuild\bbs-3.15-bioc\R\bin\R.exe CMD build --keep-empty-dirs --no-resave-data QuasR
###
##############################################################################
##############################################################################


* checking for file 'QuasR/DESCRIPTION' ... OK
* preparing 'QuasR':
* checking DESCRIPTION meta-information ... OK
* cleaning src
* installing the package to build vignettes
* creating vignettes ... OK
* cleaning src
* checking for LF line-endings in source and make files and shell scripts
* checking for empty or unneeded directories
WARNING: directory 'QuasR/inst/AlignerIndexPkg-template/R' is empty
* building 'QuasR_1.36.0.tar.gz'