Back to Multiple platform build/check report for BioC 3.15
ABCD[E]FGHIJKLMNOPQRSTUVWXYZ

This page was generated on 2022-07-01 12:05:15 -0400 (Fri, 01 Jul 2022).

HostnameOSArch (*)R versionInstalled pkgs
nebbiolo1Linux (Ubuntu 20.04.4 LTS)x86_644.2.0 (2022-04-22) -- "Vigorous Calisthenics" 4380
palomino3Windows Server 2022 Datacenterx644.2.0 (2022-04-22 ucrt) -- "Vigorous Calisthenics" 4156
merida1macOS 10.14.6 Mojavex86_644.2.0 (2022-04-22) -- "Vigorous Calisthenics" 4221
Click on any hostname to see more info about the system (e.g. compilers)      (*) as reported by 'uname -p', except on Windows and Mac OS X

INSTALL results for epialleleR on nebbiolo1


To the developers/maintainers of the epialleleR package:
- Please allow up to 24 hours (and sometimes 48 hours) for your latest push to git@git.bioconductor.org:packages/epialleleR.git to
reflect on this report. See How and When does the builder pull? When will my changes propagate? for more information.
- Make sure to use the following settings in order to reproduce any error or warning you see on this page.

raw results

Package 605/2140HostnameOS / ArchINSTALLBUILDCHECKBUILD BIN
epialleleR 1.4.0  (landing page)
Oleksii Nikolaienko
Snapshot Date: 2022-06-30 13:55:04 -0400 (Thu, 30 Jun 2022)
git_url: https://git.bioconductor.org/packages/epialleleR
git_branch: RELEASE_3_15
git_last_commit: 74145ed
git_last_commit_date: 2022-04-26 12:15:55 -0400 (Tue, 26 Apr 2022)
nebbiolo1Linux (Ubuntu 20.04.4 LTS) / x86_64  OK    OK    WARNINGS  UNNEEDED, same version is already published
palomino3Windows Server 2022 Datacenter / x64  OK    OK    WARNINGS    OK  UNNEEDED, same version is already published
merida1macOS 10.14.6 Mojave / x86_64  OK    OK    OK    OK  UNNEEDED, same version is already published

Summary

Package: epialleleR
Version: 1.4.0
Command: /home/biocbuild/bbs-3.15-bioc/R/bin/R CMD INSTALL epialleleR
StartedAt: 2022-06-30 15:30:48 -0400 (Thu, 30 Jun 2022)
EndedAt: 2022-06-30 15:32:19 -0400 (Thu, 30 Jun 2022)
EllapsedTime: 91.1 seconds
RetCode: 0
Status:   OK  

Command output

##############################################################################
##############################################################################
###
### Running command:
###
###   /home/biocbuild/bbs-3.15-bioc/R/bin/R CMD INSTALL epialleleR
###
##############################################################################
##############################################################################


* installing to library ‘/home/biocbuild/bbs-3.15-bioc/R/library’
* installing *source* package ‘epialleleR’ ...
** using staged installation
** libs
g++ -std=gnu++17 -I"/home/biocbuild/bbs-3.15-bioc/R/include" -DNDEBUG -D_FILE_OFFSET_BITS=64 -I'/home/biocbuild/bbs-3.15-bioc/R/library/Rcpp/include' -I'/home/biocbuild/bbs-3.15-bioc/R/library/BH/include' -I'/home/biocbuild/bbs-3.15-bioc/R/library/Rhtslib/include' -I'/home/biocbuild/bbs-3.15-bioc/R/library/zlibbioc/include' -I/usr/local/include   -fpic  -g -O2  -Wall -c RcppExports.cpp -o RcppExports.o
g++ -std=gnu++17 -I"/home/biocbuild/bbs-3.15-bioc/R/include" -DNDEBUG -D_FILE_OFFSET_BITS=64 -I'/home/biocbuild/bbs-3.15-bioc/R/library/Rcpp/include' -I'/home/biocbuild/bbs-3.15-bioc/R/library/BH/include' -I'/home/biocbuild/bbs-3.15-bioc/R/library/Rhtslib/include' -I'/home/biocbuild/bbs-3.15-bioc/R/library/zlibbioc/include' -I/usr/local/include   -fpic  -g -O2  -Wall -c rcpp_cx_report.cpp -o rcpp_cx_report.o
rcpp_cx_report.cpp:182:1: warning: multi-line comment [-Wcomment]
  182 | //  #define spit_results {                                                       \
      | ^
In file included from /home/biocbuild/bbs-3.15-bioc/R/library/BH/include/boost/container/detail/advanced_insert_int.hpp:28,
                 from /home/biocbuild/bbs-3.15-bioc/R/library/BH/include/boost/container/vector.hpp:32,
                 from /home/biocbuild/bbs-3.15-bioc/R/library/BH/include/boost/container/detail/flat_tree.hpp:30,
                 from /home/biocbuild/bbs-3.15-bioc/R/library/BH/include/boost/container/flat_map.hpp:29,
                 from rcpp_cx_report.cpp:3:
/home/biocbuild/bbs-3.15-bioc/R/library/BH/include/boost/container/detail/copy_move_algo.hpp: In instantiation of ‘typename boost::container::dtl::enable_if_memtransfer_copy_assignable<I, F, F>::type boost::container::move_backward(I, I, F) [with I = boost::container::dtl::pair<long unsigned int, std::array<int, 16> >*; F = boost::container::dtl::pair<long unsigned int, std::array<int, 16> >*; typename boost::container::dtl::enable_if_memtransfer_copy_assignable<I, F, F>::type = boost::container::dtl::pair<long unsigned int, std::array<int, 16> >*]’:
/home/biocbuild/bbs-3.15-bioc/R/library/BH/include/boost/container/vector.hpp:2983:41:   required from ‘void boost::container::vector<T, Allocator, Options>::priv_insert_forward_range_expand_forward(T*, boost::container::vector<T, Allocator, Options>::size_type, InsertionProxy, boost::move_detail::true_type) [with InsertionProxy = boost::container::dtl::insert_emplace_proxy<boost::container::new_allocator<boost::container::dtl::pair<long unsigned int, std::array<int, 16> > >, boost::container::dtl::pair<long unsigned int, std::array<int, 16> >*, boost::container::try_emplace_t, const long unsigned int&, std::array<int, 16>&>; T = boost::container::dtl::pair<long unsigned int, std::array<int, 16> >; A = boost::container::new_allocator<boost::container::dtl::pair<long unsigned int, std::array<int, 16> > >; Options = void; boost::container::vector<T, Allocator, Options>::size_type = long unsigned int; boost::move_detail::true_type = boost::move_detail::integral_constant<bool, true>]’
/home/biocbuild/bbs-3.15-bioc/R/library/BH/include/boost/container/vector.hpp:2826:10:   required from ‘boost::container::vector<T, Allocator, Options>::iterator boost::container::vector<T, Allocator, Options>::priv_insert_forward_range(const pointer&, boost::container::vector<T, Allocator, Options>::size_type, InsertionProxy) [with InsertionProxy = boost::container::dtl::insert_emplace_proxy<boost::container::new_allocator<boost::container::dtl::pair<long unsigned int, std::array<int, 16> > >, boost::container::dtl::pair<long unsigned int, std::array<int, 16> >*, boost::container::try_emplace_t, const long unsigned int&, std::array<int, 16>&>; T = boost::container::dtl::pair<long unsigned int, std::array<int, 16> >; A = boost::container::new_allocator<boost::container::dtl::pair<long unsigned int, std::array<int, 16> > >; Options = void; boost::container::vector<T, Allocator, Options>::iterator = boost::container::vec_iterator<boost::container::dtl::pair<long unsigned int, std::array<int, 16> >*, false>; typename boost::container::allocator_traits<typename boost::container::real_allocator<T, A>::type>::pointer = boost::container::dtl::pair<long unsigned int, std::array<int, 16> >*; boost::container::vector<T, Allocator, Options>::pointer = boost::container::dtl::pair<long unsigned int, std::array<int, 16> >*; boost::container::vector<T, Allocator, Options>::size_type = long unsigned int]’
/home/biocbuild/bbs-3.15-bioc/R/library/BH/include/boost/container/vector.hpp:1866:87:   required from ‘boost::container::vector<T, Allocator, Options>::iterator boost::container::vector<T, Allocator, Options>::emplace(boost::container::vector<T, Allocator, Options>::const_iterator, Args&& ...) [with Args = {boost::container::try_emplace_t, const long unsigned int&, std::array<int, 16>&}; T = boost::container::dtl::pair<long unsigned int, std::array<int, 16> >; A = boost::container::new_allocator<boost::container::dtl::pair<long unsigned int, std::array<int, 16> > >; Options = void; boost::container::vector<T, Allocator, Options>::iterator = boost::container::vec_iterator<boost::container::dtl::pair<long unsigned int, std::array<int, 16> >*, false>; typename boost::container::allocator_traits<typename boost::container::real_allocator<T, A>::type>::pointer = boost::container::dtl::pair<long unsigned int, std::array<int, 16> >*; boost::container::vector<T, Allocator, Options>::const_iterator = boost::container::vec_iterator<boost::container::dtl::pair<long unsigned int, std::array<int, 16> >*, true>]’
/home/biocbuild/bbs-3.15-bioc/R/library/BH/include/boost/container/detail/flat_tree.hpp:1020:20:   required from ‘std::pair<typename boost::container::dtl::select_container_type<Value, AllocatorOrContainer>::type::iterator, bool> boost::container::dtl::flat_tree<Value, KeyOfValue, Compare, AllocatorOrContainer>::try_emplace(boost::container::dtl::flat_tree<Value, KeyOfValue, Compare, AllocatorOrContainer>::const_iterator, KeyType&&, Args&& ...) [with KeyType = const long unsigned int&; Args = {std::array<int, 16>&}; Value = boost::container::dtl::pair<long unsigned int, std::array<int, 16> >; KeyOfValue = boost::container::dtl::select1st<long unsigned int>; Compare = std::less<long unsigned int>; AllocatorOrContainer = boost::container::new_allocator<boost::container::dtl::pair<long unsigned int, std::array<int, 16> > >; typename boost::container::dtl::select_container_type<Value, AllocatorOrContainer>::type::iterator = boost::container::vec_iterator<boost::container::dtl::pair<long unsigned int, std::array<int, 16> >*, false>; boost::container::dtl::flat_tree<Value, KeyOfValue, Compare, AllocatorOrContainer>::const_iterator = boost::container::vec_iterator<boost::container::dtl::pair<long unsigned int, std::array<int, 16> >*, true>]’
/home/biocbuild/bbs-3.15-bioc/R/library/BH/include/boost/container/flat_map.hpp:968:89:   required from ‘boost::container::flat_map<Key, T, Compare, Allocator>::iterator boost::container::flat_map<Key, T, Compare, Allocator>::try_emplace(boost::container::flat_map<Key, T, Compare, Allocator>::const_iterator, const key_type&, Args&& ...) [with Args = {std::array<int, 16>&}; Key = long unsigned int; T = std::array<int, 16>; Compare = std::less<long unsigned int>; AllocatorOrContainer = void; boost::container::flat_map<Key, T, Compare, Allocator>::iterator = boost::container::vec_iterator<std::pair<long unsigned int, std::array<int, 16> >*, false>; boost::container::flat_map<Key, T, Compare, Allocator>::const_iterator = boost::container::vec_iterator<std::pair<long unsigned int, std::array<int, 16> >*, true>; boost::container::flat_map<Key, T, Compare, Allocator>::key_type = long unsigned int]’
rcpp_cx_report.cpp:133:55:   required from here
/home/biocbuild/bbs-3.15-bioc/R/library/BH/include/boost/container/detail/copy_move_algo.hpp:912:19: warning: ‘void* memmove(void*, const void*, size_t)’ writing to an object of type ‘boost::movelib::detail::iterator_to_element_ptr<boost::container::dtl::pair<long unsigned int, std::array<int, 16> >*>::element_type’ {aka ‘struct boost::container::dtl::pair<long unsigned int, std::array<int, 16> >’} with no trivial copy-assignment; use copy-assignment or copy-initialization instead [-Wclass-memaccess]
  912 |       std::memmove((boost::movelib::iterator_to_raw_pointer)(r), (boost::movelib::iterator_to_raw_pointer)(f), sizeof(value_type)*n);
      |       ~~~~~~~~~~~~^~~~~~~~~~~~~~~~~~~~~~~~~~~~~~~~~~~~~~~~~~~~~~~~~~~~~~~~~~~~~~~~~~~~~~~~~~~~~~~~~~~~~~~~~~~~~~~~~~~~~~~~~~~~~~~~~~
In file included from /home/biocbuild/bbs-3.15-bioc/R/library/BH/include/boost/container/detail/flat_tree.hpp:29,
                 from /home/biocbuild/bbs-3.15-bioc/R/library/BH/include/boost/container/flat_map.hpp:29,
                 from rcpp_cx_report.cpp:3:
/home/biocbuild/bbs-3.15-bioc/R/library/BH/include/boost/container/detail/pair.hpp:218:8: note: ‘boost::movelib::detail::iterator_to_element_ptr<boost::container::dtl::pair<long unsigned int, std::array<int, 16> >*>::element_type’ {aka ‘struct boost::container::dtl::pair<long unsigned int, std::array<int, 16> >’} declared here
  218 | struct pair
      |        ^~~~
In file included from /home/biocbuild/bbs-3.15-bioc/R/library/BH/include/boost/container/detail/advanced_insert_int.hpp:28,
                 from /home/biocbuild/bbs-3.15-bioc/R/library/BH/include/boost/container/vector.hpp:32,
                 from /home/biocbuild/bbs-3.15-bioc/R/library/BH/include/boost/container/detail/flat_tree.hpp:30,
                 from /home/biocbuild/bbs-3.15-bioc/R/library/BH/include/boost/container/flat_map.hpp:29,
                 from rcpp_cx_report.cpp:3:
/home/biocbuild/bbs-3.15-bioc/R/library/BH/include/boost/container/detail/copy_move_algo.hpp: In instantiation of ‘F boost::container::dtl::memmove(I, I, F) [with I = boost::container::dtl::pair<long unsigned int, std::array<int, 16> >*; F = boost::container::dtl::pair<long unsigned int, std::array<int, 16> >*]’:
/home/biocbuild/bbs-3.15-bioc/R/library/BH/include/boost/container/detail/copy_move_algo.hpp:325:23:   required from ‘typename boost::container::dtl::enable_if_memtransfer_copy_constructible<I, F, F>::type boost::container::uninitialized_move_alloc(Allocator&, I, I, F) [with Allocator = boost::container::new_allocator<boost::container::dtl::pair<long unsigned int, std::array<int, 16> > >; I = boost::container::dtl::pair<long unsigned int, std::array<int, 16> >*; F = boost::container::dtl::pair<long unsigned int, std::array<int, 16> >*; typename boost::container::dtl::enable_if_memtransfer_copy_constructible<I, F, F>::type = boost::container::dtl::pair<long unsigned int, std::array<int, 16> >*]’
/home/biocbuild/bbs-3.15-bioc/R/library/BH/include/boost/container/detail/copy_move_algo.hpp:1205:59:   required from ‘void boost::container::uninitialized_move_and_insert_alloc(Allocator&, F, F, F, O, std::size_t, InsertionProxy) [with Allocator = boost::container::new_allocator<boost::container::dtl::pair<long unsigned int, std::array<int, 16> > >; F = boost::container::dtl::pair<long unsigned int, std::array<int, 16> >*; O = boost::container::dtl::pair<long unsigned int, std::array<int, 16> >*; InsertionProxy = boost::container::dtl::insert_range_proxy<boost::container::new_allocator<boost::container::dtl::pair<long unsigned int, std::array<int, 16> > >, boost::move_iterator<boost::container::dtl::pair<long unsigned int, std::array<int, 16> >*>, boost::container::dtl::pair<long unsigned int, std::array<int, 16> >*>; std::size_t = long unsigned int]’
/home/biocbuild/bbs-3.15-bioc/R/library/BH/include/boost/container/vector.hpp:3008:10:   required from ‘void boost::container::vector<T, Allocator, Options>::priv_insert_forward_range_new_allocation(T*, boost::container::vector<T, Allocator, Options>::size_type, T*, boost::container::vector<T, Allocator, Options>::size_type, InsertionProxy) [with InsertionProxy = boost::container::dtl::insert_range_proxy<boost::container::new_allocator<boost::container::dtl::pair<long unsigned int, std::array<int, 16> > >, boost::move_iterator<boost::container::dtl::pair<long unsigned int, std::array<int, 16> >*>, boost::container::dtl::pair<long unsigned int, std::array<int, 16> >*>; T = boost::container::dtl::pair<long unsigned int, std::array<int, 16> >; A = boost::container::new_allocator<boost::container::dtl::pair<long unsigned int, std::array<int, 16> > >; Options = void; boost::container::vector<T, Allocator, Options>::size_type = long unsigned int]’
/home/biocbuild/bbs-3.15-bioc/R/library/BH/include/boost/container/vector.hpp:2610:7:   required from ‘void boost::container::vector<T, Allocator, Options>::priv_move_to_new_buffer(boost::container::vector<T, Allocator, Options>::size_type, boost::container::version_1) [with T = boost::container::dtl::pair<long unsigned int, std::array<int, 16> >; A = boost::container::new_allocator<boost::container::dtl::pair<long unsigned int, std::array<int, 16> > >; Options = void; boost::container::vector<T, Allocator, Options>::size_type = long unsigned int; boost::container::version_1 = boost::move_detail::integral_constant<unsigned int, 1>]’
/home/biocbuild/bbs-3.15-bioc/R/library/BH/include/boost/container/vector.hpp:1570:10:   required from ‘void boost::container::vector<T, Allocator, Options>::reserve(boost::container::vector<T, Allocator, Options>::size_type) [with T = boost::container::dtl::pair<long unsigned int, std::array<int, 16> >; A = boost::container::new_allocator<boost::container::dtl::pair<long unsigned int, std::array<int, 16> > >; Options = void; boost::container::vector<T, Allocator, Options>::size_type = long unsigned int]’
/home/biocbuild/bbs-3.15-bioc/R/library/BH/include/boost/container/detail/flat_tree.hpp:380:4:   required from ‘void boost::container::dtl::flat_tree_reserve(SequenceContainer&, typename SequenceContainer::size_type, boost::move_detail::true_) [with SequenceContainer = boost::container::vector<boost::container::dtl::pair<long unsigned int, std::array<int, 16> >, boost::container::new_allocator<boost::container::dtl::pair<long unsigned int, std::array<int, 16> > >, void>; typename SequenceContainer::size_type = long unsigned int; boost::move_detail::true_ = boost::move_detail::bool_<true>]’
/home/biocbuild/bbs-3.15-bioc/R/library/BH/include/boost/container/detail/flat_tree.hpp:1393:26:   required from ‘void boost::container::dtl::flat_tree<Value, KeyOfValue, Compare, AllocatorOrContainer>::reserve(boost::container::dtl::flat_tree<Value, KeyOfValue, Compare, AllocatorOrContainer>::size_type) [with Value = boost::container::dtl::pair<long unsigned int, std::array<int, 16> >; KeyOfValue = boost::container::dtl::select1st<long unsigned int>; Compare = std::less<long unsigned int>; AllocatorOrContainer = boost::container::new_allocator<boost::container::dtl::pair<long unsigned int, std::array<int, 16> > >; boost::container::dtl::flat_tree<Value, KeyOfValue, Compare, AllocatorOrContainer>::size_type = long unsigned int]’
/home/biocbuild/bbs-3.15-bioc/R/library/BH/include/boost/container/flat_map.hpp:712:9:   required from ‘void boost::container::flat_map<Key, T, Compare, Allocator>::reserve(boost::container::flat_map<Key, T, Compare, Allocator>::size_type) [with Key = long unsigned int; T = std::array<int, 16>; Compare = std::less<long unsigned int>; AllocatorOrContainer = void; boost::container::flat_map<Key, T, Compare, Allocator>::size_type = long unsigned int]’
rcpp_cx_report.cpp:114:24:   required from here
/home/biocbuild/bbs-3.15-bioc/R/library/BH/include/boost/container/detail/copy_move_algo.hpp:184:19: warning: ‘void* memmove(void*, const void*, size_t)’ writing to an object of type ‘value_type’ {aka ‘struct boost::container::dtl::pair<long unsigned int, std::array<int, 16> >’} with no trivial copy-assignment; use copy-assignment or copy-initialization instead [-Wclass-memaccess]
  184 |       std::memmove(dest_raw, beg_raw, sizeof(value_type)*n);
      |       ~~~~~~~~~~~~^~~~~~~~~~~~~~~~~~~~~~~~~~~~~~~~~~~~~~~~~
In file included from /home/biocbuild/bbs-3.15-bioc/R/library/BH/include/boost/container/detail/flat_tree.hpp:29,
                 from /home/biocbuild/bbs-3.15-bioc/R/library/BH/include/boost/container/flat_map.hpp:29,
                 from rcpp_cx_report.cpp:3:
/home/biocbuild/bbs-3.15-bioc/R/library/BH/include/boost/container/detail/pair.hpp:218:8: note: ‘value_type’ {aka ‘struct boost::container::dtl::pair<long unsigned int, std::array<int, 16> >’} declared here
  218 | struct pair
      |        ^~~~
In file included from /home/biocbuild/bbs-3.15-bioc/R/library/BH/include/boost/container/detail/advanced_insert_int.hpp:28,
                 from /home/biocbuild/bbs-3.15-bioc/R/library/BH/include/boost/container/vector.hpp:32,
                 from /home/biocbuild/bbs-3.15-bioc/R/library/BH/include/boost/container/detail/flat_tree.hpp:30,
                 from /home/biocbuild/bbs-3.15-bioc/R/library/BH/include/boost/container/flat_map.hpp:29,
                 from rcpp_cx_report.cpp:3:
/home/biocbuild/bbs-3.15-bioc/R/library/BH/include/boost/container/detail/copy_move_algo.hpp: In instantiation of ‘I boost::container::dtl::memmove_n_source(I, std::size_t, F) [with I = boost::move_iterator<boost::container::dtl::pair<long unsigned int, std::array<int, 16> >*>; F = boost::container::dtl::pair<long unsigned int, std::array<int, 16> >*; std::size_t = long unsigned int]’:
/home/biocbuild/bbs-3.15-bioc/R/library/BH/include/boost/container/detail/copy_move_algo.hpp:553:32:   required from ‘typename boost::container::dtl::enable_if_memtransfer_copy_constructible<I, F, I>::type boost::container::uninitialized_copy_alloc_n_source(Allocator&, I, std::size_t, F) [with Allocator = boost::container::new_allocator<boost::container::dtl::pair<long unsigned int, std::array<int, 16> > >; I = boost::move_iterator<boost::container::dtl::pair<long unsigned int, std::array<int, 16> >*>; F = boost::container::dtl::pair<long unsigned int, std::array<int, 16> >*; typename boost::container::dtl::enable_if_memtransfer_copy_constructible<I, F, I>::type = boost::move_iterator<boost::container::dtl::pair<long unsigned int, std::array<int, 16> >*>; std::size_t = long unsigned int]’
/home/biocbuild/bbs-3.15-bioc/R/library/BH/include/boost/container/detail/advanced_insert_int.hpp:81:75:   required from ‘void boost::container::dtl::insert_range_proxy<Allocator, FwdIt, Iterator>::uninitialized_copy_n_and_update(Allocator&, Iterator, std::size_t) [with Allocator = boost::container::new_allocator<boost::container::dtl::pair<long unsigned int, std::array<int, 16> > >; FwdIt = boost::move_iterator<boost::container::dtl::pair<long unsigned int, std::array<int, 16> >*>; Iterator = boost::container::dtl::pair<long unsigned int, std::array<int, 16> >*; std::size_t = long unsigned int]’
/home/biocbuild/bbs-3.15-bioc/R/library/BH/include/boost/container/detail/copy_move_algo.hpp:1208:4:   required from ‘void boost::container::uninitialized_move_and_insert_alloc(Allocator&, F, F, F, O, std::size_t, InsertionProxy) [with Allocator = boost::container::new_allocator<boost::container::dtl::pair<long unsigned int, std::array<int, 16> > >; F = boost::container::dtl::pair<long unsigned int, std::array<int, 16> >*; O = boost::container::dtl::pair<long unsigned int, std::array<int, 16> >*; InsertionProxy = boost::container::dtl::insert_range_proxy<boost::container::new_allocator<boost::container::dtl::pair<long unsigned int, std::array<int, 16> > >, boost::move_iterator<boost::container::dtl::pair<long unsigned int, std::array<int, 16> >*>, boost::container::dtl::pair<long unsigned int, std::array<int, 16> >*>; std::size_t = long unsigned int]’
/home/biocbuild/bbs-3.15-bioc/R/library/BH/include/boost/container/vector.hpp:3008:10:   required from ‘void boost::container::vector<T, Allocator, Options>::priv_insert_forward_range_new_allocation(T*, boost::container::vector<T, Allocator, Options>::size_type, T*, boost::container::vector<T, Allocator, Options>::size_type, InsertionProxy) [with InsertionProxy = boost::container::dtl::insert_range_proxy<boost::container::new_allocator<boost::container::dtl::pair<long unsigned int, std::array<int, 16> > >, boost::move_iterator<boost::container::dtl::pair<long unsigned int, std::array<int, 16> >*>, boost::container::dtl::pair<long unsigned int, std::array<int, 16> >*>; T = boost::container::dtl::pair<long unsigned int, std::array<int, 16> >; A = boost::container::new_allocator<boost::container::dtl::pair<long unsigned int, std::array<int, 16> > >; Options = void; boost::container::vector<T, Allocator, Options>::size_type = long unsigned int]’
/home/biocbuild/bbs-3.15-bioc/R/library/BH/include/boost/container/vector.hpp:2610:7:   required from ‘void boost::container::vector<T, Allocator, Options>::priv_move_to_new_buffer(boost::container::vector<T, Allocator, Options>::size_type, boost::container::version_1) [with T = boost::container::dtl::pair<long unsigned int, std::array<int, 16> >; A = boost::container::new_allocator<boost::container::dtl::pair<long unsigned int, std::array<int, 16> > >; Options = void; boost::container::vector<T, Allocator, Options>::size_type = long unsigned int; boost::container::version_1 = boost::move_detail::integral_constant<unsigned int, 1>]’
/home/biocbuild/bbs-3.15-bioc/R/library/BH/include/boost/container/vector.hpp:1570:10:   required from ‘void boost::container::vector<T, Allocator, Options>::reserve(boost::container::vector<T, Allocator, Options>::size_type) [with T = boost::container::dtl::pair<long unsigned int, std::array<int, 16> >; A = boost::container::new_allocator<boost::container::dtl::pair<long unsigned int, std::array<int, 16> > >; Options = void; boost::container::vector<T, Allocator, Options>::size_type = long unsigned int]’
/home/biocbuild/bbs-3.15-bioc/R/library/BH/include/boost/container/detail/flat_tree.hpp:380:4:   required from ‘void boost::container::dtl::flat_tree_reserve(SequenceContainer&, typename SequenceContainer::size_type, boost::move_detail::true_) [with SequenceContainer = boost::container::vector<boost::container::dtl::pair<long unsigned int, std::array<int, 16> >, boost::container::new_allocator<boost::container::dtl::pair<long unsigned int, std::array<int, 16> > >, void>; typename SequenceContainer::size_type = long unsigned int; boost::move_detail::true_ = boost::move_detail::bool_<true>]’
/home/biocbuild/bbs-3.15-bioc/R/library/BH/include/boost/container/detail/flat_tree.hpp:1393:26:   required from ‘void boost::container::dtl::flat_tree<Value, KeyOfValue, Compare, AllocatorOrContainer>::reserve(boost::container::dtl::flat_tree<Value, KeyOfValue, Compare, AllocatorOrContainer>::size_type) [with Value = boost::container::dtl::pair<long unsigned int, std::array<int, 16> >; KeyOfValue = boost::container::dtl::select1st<long unsigned int>; Compare = std::less<long unsigned int>; AllocatorOrContainer = boost::container::new_allocator<boost::container::dtl::pair<long unsigned int, std::array<int, 16> > >; boost::container::dtl::flat_tree<Value, KeyOfValue, Compare, AllocatorOrContainer>::size_type = long unsigned int]’
/home/biocbuild/bbs-3.15-bioc/R/library/BH/include/boost/container/flat_map.hpp:712:9:   required from ‘void boost::container::flat_map<Key, T, Compare, Allocator>::reserve(boost::container::flat_map<Key, T, Compare, Allocator>::size_type) [with Key = long unsigned int; T = std::array<int, 16>; Compare = std::less<long unsigned int>; AllocatorOrContainer = void; boost::container::flat_map<Key, T, Compare, Allocator>::size_type = long unsigned int]’
rcpp_cx_report.cpp:114:24:   required from here
/home/biocbuild/bbs-3.15-bioc/R/library/BH/include/boost/container/detail/copy_move_algo.hpp:214:19: warning: ‘void* memmove(void*, const void*, size_t)’ writing to an object of type ‘boost::movelib::detail::iterator_to_element_ptr<boost::container::dtl::pair<long unsigned int, std::array<int, 16> >*>::element_type’ {aka ‘struct boost::container::dtl::pair<long unsigned int, std::array<int, 16> >’} with no trivial copy-assignment; use copy-assignment or copy-initialization instead [-Wclass-memaccess]
  214 |       std::memmove(boost::movelib::iterator_to_raw_pointer(r), boost::movelib::iterator_to_raw_pointer(f), sizeof(value_type)*n);
      |       ~~~~~~~~~~~~^~~~~~~~~~~~~~~~~~~~~~~~~~~~~~~~~~~~~~~~~~~~~~~~~~~~~~~~~~~~~~~~~~~~~~~~~~~~~~~~~~~~~~~~~~~~~~~~~~~~~~~~~~~~~~
In file included from /home/biocbuild/bbs-3.15-bioc/R/library/BH/include/boost/container/detail/flat_tree.hpp:29,
                 from /home/biocbuild/bbs-3.15-bioc/R/library/BH/include/boost/container/flat_map.hpp:29,
                 from rcpp_cx_report.cpp:3:
/home/biocbuild/bbs-3.15-bioc/R/library/BH/include/boost/container/detail/pair.hpp:218:8: note: ‘boost::movelib::detail::iterator_to_element_ptr<boost::container::dtl::pair<long unsigned int, std::array<int, 16> >*>::element_type’ {aka ‘struct boost::container::dtl::pair<long unsigned int, std::array<int, 16> >’} declared here
  218 | struct pair
      |        ^~~~
g++ -std=gnu++17 -I"/home/biocbuild/bbs-3.15-bioc/R/include" -DNDEBUG -D_FILE_OFFSET_BITS=64 -I'/home/biocbuild/bbs-3.15-bioc/R/library/Rcpp/include' -I'/home/biocbuild/bbs-3.15-bioc/R/library/BH/include' -I'/home/biocbuild/bbs-3.15-bioc/R/library/Rhtslib/include' -I'/home/biocbuild/bbs-3.15-bioc/R/library/zlibbioc/include' -I/usr/local/include   -fpic  -g -O2  -Wall -c rcpp_extract_patterns.cpp -o rcpp_extract_patterns.o
In file included from /home/biocbuild/bbs-3.15-bioc/R/library/BH/include/boost/container/detail/advanced_insert_int.hpp:28,
                 from /home/biocbuild/bbs-3.15-bioc/R/library/BH/include/boost/container/vector.hpp:32,
                 from /home/biocbuild/bbs-3.15-bioc/R/library/BH/include/boost/container/detail/flat_tree.hpp:30,
                 from /home/biocbuild/bbs-3.15-bioc/R/library/BH/include/boost/container/flat_map.hpp:29,
                 from rcpp_extract_patterns.cpp:2:
/home/biocbuild/bbs-3.15-bioc/R/library/BH/include/boost/container/detail/copy_move_algo.hpp: In instantiation of ‘typename boost::container::dtl::enable_if_memtransfer_copy_assignable<I, F, F>::type boost::container::move_backward(I, I, F) [with I = boost::container::dtl::pair<int, int>*; F = boost::container::dtl::pair<int, int>*; typename boost::container::dtl::enable_if_memtransfer_copy_assignable<I, F, F>::type = boost::container::dtl::pair<int, int>*]’:
/home/biocbuild/bbs-3.15-bioc/R/library/BH/include/boost/container/vector.hpp:2983:41:   required from ‘void boost::container::vector<T, Allocator, Options>::priv_insert_forward_range_expand_forward(T*, boost::container::vector<T, Allocator, Options>::size_type, InsertionProxy, boost::move_detail::true_type) [with InsertionProxy = boost::container::dtl::insert_emplace_proxy<boost::container::new_allocator<boost::container::dtl::pair<int, int> >, boost::container::dtl::pair<int, int>*, boost::container::try_emplace_t, int, int>; T = boost::container::dtl::pair<int, int>; A = boost::container::new_allocator<boost::container::dtl::pair<int, int> >; Options = void; boost::container::vector<T, Allocator, Options>::size_type = long unsigned int; boost::move_detail::true_type = boost::move_detail::integral_constant<bool, true>]’
/home/biocbuild/bbs-3.15-bioc/R/library/BH/include/boost/container/vector.hpp:2826:10:   required from ‘boost::container::vector<T, Allocator, Options>::iterator boost::container::vector<T, Allocator, Options>::priv_insert_forward_range(const pointer&, boost::container::vector<T, Allocator, Options>::size_type, InsertionProxy) [with InsertionProxy = boost::container::dtl::insert_emplace_proxy<boost::container::new_allocator<boost::container::dtl::pair<int, int> >, boost::container::dtl::pair<int, int>*, boost::container::try_emplace_t, int, int>; T = boost::container::dtl::pair<int, int>; A = boost::container::new_allocator<boost::container::dtl::pair<int, int> >; Options = void; boost::container::vector<T, Allocator, Options>::iterator = boost::container::vec_iterator<boost::container::dtl::pair<int, int>*, false>; typename boost::container::allocator_traits<typename boost::container::real_allocator<T, A>::type>::pointer = boost::container::dtl::pair<int, int>*; boost::container::vector<T, Allocator, Options>::pointer = boost::container::dtl::pair<int, int>*; boost::container::vector<T, Allocator, Options>::size_type = long unsigned int]’
/home/biocbuild/bbs-3.15-bioc/R/library/BH/include/boost/container/vector.hpp:1866:87:   required from ‘boost::container::vector<T, Allocator, Options>::iterator boost::container::vector<T, Allocator, Options>::emplace(boost::container::vector<T, Allocator, Options>::const_iterator, Args&& ...) [with Args = {boost::container::try_emplace_t, int, int}; T = boost::container::dtl::pair<int, int>; A = boost::container::new_allocator<boost::container::dtl::pair<int, int> >; Options = void; boost::container::vector<T, Allocator, Options>::iterator = boost::container::vec_iterator<boost::container::dtl::pair<int, int>*, false>; typename boost::container::allocator_traits<typename boost::container::real_allocator<T, A>::type>::pointer = boost::container::dtl::pair<int, int>*; boost::container::vector<T, Allocator, Options>::const_iterator = boost::container::vec_iterator<boost::container::dtl::pair<int, int>*, true>]’
/home/biocbuild/bbs-3.15-bioc/R/library/BH/include/boost/container/detail/flat_tree.hpp:1020:20:   required from ‘std::pair<typename boost::container::dtl::select_container_type<Value, AllocatorOrContainer>::type::iterator, bool> boost::container::dtl::flat_tree<Value, KeyOfValue, Compare, AllocatorOrContainer>::try_emplace(boost::container::dtl::flat_tree<Value, KeyOfValue, Compare, AllocatorOrContainer>::const_iterator, KeyType&&, Args&& ...) [with KeyType = int; Args = {int}; Value = boost::container::dtl::pair<int, int>; KeyOfValue = boost::container::dtl::select1st<int>; Compare = std::less<int>; AllocatorOrContainer = boost::container::new_allocator<boost::container::dtl::pair<int, int> >; typename boost::container::dtl::select_container_type<Value, AllocatorOrContainer>::type::iterator = boost::container::vec_iterator<boost::container::dtl::pair<int, int>*, false>; boost::container::dtl::flat_tree<Value, KeyOfValue, Compare, AllocatorOrContainer>::const_iterator = boost::container::vec_iterator<boost::container::dtl::pair<int, int>*, true>]’
/home/biocbuild/bbs-3.15-bioc/R/library/BH/include/boost/container/flat_map.hpp:1005:89:   required from ‘boost::container::flat_map<Key, T, Compare, Allocator>::iterator boost::container::flat_map<Key, T, Compare, Allocator>::try_emplace(boost::container::flat_map<Key, T, Compare, Allocator>::const_iterator, boost::container::flat_map<Key, T, Compare, Allocator>::key_type&&, Args&& ...) [with Args = {int}; Key = int; T = int; Compare = std::less<int>; AllocatorOrContainer = void; boost::container::flat_map<Key, T, Compare, Allocator>::iterator = boost::container::vec_iterator<std::pair<int, int>*, false>; boost::container::flat_map<Key, T, Compare, Allocator>::const_iterator = boost::container::vec_iterator<std::pair<int, int>*, true>; boost::container::flat_map<Key, T, Compare, Allocator>::key_type = int]’
rcpp_extract_patterns.cpp:103:60:   required from here
/home/biocbuild/bbs-3.15-bioc/R/library/BH/include/boost/container/detail/copy_move_algo.hpp:912:19: warning: ‘void* memmove(void*, const void*, size_t)’ writing to an object of type ‘boost::movelib::detail::iterator_to_element_ptr<boost::container::dtl::pair<int, int>*>::element_type’ {aka ‘struct boost::container::dtl::pair<int, int>’} with no trivial copy-assignment; use copy-assignment or copy-initialization instead [-Wclass-memaccess]
  912 |       std::memmove((boost::movelib::iterator_to_raw_pointer)(r), (boost::movelib::iterator_to_raw_pointer)(f), sizeof(value_type)*n);
      |       ~~~~~~~~~~~~^~~~~~~~~~~~~~~~~~~~~~~~~~~~~~~~~~~~~~~~~~~~~~~~~~~~~~~~~~~~~~~~~~~~~~~~~~~~~~~~~~~~~~~~~~~~~~~~~~~~~~~~~~~~~~~~~~
In file included from /home/biocbuild/bbs-3.15-bioc/R/library/BH/include/boost/container/detail/flat_tree.hpp:29,
                 from /home/biocbuild/bbs-3.15-bioc/R/library/BH/include/boost/container/flat_map.hpp:29,
                 from rcpp_extract_patterns.cpp:2:
/home/biocbuild/bbs-3.15-bioc/R/library/BH/include/boost/container/detail/pair.hpp:218:8: note: ‘boost::movelib::detail::iterator_to_element_ptr<boost::container::dtl::pair<int, int>*>::element_type’ {aka ‘struct boost::container::dtl::pair<int, int>’} declared here
  218 | struct pair
      |        ^~~~
In file included from /home/biocbuild/bbs-3.15-bioc/R/library/BH/include/boost/container/detail/advanced_insert_int.hpp:28,
                 from /home/biocbuild/bbs-3.15-bioc/R/library/BH/include/boost/container/vector.hpp:32,
                 from /home/biocbuild/bbs-3.15-bioc/R/library/BH/include/boost/container/detail/flat_tree.hpp:30,
                 from /home/biocbuild/bbs-3.15-bioc/R/library/BH/include/boost/container/flat_map.hpp:29,
                 from rcpp_extract_patterns.cpp:2:
/home/biocbuild/bbs-3.15-bioc/R/library/BH/include/boost/container/detail/copy_move_algo.hpp: In instantiation of ‘F boost::container::dtl::memmove(I, I, F) [with I = boost::container::dtl::pair<int, int>*; F = boost::container::dtl::pair<int, int>*]’:
/home/biocbuild/bbs-3.15-bioc/R/library/BH/include/boost/container/detail/copy_move_algo.hpp:325:23:   required from ‘typename boost::container::dtl::enable_if_memtransfer_copy_constructible<I, F, F>::type boost::container::uninitialized_move_alloc(Allocator&, I, I, F) [with Allocator = boost::container::new_allocator<boost::container::dtl::pair<int, int> >; I = boost::container::dtl::pair<int, int>*; F = boost::container::dtl::pair<int, int>*; typename boost::container::dtl::enable_if_memtransfer_copy_constructible<I, F, F>::type = boost::container::dtl::pair<int, int>*]’
/home/biocbuild/bbs-3.15-bioc/R/library/BH/include/boost/container/detail/copy_move_algo.hpp:1205:59:   required from ‘void boost::container::uninitialized_move_and_insert_alloc(Allocator&, F, F, F, O, std::size_t, InsertionProxy) [with Allocator = boost::container::new_allocator<boost::container::dtl::pair<int, int> >; F = boost::container::dtl::pair<int, int>*; O = boost::container::dtl::pair<int, int>*; InsertionProxy = boost::container::dtl::insert_range_proxy<boost::container::new_allocator<boost::container::dtl::pair<int, int> >, boost::move_iterator<boost::container::dtl::pair<int, int>*>, boost::container::dtl::pair<int, int>*>; std::size_t = long unsigned int]’
/home/biocbuild/bbs-3.15-bioc/R/library/BH/include/boost/container/vector.hpp:3008:10:   required from ‘void boost::container::vector<T, Allocator, Options>::priv_insert_forward_range_new_allocation(T*, boost::container::vector<T, Allocator, Options>::size_type, T*, boost::container::vector<T, Allocator, Options>::size_type, InsertionProxy) [with InsertionProxy = boost::container::dtl::insert_range_proxy<boost::container::new_allocator<boost::container::dtl::pair<int, int> >, boost::move_iterator<boost::container::dtl::pair<int, int>*>, boost::container::dtl::pair<int, int>*>; T = boost::container::dtl::pair<int, int>; A = boost::container::new_allocator<boost::container::dtl::pair<int, int> >; Options = void; boost::container::vector<T, Allocator, Options>::size_type = long unsigned int]’
/home/biocbuild/bbs-3.15-bioc/R/library/BH/include/boost/container/vector.hpp:2610:7:   required from ‘void boost::container::vector<T, Allocator, Options>::priv_move_to_new_buffer(boost::container::vector<T, Allocator, Options>::size_type, boost::container::version_1) [with T = boost::container::dtl::pair<int, int>; A = boost::container::new_allocator<boost::container::dtl::pair<int, int> >; Options = void; boost::container::vector<T, Allocator, Options>::size_type = long unsigned int; boost::container::version_1 = boost::move_detail::integral_constant<unsigned int, 1>]’
/home/biocbuild/bbs-3.15-bioc/R/library/BH/include/boost/container/vector.hpp:1570:10:   required from ‘void boost::container::vector<T, Allocator, Options>::reserve(boost::container::vector<T, Allocator, Options>::size_type) [with T = boost::container::dtl::pair<int, int>; A = boost::container::new_allocator<boost::container::dtl::pair<int, int> >; Options = void; boost::container::vector<T, Allocator, Options>::size_type = long unsigned int]’
/home/biocbuild/bbs-3.15-bioc/R/library/BH/include/boost/container/detail/flat_tree.hpp:380:4:   required from ‘void boost::container::dtl::flat_tree_reserve(SequenceContainer&, typename SequenceContainer::size_type, boost::move_detail::true_) [with SequenceContainer = boost::container::vector<boost::container::dtl::pair<int, int>, boost::container::new_allocator<boost::container::dtl::pair<int, int> >, void>; typename SequenceContainer::size_type = long unsigned int; boost::move_detail::true_ = boost::move_detail::bool_<true>]’
/home/biocbuild/bbs-3.15-bioc/R/library/BH/include/boost/container/detail/flat_tree.hpp:1393:26:   required from ‘void boost::container::dtl::flat_tree<Value, KeyOfValue, Compare, AllocatorOrContainer>::reserve(boost::container::dtl::flat_tree<Value, KeyOfValue, Compare, AllocatorOrContainer>::size_type) [with Value = boost::container::dtl::pair<int, int>; KeyOfValue = boost::container::dtl::select1st<int>; Compare = std::less<int>; AllocatorOrContainer = boost::container::new_allocator<boost::container::dtl::pair<int, int> >; boost::container::dtl::flat_tree<Value, KeyOfValue, Compare, AllocatorOrContainer>::size_type = long unsigned int]’
/home/biocbuild/bbs-3.15-bioc/R/library/BH/include/boost/container/flat_map.hpp:712:9:   required from ‘void boost::container::flat_map<Key, T, Compare, Allocator>::reserve(boost::container::flat_map<Key, T, Compare, Allocator>::size_type) [with Key = int; T = int; Compare = std::less<int>; AllocatorOrContainer = void; boost::container::flat_map<Key, T, Compare, Allocator>::size_type = long unsigned int]’
rcpp_extract_patterns.cpp:68:67:   required from here
/home/biocbuild/bbs-3.15-bioc/R/library/BH/include/boost/container/detail/copy_move_algo.hpp:184:19: warning: ‘void* memmove(void*, const void*, size_t)’ writing to an object of type ‘value_type’ {aka ‘struct boost::container::dtl::pair<int, int>’} with no trivial copy-assignment; use copy-assignment or copy-initialization instead [-Wclass-memaccess]
  184 |       std::memmove(dest_raw, beg_raw, sizeof(value_type)*n);
      |       ~~~~~~~~~~~~^~~~~~~~~~~~~~~~~~~~~~~~~~~~~~~~~~~~~~~~~
In file included from /home/biocbuild/bbs-3.15-bioc/R/library/BH/include/boost/container/detail/flat_tree.hpp:29,
                 from /home/biocbuild/bbs-3.15-bioc/R/library/BH/include/boost/container/flat_map.hpp:29,
                 from rcpp_extract_patterns.cpp:2:
/home/biocbuild/bbs-3.15-bioc/R/library/BH/include/boost/container/detail/pair.hpp:218:8: note: ‘value_type’ {aka ‘struct boost::container::dtl::pair<int, int>’} declared here
  218 | struct pair
      |        ^~~~
In file included from /home/biocbuild/bbs-3.15-bioc/R/library/BH/include/boost/container/detail/advanced_insert_int.hpp:28,
                 from /home/biocbuild/bbs-3.15-bioc/R/library/BH/include/boost/container/vector.hpp:32,
                 from /home/biocbuild/bbs-3.15-bioc/R/library/BH/include/boost/container/detail/flat_tree.hpp:30,
                 from /home/biocbuild/bbs-3.15-bioc/R/library/BH/include/boost/container/flat_map.hpp:29,
                 from rcpp_extract_patterns.cpp:2:
/home/biocbuild/bbs-3.15-bioc/R/library/BH/include/boost/container/detail/copy_move_algo.hpp: In instantiation of ‘I boost::container::dtl::memmove_n_source(I, std::size_t, F) [with I = boost::move_iterator<boost::container::dtl::pair<int, int>*>; F = boost::container::dtl::pair<int, int>*; std::size_t = long unsigned int]’:
/home/biocbuild/bbs-3.15-bioc/R/library/BH/include/boost/container/detail/copy_move_algo.hpp:553:32:   required from ‘typename boost::container::dtl::enable_if_memtransfer_copy_constructible<I, F, I>::type boost::container::uninitialized_copy_alloc_n_source(Allocator&, I, std::size_t, F) [with Allocator = boost::container::new_allocator<boost::container::dtl::pair<int, int> >; I = boost::move_iterator<boost::container::dtl::pair<int, int>*>; F = boost::container::dtl::pair<int, int>*; typename boost::container::dtl::enable_if_memtransfer_copy_constructible<I, F, I>::type = boost::move_iterator<boost::container::dtl::pair<int, int>*>; std::size_t = long unsigned int]’
/home/biocbuild/bbs-3.15-bioc/R/library/BH/include/boost/container/detail/advanced_insert_int.hpp:81:75:   required from ‘void boost::container::dtl::insert_range_proxy<Allocator, FwdIt, Iterator>::uninitialized_copy_n_and_update(Allocator&, Iterator, std::size_t) [with Allocator = boost::container::new_allocator<boost::container::dtl::pair<int, int> >; FwdIt = boost::move_iterator<boost::container::dtl::pair<int, int>*>; Iterator = boost::container::dtl::pair<int, int>*; std::size_t = long unsigned int]’
/home/biocbuild/bbs-3.15-bioc/R/library/BH/include/boost/container/detail/copy_move_algo.hpp:1208:4:   required from ‘void boost::container::uninitialized_move_and_insert_alloc(Allocator&, F, F, F, O, std::size_t, InsertionProxy) [with Allocator = boost::container::new_allocator<boost::container::dtl::pair<int, int> >; F = boost::container::dtl::pair<int, int>*; O = boost::container::dtl::pair<int, int>*; InsertionProxy = boost::container::dtl::insert_range_proxy<boost::container::new_allocator<boost::container::dtl::pair<int, int> >, boost::move_iterator<boost::container::dtl::pair<int, int>*>, boost::container::dtl::pair<int, int>*>; std::size_t = long unsigned int]’
/home/biocbuild/bbs-3.15-bioc/R/library/BH/include/boost/container/vector.hpp:3008:10:   required from ‘void boost::container::vector<T, Allocator, Options>::priv_insert_forward_range_new_allocation(T*, boost::container::vector<T, Allocator, Options>::size_type, T*, boost::container::vector<T, Allocator, Options>::size_type, InsertionProxy) [with InsertionProxy = boost::container::dtl::insert_range_proxy<boost::container::new_allocator<boost::container::dtl::pair<int, int> >, boost::move_iterator<boost::container::dtl::pair<int, int>*>, boost::container::dtl::pair<int, int>*>; T = boost::container::dtl::pair<int, int>; A = boost::container::new_allocator<boost::container::dtl::pair<int, int> >; Options = void; boost::container::vector<T, Allocator, Options>::size_type = long unsigned int]’
/home/biocbuild/bbs-3.15-bioc/R/library/BH/include/boost/container/vector.hpp:2610:7:   required from ‘void boost::container::vector<T, Allocator, Options>::priv_move_to_new_buffer(boost::container::vector<T, Allocator, Options>::size_type, boost::container::version_1) [with T = boost::container::dtl::pair<int, int>; A = boost::container::new_allocator<boost::container::dtl::pair<int, int> >; Options = void; boost::container::vector<T, Allocator, Options>::size_type = long unsigned int; boost::container::version_1 = boost::move_detail::integral_constant<unsigned int, 1>]’
/home/biocbuild/bbs-3.15-bioc/R/library/BH/include/boost/container/vector.hpp:1570:10:   required from ‘void boost::container::vector<T, Allocator, Options>::reserve(boost::container::vector<T, Allocator, Options>::size_type) [with T = boost::container::dtl::pair<int, int>; A = boost::container::new_allocator<boost::container::dtl::pair<int, int> >; Options = void; boost::container::vector<T, Allocator, Options>::size_type = long unsigned int]’
/home/biocbuild/bbs-3.15-bioc/R/library/BH/include/boost/container/detail/flat_tree.hpp:380:4:   required from ‘void boost::container::dtl::flat_tree_reserve(SequenceContainer&, typename SequenceContainer::size_type, boost::move_detail::true_) [with SequenceContainer = boost::container::vector<boost::container::dtl::pair<int, int>, boost::container::new_allocator<boost::container::dtl::pair<int, int> >, void>; typename SequenceContainer::size_type = long unsigned int; boost::move_detail::true_ = boost::move_detail::bool_<true>]’
/home/biocbuild/bbs-3.15-bioc/R/library/BH/include/boost/container/detail/flat_tree.hpp:1393:26:   required from ‘void boost::container::dtl::flat_tree<Value, KeyOfValue, Compare, AllocatorOrContainer>::reserve(boost::container::dtl::flat_tree<Value, KeyOfValue, Compare, AllocatorOrContainer>::size_type) [with Value = boost::container::dtl::pair<int, int>; KeyOfValue = boost::container::dtl::select1st<int>; Compare = std::less<int>; AllocatorOrContainer = boost::container::new_allocator<boost::container::dtl::pair<int, int> >; boost::container::dtl::flat_tree<Value, KeyOfValue, Compare, AllocatorOrContainer>::size_type = long unsigned int]’
/home/biocbuild/bbs-3.15-bioc/R/library/BH/include/boost/container/flat_map.hpp:712:9:   required from ‘void boost::container::flat_map<Key, T, Compare, Allocator>::reserve(boost::container::flat_map<Key, T, Compare, Allocator>::size_type) [with Key = int; T = int; Compare = std::less<int>; AllocatorOrContainer = void; boost::container::flat_map<Key, T, Compare, Allocator>::size_type = long unsigned int]’
rcpp_extract_patterns.cpp:68:67:   required from here
/home/biocbuild/bbs-3.15-bioc/R/library/BH/include/boost/container/detail/copy_move_algo.hpp:214:19: warning: ‘void* memmove(void*, const void*, size_t)’ writing to an object of type ‘boost::movelib::detail::iterator_to_element_ptr<boost::container::dtl::pair<int, int>*>::element_type’ {aka ‘struct boost::container::dtl::pair<int, int>’} with no trivial copy-assignment; use copy-assignment or copy-initialization instead [-Wclass-memaccess]
  214 |       std::memmove(boost::movelib::iterator_to_raw_pointer(r), boost::movelib::iterator_to_raw_pointer(f), sizeof(value_type)*n);
      |       ~~~~~~~~~~~~^~~~~~~~~~~~~~~~~~~~~~~~~~~~~~~~~~~~~~~~~~~~~~~~~~~~~~~~~~~~~~~~~~~~~~~~~~~~~~~~~~~~~~~~~~~~~~~~~~~~~~~~~~~~~~
In file included from /home/biocbuild/bbs-3.15-bioc/R/library/BH/include/boost/container/detail/flat_tree.hpp:29,
                 from /home/biocbuild/bbs-3.15-bioc/R/library/BH/include/boost/container/flat_map.hpp:29,
                 from rcpp_extract_patterns.cpp:2:
/home/biocbuild/bbs-3.15-bioc/R/library/BH/include/boost/container/detail/pair.hpp:218:8: note: ‘boost::movelib::detail::iterator_to_element_ptr<boost::container::dtl::pair<int, int>*>::element_type’ {aka ‘struct boost::container::dtl::pair<int, int>’} declared here
  218 | struct pair
      |        ^~~~
g++ -std=gnu++17 -I"/home/biocbuild/bbs-3.15-bioc/R/include" -DNDEBUG -D_FILE_OFFSET_BITS=64 -I'/home/biocbuild/bbs-3.15-bioc/R/library/Rcpp/include' -I'/home/biocbuild/bbs-3.15-bioc/R/library/BH/include' -I'/home/biocbuild/bbs-3.15-bioc/R/library/Rhtslib/include' -I'/home/biocbuild/bbs-3.15-bioc/R/library/zlibbioc/include' -I/usr/local/include   -fpic  -g -O2  -Wall -c rcpp_fep.cpp -o rcpp_fep.o
g++ -std=gnu++17 -I"/home/biocbuild/bbs-3.15-bioc/R/include" -DNDEBUG -D_FILE_OFFSET_BITS=64 -I'/home/biocbuild/bbs-3.15-bioc/R/library/Rcpp/include' -I'/home/biocbuild/bbs-3.15-bioc/R/library/BH/include' -I'/home/biocbuild/bbs-3.15-bioc/R/library/Rhtslib/include' -I'/home/biocbuild/bbs-3.15-bioc/R/library/zlibbioc/include' -I/usr/local/include   -fpic  -g -O2  -Wall -c rcpp_get_base_freqs.cpp -o rcpp_get_base_freqs.o
g++ -std=gnu++17 -I"/home/biocbuild/bbs-3.15-bioc/R/include" -DNDEBUG -D_FILE_OFFSET_BITS=64 -I'/home/biocbuild/bbs-3.15-bioc/R/library/Rcpp/include' -I'/home/biocbuild/bbs-3.15-bioc/R/library/BH/include' -I'/home/biocbuild/bbs-3.15-bioc/R/library/Rhtslib/include' -I'/home/biocbuild/bbs-3.15-bioc/R/library/zlibbioc/include' -I/usr/local/include   -fpic  -g -O2  -Wall -c rcpp_get_xm_beta.cpp -o rcpp_get_xm_beta.o
g++ -std=gnu++17 -I"/home/biocbuild/bbs-3.15-bioc/R/include" -DNDEBUG -D_FILE_OFFSET_BITS=64 -I'/home/biocbuild/bbs-3.15-bioc/R/library/Rcpp/include' -I'/home/biocbuild/bbs-3.15-bioc/R/library/BH/include' -I'/home/biocbuild/bbs-3.15-bioc/R/library/Rhtslib/include' -I'/home/biocbuild/bbs-3.15-bioc/R/library/zlibbioc/include' -I/usr/local/include   -fpic  -g -O2  -Wall -c rcpp_match_target.cpp -o rcpp_match_target.o
g++ -std=gnu++17 -I"/home/biocbuild/bbs-3.15-bioc/R/include" -DNDEBUG -D_FILE_OFFSET_BITS=64 -I'/home/biocbuild/bbs-3.15-bioc/R/library/Rcpp/include' -I'/home/biocbuild/bbs-3.15-bioc/R/library/BH/include' -I'/home/biocbuild/bbs-3.15-bioc/R/library/Rhtslib/include' -I'/home/biocbuild/bbs-3.15-bioc/R/library/zlibbioc/include' -I/usr/local/include   -fpic  -g -O2  -Wall -c rcpp_read_bam.cpp -o rcpp_read_bam.o
g++ -std=gnu++17 -I"/home/biocbuild/bbs-3.15-bioc/R/include" -DNDEBUG -D_FILE_OFFSET_BITS=64 -I'/home/biocbuild/bbs-3.15-bioc/R/library/Rcpp/include' -I'/home/biocbuild/bbs-3.15-bioc/R/library/BH/include' -I'/home/biocbuild/bbs-3.15-bioc/R/library/Rhtslib/include' -I'/home/biocbuild/bbs-3.15-bioc/R/library/zlibbioc/include' -I/usr/local/include   -fpic  -g -O2  -Wall -c rcpp_threshold_reads.cpp -o rcpp_threshold_reads.o
g++ -std=gnu++17 -shared -L/home/biocbuild/bbs-3.15-bioc/R/lib -L/usr/local/lib -o epialleleR.so RcppExports.o rcpp_cx_report.o rcpp_extract_patterns.o rcpp_fep.o rcpp_get_base_freqs.o rcpp_get_xm_beta.o rcpp_match_target.o rcpp_read_bam.o rcpp_threshold_reads.o /home/biocbuild/bbs-3.15-bioc/R/library/Rhtslib/usrlib/libhts.a -lcurl -L/home/biocbuild/bbs-3.15-bioc/R/lib -lR
installing to /home/biocbuild/bbs-3.15-bioc/R/library/00LOCK-epialleleR/00new/epialleleR/libs
** R
** inst
** byte-compile and prepare package for lazy loading
** help
*** installing help indices
** building package indices
** installing vignettes
** testing if installed package can be loaded from temporary location
** checking absolute paths in shared objects and dynamic libraries
** testing if installed package can be loaded from final location
** testing if installed package keeps a record of temporary installation path
* DONE (epialleleR)