Back to Multiple platform build/check report for BioC 3.15
ABCDEFGHIJKLM[N]OPQRSTUVWXYZ

This page was generated on 2022-08-12 13:21:54 -0400 (Fri, 12 Aug 2022).

HostnameOSArch (*)R versionInstalled pkgs
nebbiolo1Linux (Ubuntu 20.04.4 LTS)x86_644.2.1 (2022-06-23) -- "Funny-Looking Kid" 4364
palomino3Windows Server 2022 Datacenterx644.2.1 (2022-06-23 ucrt) -- "Funny-Looking Kid" 4117
merida1macOS 10.14.6 Mojavex86_644.2.1 (2022-06-23) -- "Funny-Looking Kid" 4182
Click on any hostname to see more info about the system (e.g. compilers)      (*) as reported by 'uname -p', except on Windows and Mac OS X

CHECK results for NxtIRFcore on palomino3


To the developers/maintainers of the NxtIRFcore package:
- Please allow up to 24 hours (and sometimes 48 hours) for your latest push to git@git.bioconductor.org:packages/NxtIRFcore.git to
reflect on this report. See How and When does the builder pull? When will my changes propagate? for more information.
- Make sure to use the following settings in order to reproduce any error or warning you see on this page.

raw results

Package 1346/2140HostnameOS / ArchINSTALLBUILDCHECKBUILD BIN
NxtIRFcore 1.2.1  (landing page)
Alex Chit Hei Wong
Snapshot Date: 2022-08-11 13:55:06 -0400 (Thu, 11 Aug 2022)
git_url: https://git.bioconductor.org/packages/NxtIRFcore
git_branch: RELEASE_3_15
git_last_commit: b13e810
git_last_commit_date: 2022-06-22 07:29:58 -0400 (Wed, 22 Jun 2022)
nebbiolo1Linux (Ubuntu 20.04.4 LTS) / x86_64  OK    OK    OK  UNNEEDED, same version is already published
palomino3Windows Server 2022 Datacenter / x64  OK    OK    OK    OK  UNNEEDED, same version is already published
merida1macOS 10.14.6 Mojave / x86_64  OK    OK    OK    OK  UNNEEDED, same version is already published

Summary

Package: NxtIRFcore
Version: 1.2.1
Command: F:\biocbuild\bbs-3.15-bioc\R\bin\R.exe CMD check --no-multiarch --install=check:NxtIRFcore.install-out.txt --library=F:\biocbuild\bbs-3.15-bioc\R\library --no-vignettes --timings NxtIRFcore_1.2.1.tar.gz
StartedAt: 2022-08-12 03:07:06 -0400 (Fri, 12 Aug 2022)
EndedAt: 2022-08-12 03:14:37 -0400 (Fri, 12 Aug 2022)
EllapsedTime: 450.8 seconds
RetCode: 0
Status:   OK  
CheckDir: NxtIRFcore.Rcheck
Warnings: 0

Command output

##############################################################################
##############################################################################
###
### Running command:
###
###   F:\biocbuild\bbs-3.15-bioc\R\bin\R.exe CMD check --no-multiarch --install=check:NxtIRFcore.install-out.txt --library=F:\biocbuild\bbs-3.15-bioc\R\library --no-vignettes --timings NxtIRFcore_1.2.1.tar.gz
###
##############################################################################
##############################################################################


* using log directory 'F:/biocbuild/bbs-3.15-bioc/meat/NxtIRFcore.Rcheck'
* using R version 4.2.1 (2022-06-23 ucrt)
* using platform: x86_64-w64-mingw32 (64-bit)
* using session charset: UTF-8
* using option '--no-vignettes'
* checking for file 'NxtIRFcore/DESCRIPTION' ... OK
* this is package 'NxtIRFcore' version '1.2.1'
* package encoding: UTF-8
* checking package namespace information ... OK
* checking package dependencies ... OK
* checking if this is a source package ... OK
* checking if there is a namespace ... OK
* checking for hidden files and directories ... OK
* checking for portable file names ... OK
* checking whether package 'NxtIRFcore' can be installed ... OK
* checking installed package size ... OK
* checking package directory ... OK
* checking 'build' directory ... OK
* checking DESCRIPTION meta-information ... OK
* checking top-level files ... OK
* checking for left-over files ... OK
* checking index information ... OK
* checking package subdirectories ... OK
* checking R files for non-ASCII characters ... OK
* checking R files for syntax errors ... OK
* checking whether the package can be loaded ... OK
* checking whether the package can be loaded with stated dependencies ... OK
* checking whether the package can be unloaded cleanly ... OK
* checking whether the namespace can be loaded with stated dependencies ... OK
* checking whether the namespace can be unloaded cleanly ... OK
* checking dependencies in R code ... OK
* checking S3 generic/method consistency ... OK
* checking replacement functions ... OK
* checking foreign function calls ... OK
* checking R code for possible problems ... OK
* checking Rd files ... OK
* checking Rd metadata ... OK
* checking Rd cross-references ... OK
* checking for missing documentation entries ... OK
* checking for code/documentation mismatches ... OK
* checking Rd \usage sections ... OK
* checking Rd contents ... OK
* checking for unstated dependencies in examples ... OK
* checking line endings in shell scripts ... OK
* checking line endings in C/C++/Fortran sources/headers ... OK
* checking line endings in Makefiles ... OK
* checking compilation flags in Makevars ... OK
* checking for GNU extensions in Makefiles ... OK
* checking for portable use of $(BLAS_LIBS) and $(LAPACK_LIBS) ... OK
* checking use of PKG_*FLAGS in Makefiles ... OK
* checking compiled code ... NOTE
Note: information on .o files for x64 is not available
File 'F:/biocbuild/bbs-3.15-bioc/R/library/NxtIRFcore/libs/x64/NxtIRFcore.dll':
  Found '_assert', possibly from 'assert' (C)
  Found 'abort', possibly from 'abort' (C), 'runtime' (Fortran)
  Found 'exit', possibly from 'exit' (C), 'stop' (Fortran)

Compiled code should not call entry points which might terminate R nor
write to stdout/stderr instead of to the console, nor use Fortran I/O
nor system RNGs. The detected symbols are linked into the code but
might come from libraries and not actually be called.

See 'Writing portable packages' in the 'Writing R Extensions' manual.
* checking files in 'vignettes' ... OK
* checking examples ... OK
Examples with CPU (user + system) or elapsed time > 5s
                user system elapsed
BuildReference 19.12   0.32   21.25
CollateData    14.70   0.56   16.77
* checking for unstated dependencies in 'tests' ... OK
* checking tests ...
  Running 'testthat.R'
 OK
* checking for unstated dependencies in vignettes ... OK
* checking package vignettes in 'inst/doc' ... OK
* checking running R code from vignettes ... SKIPPED
* checking re-building of vignette outputs ... SKIPPED
* checking PDF version of manual ... OK
* DONE

Status: 1 NOTE
See
  'F:/biocbuild/bbs-3.15-bioc/meat/NxtIRFcore.Rcheck/00check.log'
for details.



Installation output

NxtIRFcore.Rcheck/00install.out

##############################################################################
##############################################################################
###
### Running command:
###
###   F:\biocbuild\bbs-3.15-bioc\R\bin\R.exe CMD INSTALL NxtIRFcore
###
##############################################################################
##############################################################################


* installing to library 'F:/biocbuild/bbs-3.15-bioc/R/library'
* installing *source* package 'NxtIRFcore' ...
** using staged installation
** libs
g++  -std=gnu++11 -I"F:/biocbuild/bbs-3.15-bioc/R/include" -DNDEBUG  -I'F:/biocbuild/bbs-3.15-bioc/R/library/Rcpp/include' -I'F:/biocbuild/bbs-3.15-bioc/R/library/zlibbioc/include' -I'F:/biocbuild/bbs-3.15-bioc/R/library/RcppProgress/include'   -I"C:/rtools42/x86_64-w64-mingw32.static.posix/include"  -fopenmp -DRNXTIRF   -O2 -Wall  -mfpmath=sse -msse2 -mstackrealign  -c BAM2blocks.cpp -o BAM2blocks.o
g++  -std=gnu++11 -I"F:/biocbuild/bbs-3.15-bioc/R/include" -DNDEBUG  -I'F:/biocbuild/bbs-3.15-bioc/R/library/Rcpp/include' -I'F:/biocbuild/bbs-3.15-bioc/R/library/zlibbioc/include' -I'F:/biocbuild/bbs-3.15-bioc/R/library/RcppProgress/include'   -I"C:/rtools42/x86_64-w64-mingw32.static.posix/include"  -fopenmp -DRNXTIRF   -O2 -Wall  -mfpmath=sse -msse2 -mstackrealign  -c FastaReader.cpp -o FastaReader.o
g++  -std=gnu++11 -I"F:/biocbuild/bbs-3.15-bioc/R/include" -DNDEBUG  -I'F:/biocbuild/bbs-3.15-bioc/R/library/Rcpp/include' -I'F:/biocbuild/bbs-3.15-bioc/R/library/zlibbioc/include' -I'F:/biocbuild/bbs-3.15-bioc/R/library/RcppProgress/include'   -I"C:/rtools42/x86_64-w64-mingw32.static.posix/include"  -fopenmp -DRNXTIRF   -O2 -Wall  -mfpmath=sse -msse2 -mstackrealign  -c FragmentBlocks.cpp -o FragmentBlocks.o
g++  -std=gnu++11 -I"F:/biocbuild/bbs-3.15-bioc/R/include" -DNDEBUG  -I'F:/biocbuild/bbs-3.15-bioc/R/library/Rcpp/include' -I'F:/biocbuild/bbs-3.15-bioc/R/library/zlibbioc/include' -I'F:/biocbuild/bbs-3.15-bioc/R/library/RcppProgress/include'   -I"C:/rtools42/x86_64-w64-mingw32.static.posix/include"  -fopenmp -DRNXTIRF   -O2 -Wall  -mfpmath=sse -msse2 -mstackrealign  -c GZTools.cpp -o GZTools.o
g++  -std=gnu++11 -I"F:/biocbuild/bbs-3.15-bioc/R/include" -DNDEBUG  -I'F:/biocbuild/bbs-3.15-bioc/R/library/Rcpp/include' -I'F:/biocbuild/bbs-3.15-bioc/R/library/zlibbioc/include' -I'F:/biocbuild/bbs-3.15-bioc/R/library/RcppProgress/include'   -I"C:/rtools42/x86_64-w64-mingw32.static.posix/include"  -fopenmp -DRNXTIRF   -O2 -Wall  -mfpmath=sse -msse2 -mstackrealign  -c IRFinder.cpp -o IRFinder.o
g++  -std=gnu++11 -I"F:/biocbuild/bbs-3.15-bioc/R/include" -DNDEBUG  -I'F:/biocbuild/bbs-3.15-bioc/R/library/Rcpp/include' -I'F:/biocbuild/bbs-3.15-bioc/R/library/zlibbioc/include' -I'F:/biocbuild/bbs-3.15-bioc/R/library/RcppProgress/include'   -I"C:/rtools42/x86_64-w64-mingw32.static.posix/include"  -fopenmp -DRNXTIRF   -O2 -Wall  -mfpmath=sse -msse2 -mstackrealign  -c RcppExports.cpp -o RcppExports.o
g++  -std=gnu++11 -I"F:/biocbuild/bbs-3.15-bioc/R/include" -DNDEBUG  -I'F:/biocbuild/bbs-3.15-bioc/R/library/Rcpp/include' -I'F:/biocbuild/bbs-3.15-bioc/R/library/zlibbioc/include' -I'F:/biocbuild/bbs-3.15-bioc/R/library/RcppProgress/include'   -I"C:/rtools42/x86_64-w64-mingw32.static.posix/include"  -fopenmp -DRNXTIRF   -O2 -Wall  -mfpmath=sse -msse2 -mstackrealign  -c ReadBlockProcessor.cpp -o ReadBlockProcessor.o
g++  -std=gnu++11 -I"F:/biocbuild/bbs-3.15-bioc/R/include" -DNDEBUG  -I'F:/biocbuild/bbs-3.15-bioc/R/library/Rcpp/include' -I'F:/biocbuild/bbs-3.15-bioc/R/library/zlibbioc/include' -I'F:/biocbuild/bbs-3.15-bioc/R/library/RcppProgress/include'   -I"C:/rtools42/x86_64-w64-mingw32.static.posix/include"  -fopenmp -DRNXTIRF   -O2 -Wall  -mfpmath=sse -msse2 -mstackrealign  -c ReadBlockProcessor_CoverageBlocks.cpp -o ReadBlockProcessor_CoverageBlocks.o
g++  -std=gnu++11 -I"F:/biocbuild/bbs-3.15-bioc/R/include" -DNDEBUG  -I'F:/biocbuild/bbs-3.15-bioc/R/library/Rcpp/include' -I'F:/biocbuild/bbs-3.15-bioc/R/library/zlibbioc/include' -I'F:/biocbuild/bbs-3.15-bioc/R/library/RcppProgress/include'   -I"C:/rtools42/x86_64-w64-mingw32.static.posix/include"  -fopenmp -DRNXTIRF   -O2 -Wall  -mfpmath=sse -msse2 -mstackrealign  -c covTools.cpp -o covTools.o
g++ -shared -s -static-libgcc -o NxtIRFcore.dll tmp.def BAM2blocks.o FastaReader.o FragmentBlocks.o GZTools.o IRFinder.o RcppExports.o ReadBlockProcessor.o ReadBlockProcessor_CoverageBlocks.o covTools.o -fopenmp -DRNXTIRF -LF:/biocbuild/bbs-3.15-bioc/R/library/zlibbioc/libs/x64 -lzlib1bioc -LC:/rtools42/x86_64-w64-mingw32.static.posix/lib/x64 -LC:/rtools42/x86_64-w64-mingw32.static.posix/lib -LF:/biocbuild/bbs-3.15-bioc/R/bin/x64 -lR
installing to F:/biocbuild/bbs-3.15-bioc/R/library/00LOCK-NxtIRFcore/00new/NxtIRFcore/libs/x64
** R
** inst
** byte-compile and prepare package for lazy loading
** help
*** installing help indices
** building package indices
** installing vignettes
** testing if installed package can be loaded from temporary location
** testing if installed package can be loaded from final location
** testing if installed package keeps a record of temporary installation path
* DONE (NxtIRFcore)

Tests output

NxtIRFcore.Rcheck/tests/testthat.Rout


R version 4.2.1 (2022-06-23 ucrt) -- "Funny-Looking Kid"
Copyright (C) 2022 The R Foundation for Statistical Computing
Platform: x86_64-w64-mingw32/x64 (64-bit)

R is free software and comes with ABSOLUTELY NO WARRANTY.
You are welcome to redistribute it under certain conditions.
Type 'license()' or 'licence()' for distribution details.

R is a collaborative project with many contributors.
Type 'contributors()' for more information and
'citation()' on how to cite R or R packages in publications.

Type 'demo()' for some demos, 'help()' for on-line help, or
'help.start()' for an HTML browser interface to help.
Type 'q()' to quit R.

> library(testthat)
> library(NxtIRFcore)
Loading required package: NxtIRFdata
> 
> test_check("NxtIRFcore")
Aug 12 3:13:48 AM Reference generated without non-polyA reference
Aug 12 3:13:48 AM Reference generated without Mappability reference
Aug 12 3:13:48 AM Reference generated without Blacklist exclusion
Aug 12 3:13:48 AM Converting FASTA to local TwoBitFile...done
Aug 12 3:13:50 AM Connecting to genome TwoBitFile...done
Aug 12 3:13:50 AM Making local copy of GTF file...done
Aug 12 3:13:51 AM Reading source GTF file...done
Aug 12 3:13:51 AM Processing gtf file...
...genes
...transcripts
...CDS
...exons
done
Aug 12 3:13:53 AM Processing introns...
...data
...basic annotations
...splice motifs
...other info
...defining flanking exon islands
done
Aug 12 3:13:58 AM Generating IRFinder reference
...prepping data
...determining measurable introns (directional)
...determining measurable introns (non-directional)
...writing ref-cover.bed
...writing ref-ROI.bed
...writing ref-read-continues.ref
...writing ref-sj.ref
IRFinder reference generation completed
Aug 12 3:14:04 AM Predicting NMD transcripts from genome sequence
...exonic transcripts
...retained introns

  |                                                                            
  |                                                                      |   0%
  |                                                                            
  |======================================================================| 100%
done
Aug 12 3:14:06 AM Annotating Splice Events
Annotating Mutually-Exclusive-Exon Splice Events...done
Annotating Skipped-Exon Splice Events...done
Annotating Alternate 5' / 3' Splice Site Splice Events...done
Annotating Alternate First / Last Exon Splice Events...done
Annotating known retained introns...done
Aug 12 3:14:08 AM Splice Annotations Filtered
Aug 12 3:14:08 AM Translating Alternate Splice Peptides...done
Aug 12 3:14:09 AM Splice Annotations finished

Reference build finished
Aug 12 3:14:09 AM Running IRFinder
Reading reference file
Running IRFinder with OpenMP using 1 threads
F:\biocbuild\bbs-3.15-bioc\tmpdir\RtmpCcPcbd\02H003.bam processed
F:\biocbuild\bbs-3.15-bioc\tmpdir\RtmpCcPcbd\02H025.bam processed
F:\biocbuild\bbs-3.15-bioc\tmpdir\RtmpCcPcbd\02H026.bam processed
F:\biocbuild\bbs-3.15-bioc\tmpdir\RtmpCcPcbd\02H033.bam processed
F:\biocbuild\bbs-3.15-bioc\tmpdir\RtmpCcPcbd\02H043.bam processed
F:\biocbuild\bbs-3.15-bioc\tmpdir\RtmpCcPcbd\02H046.bam processed
Aug 12 3:14:12 AM Validating Experiment; checking COV files...
Aug 12 3:14:12 AM Using SnowParam 1 threads
Aug 12 3:14:12 AM Compiling Sample Stats
Aug 12 3:14:12 AM Compiling Junction List...merging...done
Aug 12 3:14:13 AM Compiling Intron Retention List...done
Aug 12 3:14:14 AM Tidying up splice junctions and intron retentions...
...annotating splice junctions
...grouping splice junctions
...grouping introns
...loading splice events
...saving annotations
...compiling rowEvents
done

Aug 12 3:14:16 AM Generating NxtIRF assays
Aug 12 3:14:16 AM Using SnowParam 1 threads

  |                                                                            
  |                                                                      |   0%
  |                                                                            
  |============                                                          |  17%
  |                                                                            
  |=======================                                               |  33%
  |                                                                            
  |===================================                                   |  50%
  |                                                                            
  |===============================================                       |  67%
  |                                                                            
  |==========================================================            |  83%
  |                                                                            
  |======================================================================| 100%

Building Final SummarizedExperiment Object

  |                                                                            
  |                                                                      |   0%
  |                                                                            
  |============                                                          |  17%
  |                                                                            
  |=======================                                               |  33%
  |                                                                            
  |===================================                                   |  50%
  |                                                                            
  |===============================================                       |  67%
  |                                                                            
  |==========================================================            |  83%
  |                                                                            
  |======================================================================| 100%
NxtIRF Collation Finished
Aug 12 3:14:22 AM Loading NxtSE object from file...done

Aug 12 3:14:22 AM Removing overlapping introns...
Aug 12 3:14:23 AM Iterating through IR events to determine introns of main isoforms
Aug 12 3:14:23 AM Iteration 1
Aug 12 3:14:23 AM Iteration 2
Aug 12 3:14:24 AM Running IRFinder
Reading reference file
Running IRFinder with OpenMP using 1 threads
Processing BAM file F:\biocbuild\bbs-3.15-bioc\tmpdir\RtmpCcPcbd\02H003.bam
0%   10   20   30   40   50   60   70   80   90   100%
[----|----|----|----|----|----|----|----|----|----|
**************************************************|
Performing final sort of fragment maps
Writing COV file
**************************************************|
0%   10   20   30   40   50   60   70   80   90   100%
[----|----|----|----|----|----|----|----|----|----|
**************************************************|
Writing output file
F:\biocbuild\bbs-3.15-bioc\tmpdir\RtmpCcPcbd\02H003.bam processed
Aug 12 3:14:24 AM Running IRFinder
Reading reference file
Running IRFinder with OpenMP using 2 threads
Processing BAM file F:\biocbuild\bbs-3.15-bioc\tmpdir\RtmpCcPcbd\02H003.bam
0%   10   20   30   40   50   60   70   80   90   100%
[----|----|----|----|----|----|----|----|----|----|
**************************************************|
Compiling data from threads
Performing final sort of fragment maps
Writing COV file
**************************************************|
0%   10   20   30   40   50   60   70   80   90   100%
[----|----|----|----|----|----|----|----|----|----|
**************************************************|
Writing output file
F:\biocbuild\bbs-3.15-bioc\tmpdir\RtmpCcPcbd\02H003.bam processed
[ FAIL 0 | WARN 0 | SKIP 0 | PASS 18 ]
> 
> # bump to trigger r cmd check
> 
> proc.time()
   user  system elapsed 
  53.31    2.20   57.35 

Example timings

NxtIRFcore.Rcheck/NxtIRFcore-Ex.timings

nameusersystemelapsed
ASE-methods0.660.090.77
BuildReference19.12 0.3221.25
CollateData14.70 0.5616.77
CoordToGR0.020.000.01
Coverage1.120.011.14
Find_Samples0.020.000.02
IRFinder2.230.052.28
IsCOV0.020.000.02
MakeSE1.700.412.11
Mappability-methods0.030.030.07
NxtFilter-class0.050.010.07
NxtSE-class3.190.693.87
Plot_Coverage4.450.194.67
Run_NxtIRF_Filters0.620.000.63
STAR-methods000
example-NxtIRF-data0.020.000.02
make_plot_data0.040.000.05
theme_white0.110.000.11