Switch to simplified report

Multiple platform build/check report for BioC 3.16

This page was generated on 2023-04-12 11:06:39 -0400 (Wed, 12 Apr 2023).

Approx. Package Snapshot Date (git pull): 2023-04-10 14:00:05 -0400 (Mon, 10 Apr 2023)

HostnameOSArch (*)R versionInstalled pkgs
nebbiolo2Linux (Ubuntu 20.04.5 LTS)x86_644.2.3 (2023-03-15) -- "Shortstop Beagle" 4502
palomino4Windows Server 2022 Datacenterx644.2.3 (2023-03-15 ucrt) -- "Shortstop Beagle" 4282
lconwaymacOS 12.5.1 Montereyx86_644.2.3 (2023-03-15) -- "Shortstop Beagle" 4310
Click on any hostname to see more info about the system (e.g. compilers)      (*) as reported by 'uname -p', except on Windows and Mac OS X

Package status is indicated by one of the following glyphs
  TIMEOUT  
INSTALL, BUILD, CHECK or BUILD BIN of package took more than 40 minutes
  ERROR  
Bad DESCRIPTION file, or INSTALL, BUILD or BUILD BIN of package failed, or CHECK produced errors
  WARNINGS  
CHECK of package produced warnings
  OK  
INSTALL, BUILD, CHECK or BUILD BIN of package went OK
  NA  
INSTALL, BUILD, CHECK or BUILD BIN result is not available because of an anomaly in the Build System
skipped
CHECK or BUILD BIN of package was skipped because the BUILD step failed
Click on any glyph in the report below to access the detailed report.
Package propagation status is indicated by one of the following LEDs
YES YES: Package was propagated because it didn't previously exist or version was bumped
NO NO: Package was not propagated because of a problem (impossible dependencies, or version lower than what is already propagated)
UNNEEDED UNNEEDED: Package was not propagated because it is already in the repository with this version. A version bump is required in order to propagate it

A crossed-out package name indicates the package is deprecated


QUICK STATSOS / ArchINSTALLBUILDCHECKBUILD BIN
nebbiolo2Linux (Ubuntu 20.04.5 LTS) / x86_64
0232160
0592124
5453121762
palomino4Windows Server 2022 Datacenter / x64
0202134
1632090
2473061735
002090
lconwaymacOS 12.5.1 Monterey / x86_64
0252149
0672107
1333071766
002107
A
ABCDEFGHIJKLMNOPQRSTUVWXYZ
Package 1/2183HostnameOS / ArchINSTALLBUILDCHECKBUILD BIN
a4 1.46.0  (landing page)
Laure Cougnaud
git_last_commit: 1b8f130
git_last_commit_date: 2022-11-01 11:05:52 -0400
nebbiolo2Linux (Ubuntu 20.04.5 LTS) / x86_64  OK    OK    OK  UNNEEDED, same version is already published
palomino4Windows Server 2022 Datacenter / x64  OK    OK    OK    OK  UNNEEDED, same version is already published
lconwaymacOS 12.5.1 Monterey / x86_64  OK    OK    OK    OK  UNNEEDED, same version is already published
Package 2/2183HostnameOS / ArchINSTALLBUILDCHECKBUILD BIN
a4Base 1.46.0  (landing page)
Laure Cougnaud
git_last_commit: be70ae7
git_last_commit_date: 2022-11-01 11:05:49 -0400
nebbiolo2Linux (Ubuntu 20.04.5 LTS) / x86_64  OK    OK    OK  UNNEEDED, same version is already published
palomino4Windows Server 2022 Datacenter / x64  OK    OK    OK    OK  UNNEEDED, same version is already published
lconwaymacOS 12.5.1 Monterey / x86_64  OK    OK    OK    OK  UNNEEDED, same version is already published
Package 3/2183HostnameOS / ArchINSTALLBUILDCHECKBUILD BIN
a4Classif 1.46.0  (landing page)
Laure Cougnaud
git_last_commit: 9679418
git_last_commit_date: 2022-11-01 11:05:50 -0400
nebbiolo2Linux (Ubuntu 20.04.5 LTS) / x86_64  OK    OK    OK  UNNEEDED, same version is already published
palomino4Windows Server 2022 Datacenter / x64  OK    OK    OK    OK  UNNEEDED, same version is already published
lconwaymacOS 12.5.1 Monterey / x86_64  OK    OK    OK    OK  UNNEEDED, same version is already published
Package 4/2183HostnameOS / ArchINSTALLBUILDCHECKBUILD BIN
a4Core 1.46.0  (landing page)
Laure Cougnaud
git_last_commit: 8999fe1
git_last_commit_date: 2022-11-01 11:05:51 -0400
nebbiolo2Linux (Ubuntu 20.04.5 LTS) / x86_64  OK    OK    OK  UNNEEDED, same version is already published
palomino4Windows Server 2022 Datacenter / x64  OK    OK    OK    OK  UNNEEDED, same version is already published
lconwaymacOS 12.5.1 Monterey / x86_64  OK    OK    OK    OK  UNNEEDED, same version is already published
Package 5/2183HostnameOS / ArchINSTALLBUILDCHECKBUILD BIN
a4Preproc 1.46.0  (landing page)
Laure Cougnaud
git_last_commit: 8463958
git_last_commit_date: 2022-11-01 11:05:49 -0400
nebbiolo2Linux (Ubuntu 20.04.5 LTS) / x86_64  OK    OK    OK  UNNEEDED, same version is already published
palomino4Windows Server 2022 Datacenter / x64  OK    OK    OK    OK  UNNEEDED, same version is already published
lconwaymacOS 12.5.1 Monterey / x86_64  OK    OK    OK    OK  UNNEEDED, same version is already published
Package 6/2183HostnameOS / ArchINSTALLBUILDCHECKBUILD BIN
a4Reporting 1.46.0  (landing page)
Laure Cougnaud
git_last_commit: 00b82d2
git_last_commit_date: 2022-11-01 11:05:51 -0400
nebbiolo2Linux (Ubuntu 20.04.5 LTS) / x86_64  OK    OK    OK  UNNEEDED, same version is already published
palomino4Windows Server 2022 Datacenter / x64  OK    OK    OK    OK  UNNEEDED, same version is already published
lconwaymacOS 12.5.1 Monterey / x86_64  OK    OK    OK    OK  UNNEEDED, same version is already published
Package 7/2183HostnameOS / ArchINSTALLBUILDCHECKBUILD BIN
ABarray 1.66.0  (landing page)
Yongming Andrew Sun
git_last_commit: 9625fe2
git_last_commit_date: 2022-11-01 10:41:39 -0400
nebbiolo2Linux (Ubuntu 20.04.5 LTS) / x86_64  OK    OK    OK  UNNEEDED, same version is already published
palomino4Windows Server 2022 Datacenter / x64  OK    OK    OK    OK  UNNEEDED, same version is already published
lconwaymacOS 12.5.1 Monterey / x86_64  OK    OK    OK    OK  UNNEEDED, same version is already published
Package 8/2183HostnameOS / ArchINSTALLBUILDCHECKBUILD BIN
abseqR 1.16.0  (landing page)
JiaHong Fong
git_last_commit: e9f5252
git_last_commit_date: 2022-11-01 11:18:49 -0400
nebbiolo2Linux (Ubuntu 20.04.5 LTS) / x86_64  OK    OK    OK  UNNEEDED, same version is already published
palomino4Windows Server 2022 Datacenter / x64  OK    OK    OK    OK  UNNEEDED, same version is already published
lconwaymacOS 12.5.1 Monterey / x86_64  OK    OK    OK    OK  UNNEEDED, same version is already published
Package 9/2183HostnameOS / ArchINSTALLBUILDCHECKBUILD BIN
ABSSeq 1.52.0  (landing page)
Wentao Yang
git_last_commit: 07038c0
git_last_commit_date: 2022-11-01 11:09:27 -0400
nebbiolo2Linux (Ubuntu 20.04.5 LTS) / x86_64  OK    OK    OK  UNNEEDED, same version is already published
palomino4Windows Server 2022 Datacenter / x64  OK    OK    OK    OK  UNNEEDED, same version is already published
lconwaymacOS 12.5.1 Monterey / x86_64  OK    OK    OK    OK  UNNEEDED, same version is already published
Package 10/2183HostnameOS / ArchINSTALLBUILDCHECKBUILD BIN
acde 1.28.0  (landing page)
Juan Pablo Acosta
git_last_commit: 0edccca
git_last_commit_date: 2022-11-01 11:11:44 -0400
nebbiolo2Linux (Ubuntu 20.04.5 LTS) / x86_64  OK    OK    OK  UNNEEDED, same version is already published
palomino4Windows Server 2022 Datacenter / x64  OK    OK    OK    OK  UNNEEDED, same version is already published
lconwaymacOS 12.5.1 Monterey / x86_64  OK    OK    OK    OK  UNNEEDED, same version is already published
Package 11/2183HostnameOS / ArchINSTALLBUILDCHECKBUILD BIN
ACE 1.16.0  (landing page)
Jos B Poell
git_last_commit: 44fa7a7
git_last_commit_date: 2022-11-01 11:18:08 -0400
nebbiolo2Linux (Ubuntu 20.04.5 LTS) / x86_64  OK    OK    OK  UNNEEDED, same version is already published
palomino4Windows Server 2022 Datacenter / x64  OK    OK    OK    OK  UNNEEDED, same version is already published
lconwaymacOS 12.5.1 Monterey / x86_64  OK    OK    OK    OK  UNNEEDED, same version is already published
Package 12/2183HostnameOS / ArchINSTALLBUILDCHECKBUILD BIN
aCGH 1.76.0  (landing page)
Peter Dimitrov
git_last_commit: c606852
git_last_commit_date: 2022-11-01 10:37:29 -0400
nebbiolo2Linux (Ubuntu 20.04.5 LTS) / x86_64  OK    OK    OK  UNNEEDED, same version is already published
palomino4Windows Server 2022 Datacenter / x64  OK    OK    OK    OK  UNNEEDED, same version is already published
lconwaymacOS 12.5.1 Monterey / x86_64  OK    OK    OK    OK  UNNEEDED, same version is already published
Package 13/2183HostnameOS / ArchINSTALLBUILDCHECKBUILD BIN
ACME 2.54.0  (landing page)
Sean Davis
git_last_commit: 8d39d9d
git_last_commit_date: 2022-11-01 11:03:24 -0400
nebbiolo2Linux (Ubuntu 20.04.5 LTS) / x86_64  OK    OK    WARNINGS  UNNEEDED, same version is already published
palomino4Windows Server 2022 Datacenter / x64  OK    OK    WARNINGS    OK  UNNEEDED, same version is already published
lconwaymacOS 12.5.1 Monterey / x86_64  OK    OK    OK    OK  UNNEEDED, same version is already published
Package 14/2183HostnameOS / ArchINSTALLBUILDCHECKBUILD BIN
ADaCGH2 2.38.0  (landing page)
Ramon Diaz-Uriarte
git_last_commit: 7f98abd
git_last_commit_date: 2022-11-01 11:05:23 -0400
nebbiolo2Linux (Ubuntu 20.04.5 LTS) / x86_64  OK    OK    OK  UNNEEDED, same version is already published
palomino4Windows Server 2022 Datacenter / x64  OK    OK    OK    OK  UNNEEDED, same version is already published
lconwaymacOS 12.5.1 Monterey / x86_64  OK    OK    OK    OK  UNNEEDED, same version is already published
Package 15/2183HostnameOS / ArchINSTALLBUILDCHECKBUILD BIN
ADAM 1.14.0  (landing page)
Jose Luiz Rybarczyk Filho
git_last_commit: dab2630
git_last_commit_date: 2022-11-01 11:18:54 -0400
nebbiolo2Linux (Ubuntu 20.04.5 LTS) / x86_64  OK    OK    OK  UNNEEDED, same version is already published
palomino4Windows Server 2022 Datacenter / x64  OK    OK    OK    OK  UNNEEDED, same version is already published
lconwaymacOS 12.5.1 Monterey / x86_64  OK    OK    OK    OK  UNNEEDED, same version is already published
Package 16/2183HostnameOS / ArchINSTALLBUILDCHECKBUILD BIN
ADAMgui 1.14.0  (landing page)
Jose Luiz Rybarczyk Filho
git_last_commit: 0dfc260
git_last_commit_date: 2022-11-01 11:19:43 -0400
nebbiolo2Linux (Ubuntu 20.04.5 LTS) / x86_64  OK    OK    OK  UNNEEDED, same version is already published
palomino4Windows Server 2022 Datacenter / x64  OK    OK    OK    OK  UNNEEDED, same version is already published
lconwaymacOS 12.5.1 Monterey / x86_64  OK    OK    OK    OK  UNNEEDED, same version is already published
Package 17/2183HostnameOS / ArchINSTALLBUILDCHECKBUILD BIN
adductomicsR 1.14.0  (landing page)
Josie Hayes
git_last_commit: 90b4fbd
git_last_commit_date: 2022-11-01 11:19:09 -0400
nebbiolo2Linux (Ubuntu 20.04.5 LTS) / x86_64  OK    OK    WARNINGS  UNNEEDED, same version is already published
palomino4Windows Server 2022 Datacenter / x64  OK    OK    WARNINGS    OK  UNNEEDED, same version is already published
lconwaymacOS 12.5.1 Monterey / x86_64  OK    OK    WARNINGS    OK  UNNEEDED, same version is already published
Package 18/2183HostnameOS / ArchINSTALLBUILDCHECKBUILD BIN
ADImpute 1.8.0  (landing page)
Ana Carolina Leote
git_last_commit: a3696a0
git_last_commit_date: 2022-11-01 11:23:18 -0400
nebbiolo2Linux (Ubuntu 20.04.5 LTS) / x86_64  OK    OK    WARNINGS  UNNEEDED, same version is already published
palomino4Windows Server 2022 Datacenter / x64  OK    OK    WARNINGS    OK  UNNEEDED, same version is already published
lconwaymacOS 12.5.1 Monterey / x86_64  OK    OK    WARNINGS    OK  UNNEEDED, same version is already published
Package 19/2183HostnameOS / ArchINSTALLBUILDCHECKBUILD BIN
adSplit 1.68.0  (landing page)
Claudio Lottaz
git_last_commit: 705977b
git_last_commit_date: 2022-11-01 10:40:46 -0400
nebbiolo2Linux (Ubuntu 20.04.5 LTS) / x86_64  OK    OK    OK  UNNEEDED, same version is already published
palomino4Windows Server 2022 Datacenter / x64  OK    OK    OK    OK  UNNEEDED, same version is already published
lconwaymacOS 12.5.1 Monterey / x86_64  OK    OK    OK    OK  UNNEEDED, same version is already published
Package 20/2183HostnameOS / ArchINSTALLBUILDCHECKBUILD BIN
AffiXcan 1.16.0  (landing page)
Alessandro Lussana
git_last_commit: 13cd956
git_last_commit_date: 2022-11-01 11:18:33 -0400
nebbiolo2Linux (Ubuntu 20.04.5 LTS) / x86_64  OK    OK    OK  UNNEEDED, same version is already published
palomino4Windows Server 2022 Datacenter / x64  OK    OK    OK    OK  UNNEEDED, same version is already published
lconwaymacOS 12.5.1 Monterey / x86_64  OK    OK    OK    OK  UNNEEDED, same version is already published
Package 21/2183HostnameOS / ArchINSTALLBUILDCHECKBUILD BIN
affxparser 1.70.0  (landing page)
Kasper Daniel Hansen
git_last_commit: 28f94cd
git_last_commit_date: 2022-11-01 16:33:02 -0400
nebbiolo2Linux (Ubuntu 20.04.5 LTS) / x86_64  OK    OK    WARNINGS  UNNEEDED, same version is already published
palomino4Windows Server 2022 Datacenter / x64  OK    OK    WARNINGS    OK  UNNEEDED, same version is already published
lconwaymacOS 12.5.1 Monterey / x86_64  OK    OK    WARNINGS    OK  UNNEEDED, same version is already published
Package 22/2183HostnameOS / ArchINSTALLBUILDCHECKBUILD BIN
affy 1.76.0  (landing page)
Rafael A. Irizarry
git_last_commit: 3bb3093
git_last_commit_date: 2022-11-01 10:35:21 -0400
nebbiolo2Linux (Ubuntu 20.04.5 LTS) / x86_64  OK    OK    WARNINGS  UNNEEDED, same version is already published
palomino4Windows Server 2022 Datacenter / x64  OK    OK    WARNINGS    OK  UNNEEDED, same version is already published
lconwaymacOS 12.5.1 Monterey / x86_64  OK    OK    WARNINGS    OK  UNNEEDED, same version is already published
Package 23/2183HostnameOS / ArchINSTALLBUILDCHECKBUILD BIN
affycomp 1.74.0  (landing page)
Rafael A. Irizarry
git_last_commit: 1160d63
git_last_commit_date: 2022-11-01 10:35:39 -0400
nebbiolo2Linux (Ubuntu 20.04.5 LTS) / x86_64  OK    OK    OK  UNNEEDED, same version is already published
palomino4Windows Server 2022 Datacenter / x64  OK    OK    OK    OK  UNNEEDED, same version is already published
lconwaymacOS 12.5.1 Monterey / x86_64  OK    OK    OK    OK  UNNEEDED, same version is already published
Package 24/2183HostnameOS / ArchINSTALLBUILDCHECKBUILD BIN
AffyCompatible 1.58.0  (landing page)
Martin Morgan
git_last_commit: 6508e72
git_last_commit_date: 2022-11-01 11:03:50 -0400
nebbiolo2Linux (Ubuntu 20.04.5 LTS) / x86_64  OK    OK    WARNINGS  UNNEEDED, same version is already published
palomino4Windows Server 2022 Datacenter / x64  OK    OK    WARNINGS    OK  UNNEEDED, same version is already published
lconwaymacOS 12.5.1 Monterey / x86_64  OK    OK    WARNINGS    OK  UNNEEDED, same version is already published
Package 25/2183HostnameOS / ArchINSTALLBUILDCHECKBUILD BIN
affyContam 1.56.0  (landing page)
V. Carey
git_last_commit: e2b8a4f
git_last_commit_date: 2022-11-01 11:04:10 -0400
nebbiolo2Linux (Ubuntu 20.04.5 LTS) / x86_64  OK    OK    OK  UNNEEDED, same version is already published
palomino4Windows Server 2022 Datacenter / x64  OK    OK    OK    OK  UNNEEDED, same version is already published
lconwaymacOS 12.5.1 Monterey / x86_64  OK    OK    OK    OK  UNNEEDED, same version is already published
Package 26/2183HostnameOS / ArchINSTALLBUILDCHECKBUILD BIN
affycoretools 1.70.0  (landing page)
James W. MacDonald
git_last_commit: f09a788
git_last_commit_date: 2022-11-01 10:40:10 -0400
nebbiolo2Linux (Ubuntu 20.04.5 LTS) / x86_64  OK    OK    OK  UNNEEDED, same version is already published
palomino4Windows Server 2022 Datacenter / x64  OK    OK    OK    OK  UNNEEDED, same version is already published
lconwaymacOS 12.5.1 Monterey / x86_64  OK    OK    OK    OK  UNNEEDED, same version is already published
Package 27/2183HostnameOS / ArchINSTALLBUILDCHECKBUILD BIN
affyILM 1.50.0  (landing page)
Myriam Kroll and Fabrice Berger
git_last_commit: 185cd8e
git_last_commit_date: 2022-11-01 11:05:06 -0400
nebbiolo2Linux (Ubuntu 20.04.5 LTS) / x86_64  OK    OK    OK  UNNEEDED, same version is already published
palomino4Windows Server 2022 Datacenter / x64  OK    OK    OK    OK  UNNEEDED, same version is already published
lconwaymacOS 12.5.1 Monterey / x86_64  OK    OK    OK    OK  UNNEEDED, same version is already published
Package 28/2183HostnameOS / ArchINSTALLBUILDCHECKBUILD BIN
affyio 1.68.0  (landing page)
Ben Bolstad
git_last_commit: 33080c5
git_last_commit_date: 2022-11-01 10:35:15 -0400
nebbiolo2Linux (Ubuntu 20.04.5 LTS) / x86_64  OK    OK    WARNINGS  UNNEEDED, same version is already published
palomino4Windows Server 2022 Datacenter / x64  OK    OK    WARNINGS    OK  UNNEEDED, same version is already published
lconwaymacOS 12.5.1 Monterey / x86_64  OK    OK    OK    OK  UNNEEDED, same version is already published
Package 29/2183HostnameOS / ArchINSTALLBUILDCHECKBUILD BIN
affylmGUI 1.72.0  (landing page)
Gordon Smyth
git_last_commit: eb98eb8
git_last_commit_date: 2022-11-01 10:37:05 -0400
nebbiolo2Linux (Ubuntu 20.04.5 LTS) / x86_64  OK    OK    OK  UNNEEDED, same version is already published
palomino4Windows Server 2022 Datacenter / x64  OK    OK    OK    OK  UNNEEDED, same version is already published
lconwaymacOS 12.5.1 Monterey / x86_64  OK    OK    OK    OK  UNNEEDED, same version is already published
Package 30/2183HostnameOS / ArchINSTALLBUILDCHECKBUILD BIN
affyPLM 1.74.2  (landing page)
Ben Bolstad
git_last_commit: 429ed7b
git_last_commit_date: 2023-01-19 11:13:30 -0400
nebbiolo2Linux (Ubuntu 20.04.5 LTS) / x86_64  OK    OK    WARNINGS  UNNEEDED, same version is already published
palomino4Windows Server 2022 Datacenter / x64  OK    OK    ERROR    OK  
lconwaymacOS 12.5.1 Monterey / x86_64  OK    OK    OK    OK  UNNEEDED, same version is already published
Package 31/2183HostnameOS / ArchINSTALLBUILDCHECKBUILD BIN
AffyRNADegradation 1.44.0  (landing page)
Mario Fasold
git_last_commit: 63881f4
git_last_commit_date: 2022-11-01 11:06:35 -0400
nebbiolo2Linux (Ubuntu 20.04.5 LTS) / x86_64  OK    OK    OK  UNNEEDED, same version is already published
palomino4Windows Server 2022 Datacenter / x64  OK    OK    OK    OK  UNNEEDED, same version is already published
lconwaymacOS 12.5.1 Monterey / x86_64  OK    OK    OK    OK  UNNEEDED, same version is already published
Package 32/2183HostnameOS / ArchINSTALLBUILDCHECKBUILD BIN
AGDEX 1.46.0  (landing page)
Cuilan lani Gao
git_last_commit: d7c38e8
git_last_commit_date: 2022-11-01 11:06:18 -0400
nebbiolo2Linux (Ubuntu 20.04.5 LTS) / x86_64  OK    OK    OK  UNNEEDED, same version is already published
palomino4Windows Server 2022 Datacenter / x64  OK    OK    OK    OK  UNNEEDED, same version is already published
lconwaymacOS 12.5.1 Monterey / x86_64  OK    OK    OK    OK  UNNEEDED, same version is already published
Package 33/2183HostnameOS / ArchINSTALLBUILDCHECKBUILD BIN
aggregateBioVar 1.8.0  (landing page)
Jason Ratcliff
git_last_commit: 14e66de
git_last_commit_date: 2022-11-01 11:22:58 -0400
nebbiolo2Linux (Ubuntu 20.04.5 LTS) / x86_64  OK    OK    OK  UNNEEDED, same version is already published
palomino4Windows Server 2022 Datacenter / x64  OK    OK    OK    OK  UNNEEDED, same version is already published
lconwaymacOS 12.5.1 Monterey / x86_64  OK    OK    OK    OK  UNNEEDED, same version is already published
Package 34/2183HostnameOS / ArchINSTALLBUILDCHECKBUILD BIN
agilp 3.30.0  (landing page)
Benny Chain
git_last_commit: a2c898d
git_last_commit_date: 2022-11-01 11:07:26 -0400
nebbiolo2Linux (Ubuntu 20.04.5 LTS) / x86_64  OK    OK    OK  UNNEEDED, same version is already published
palomino4Windows Server 2022 Datacenter / x64  OK    OK    OK    OK  UNNEEDED, same version is already published
lconwaymacOS 12.5.1 Monterey / x86_64  OK    OK    OK    OK  UNNEEDED, same version is already published
Package 35/2183HostnameOS / ArchINSTALLBUILDCHECKBUILD BIN
AgiMicroRna 2.48.0  (landing page)
Pedro Lopez-Romero
git_last_commit: 4c163b1
git_last_commit_date: 2022-11-01 11:04:37 -0400
nebbiolo2Linux (Ubuntu 20.04.5 LTS) / x86_64  OK    OK    OK  UNNEEDED, same version is already published
palomino4Windows Server 2022 Datacenter / x64  OK    OK    OK    OK  UNNEEDED, same version is already published
lconwaymacOS 12.5.1 Monterey / x86_64  OK    OK    OK    OK  UNNEEDED, same version is already published
Package 36/2183HostnameOS / ArchINSTALLBUILDCHECKBUILD BIN
AIMS 1.30.0  (landing page)
Eric R Paquet
git_last_commit: 2ab6115
git_last_commit_date: 2022-11-01 11:10:48 -0400
nebbiolo2Linux (Ubuntu 20.04.5 LTS) / x86_64  OK    OK    OK  UNNEEDED, same version is already published
palomino4Windows Server 2022 Datacenter / x64  OK    OK    OK    OK  UNNEEDED, same version is already published
lconwaymacOS 12.5.1 Monterey / x86_64  OK    OK    OK    OK  UNNEEDED, same version is already published
Package 37/2183HostnameOS / ArchINSTALLBUILDCHECKBUILD BIN
airpart 1.6.0  (landing page)
Wancen Mu
git_last_commit: 99d4cc8
git_last_commit_date: 2022-11-01 11:24:28 -0400
nebbiolo2Linux (Ubuntu 20.04.5 LTS) / x86_64  OK    OK    OK  UNNEEDED, same version is already published
palomino4Windows Server 2022 Datacenter / x64  OK    OK    OK    OK  UNNEEDED, same version is already published
lconwaymacOS 12.5.1 Monterey / x86_64  OK    OK    OK    OK  UNNEEDED, same version is already published
Package 38/2183HostnameOS / ArchINSTALLBUILDCHECKBUILD BIN
ALDEx2 1.30.0  (landing page)
Greg Gloor
git_last_commit: cb66705
git_last_commit_date: 2022-11-01 11:10:23 -0400
nebbiolo2Linux (Ubuntu 20.04.5 LTS) / x86_64  OK    OK    OK  UNNEEDED, same version is already published
palomino4Windows Server 2022 Datacenter / x64  OK    OK    OK    OK  UNNEEDED, same version is already published
lconwaymacOS 12.5.1 Monterey / x86_64  OK    OK    OK    OK  UNNEEDED, same version is already published
Package 39/2183HostnameOS / ArchINSTALLBUILDCHECKBUILD BIN
alevinQC 1.14.0  (landing page)
Charlotte Soneson
git_last_commit: 5e726f6
git_last_commit_date: 2022-11-01 11:19:17 -0400
nebbiolo2Linux (Ubuntu 20.04.5 LTS) / x86_64  OK    OK    OK  UNNEEDED, same version is already published
palomino4Windows Server 2022 Datacenter / x64  OK    OK    OK    OK  UNNEEDED, same version is already published
lconwaymacOS 12.5.1 Monterey / x86_64  OK    OK    OK    OK  UNNEEDED, same version is already published
Package 40/2183HostnameOS / ArchINSTALLBUILDCHECKBUILD BIN
AllelicImbalance 1.36.0  (landing page)
Jesper R Gadin
git_last_commit: cb4910c
git_last_commit_date: 2022-11-01 11:08:46 -0400
nebbiolo2Linux (Ubuntu 20.04.5 LTS) / x86_64  OK    OK    OK  UNNEEDED, same version is already published
palomino4Windows Server 2022 Datacenter / x64  OK    OK    OK    OK  UNNEEDED, same version is already published
lconwaymacOS 12.5.1 Monterey / x86_64  OK    OK    OK    OK  UNNEEDED, same version is already published
Package 41/2183HostnameOS / ArchINSTALLBUILDCHECKBUILD BIN
AlphaBeta 1.12.0  (landing page)
Yadollah Shahryary Dizaji
git_last_commit: 87dba7e
git_last_commit_date: 2022-11-01 11:20:18 -0400
nebbiolo2Linux (Ubuntu 20.04.5 LTS) / x86_64  OK    OK    OK  UNNEEDED, same version is already published
palomino4Windows Server 2022 Datacenter / x64  OK    OK    OK    OK  UNNEEDED, same version is already published
lconwaymacOS 12.5.1 Monterey / x86_64  OK    OK    OK    OK  UNNEEDED, same version is already published
Package 42/2183HostnameOS / ArchINSTALLBUILDCHECKBUILD BIN
alpine 1.24.0  (landing page)
Michael Love
git_last_commit: 7e734d4
git_last_commit_date: 2022-11-01 11:14:18 -0400
nebbiolo2Linux (Ubuntu 20.04.5 LTS) / x86_64  OK    OK    OK  UNNEEDED, same version is already published
palomino4Windows Server 2022 Datacenter / x64  OK    OK    OK    OK  UNNEEDED, same version is already published
lconwaymacOS 12.5.1 Monterey / x86_64  OK    OK    OK    OK  UNNEEDED, same version is already published
Package 43/2183HostnameOS / ArchINSTALLBUILDCHECKBUILD BIN
AlpsNMR 4.0.4  (landing page)
Sergio Oller Moreno
git_last_commit: 4766d78
git_last_commit_date: 2023-02-16 04:06:12 -0400
nebbiolo2Linux (Ubuntu 20.04.5 LTS) / x86_64  OK    OK    OK  UNNEEDED, same version is already published
palomino4Windows Server 2022 Datacenter / x64  OK    OK    OK    OK  UNNEEDED, same version is already published
lconwaymacOS 12.5.1 Monterey / x86_64  OK    OK    OK    OK  UNNEEDED, same version is already published
Package 44/2183HostnameOS / ArchINSTALLBUILDCHECKBUILD BIN
altcdfenvs 2.60.0  (landing page)
Laurent Gautier
git_last_commit: 0bc0b44
git_last_commit_date: 2022-11-01 10:36:55 -0400
nebbiolo2Linux (Ubuntu 20.04.5 LTS) / x86_64  OK    OK    OK  UNNEEDED, same version is already published
palomino4Windows Server 2022 Datacenter / x64  OK    OK    OK    OK  UNNEEDED, same version is already published
lconwaymacOS 12.5.1 Monterey / x86_64  OK    OK    OK    OK  UNNEEDED, same version is already published
Package 45/2183HostnameOS / ArchINSTALLBUILDCHECKBUILD BIN
AMARETTO 1.14.0  (landing page)
Olivier Gevaert
git_last_commit: 3063cca
git_last_commit_date: 2022-11-01 11:19:27 -0400
nebbiolo2Linux (Ubuntu 20.04.5 LTS) / x86_64  OK    OK    ERROR  
palomino4Windows Server 2022 Datacenter / x64  OK    OK    ERROR    OK  
lconwaymacOS 12.5.1 Monterey / x86_64  OK    OK    ERROR    OK  
Package 46/2183HostnameOS / ArchINSTALLBUILDCHECKBUILD BIN
AMOUNTAIN 1.24.0  (landing page)
Dong Li
git_last_commit: 250160e
git_last_commit_date: 2022-11-01 11:14:02 -0400
nebbiolo2Linux (Ubuntu 20.04.5 LTS) / x86_64  OK    OK    OK  UNNEEDED, same version is already published
palomino4Windows Server 2022 Datacenter / x64  OK    OK    OK    OK  UNNEEDED, same version is already published
lconwaymacOS 12.5.1 Monterey / x86_64  OK    OK    OK    OK  UNNEEDED, same version is already published
Package 47/2183HostnameOS / ArchINSTALLBUILDCHECKBUILD BIN
amplican 1.20.0  (landing page)
Eivind Valen
git_last_commit: eafd080
git_last_commit_date: 2022-11-01 11:16:19 -0400
nebbiolo2Linux (Ubuntu 20.04.5 LTS) / x86_64  ERROR    ERROR  skipped
palomino4Windows Server 2022 Datacenter / x64  ERROR    ERROR  skippedskipped
lconwaymacOS 12.5.1 Monterey / x86_64  ERROR    ERROR  skippedskipped
Package 48/2183HostnameOS / ArchINSTALLBUILDCHECKBUILD BIN
Anaquin 2.22.0  (landing page)
Ted Wong
git_last_commit: d848a9b
git_last_commit_date: 2022-11-01 11:14:18 -0400
nebbiolo2Linux (Ubuntu 20.04.5 LTS) / x86_64  OK    OK    OK  UNNEEDED, same version is already published
palomino4Windows Server 2022 Datacenter / x64  OK    OK    OK    OK  UNNEEDED, same version is already published
lconwaymacOS 12.5.1 Monterey / x86_64  OK    OK    OK    OK  UNNEEDED, same version is already published
Package 49/2183HostnameOS / ArchINSTALLBUILDCHECKBUILD BIN
ANCOMBC 2.0.3  (landing page)
Huang Lin
git_last_commit: a6e7415
git_last_commit_date: 2023-03-25 09:01:00 -0400
nebbiolo2Linux (Ubuntu 20.04.5 LTS) / x86_64  OK    OK    ERROR  
palomino4Windows Server 2022 Datacenter / x64  OK    OK    OK    OK  UNNEEDED, same version is already published
lconwaymacOS 12.5.1 Monterey / x86_64  OK    OK    OK    OK  UNNEEDED, same version is already published
Package 50/2183HostnameOS / ArchINSTALLBUILDCHECKBUILD BIN
AneuFinder 1.26.0  (landing page)
Aaron Taudt
git_last_commit: 7cd59a1
git_last_commit_date: 2022-11-01 11:13:19 -0400
nebbiolo2Linux (Ubuntu 20.04.5 LTS) / x86_64  ERROR    ERROR  skipped
palomino4Windows Server 2022 Datacenter / x64  ERROR    ERROR  skippedskipped
lconwaymacOS 12.5.1 Monterey / x86_64  ERROR    ERROR  skippedskipped
Package 51/2183HostnameOS / ArchINSTALLBUILDCHECKBUILD BIN
ANF 1.20.0  (landing page)
Tianle Ma
git_last_commit: 91157e7
git_last_commit_date: 2022-11-01 11:16:30 -0400
nebbiolo2Linux (Ubuntu 20.04.5 LTS) / x86_64  OK    OK    OK  UNNEEDED, same version is already published
palomino4Windows Server 2022 Datacenter / x64  OK    OK    OK    OK  UNNEEDED, same version is already published
lconwaymacOS 12.5.1 Monterey / x86_64  OK    OK    OK    OK  UNNEEDED, same version is already published
Package 52/2183HostnameOS / ArchINSTALLBUILDCHECKBUILD BIN
animalcules 1.14.0  (landing page)
Yue Zhao
git_last_commit: bac5a33
git_last_commit_date: 2022-11-01 11:19:53 -0400
nebbiolo2Linux (Ubuntu 20.04.5 LTS) / x86_64  OK    OK    WARNINGS  UNNEEDED, same version is already published
palomino4Windows Server 2022 Datacenter / x64  OK    OK    WARNINGS    OK  UNNEEDED, same version is already published
lconwaymacOS 12.5.1 Monterey / x86_64  OK    OK    WARNINGS    OK  UNNEEDED, same version is already published
Package 53/2183HostnameOS / ArchINSTALLBUILDCHECKBUILD BIN
annaffy 1.70.0  (landing page)
Colin A. Smith
git_last_commit: c99e812
git_last_commit_date: 2022-11-01 10:35:52 -0400
nebbiolo2Linux (Ubuntu 20.04.5 LTS) / x86_64  OK    OK    WARNINGS  UNNEEDED, same version is already published
palomino4Windows Server 2022 Datacenter / x64  OK    OK    WARNINGS    OK  UNNEEDED, same version is already published
lconwaymacOS 12.5.1 Monterey / x86_64  OK    OK    WARNINGS    OK  UNNEEDED, same version is already published
Package 54/2183HostnameOS / ArchINSTALLBUILDCHECKBUILD BIN
annmap 1.40.0  (landing page)
Chris Wirth
git_last_commit: 02e02b1
git_last_commit_date: 2022-11-01 11:07:03 -0400
nebbiolo2Linux (Ubuntu 20.04.5 LTS) / x86_64  OK    OK    WARNINGS  UNNEEDED, same version is already published
palomino4Windows Server 2022 Datacenter / x64... NOT SUPPORTED ...
lconwaymacOS 12.5.1 Monterey / x86_64  OK    OK    WARNINGS    OK  UNNEEDED, same version is already published
Package 55/2183HostnameOS / ArchINSTALLBUILDCHECKBUILD BIN
annotate 1.76.0  (landing page)
Bioconductor Package Maintainer
git_last_commit: 0181d5c
git_last_commit_date: 2022-11-01 10:34:51 -0400
nebbiolo2Linux (Ubuntu 20.04.5 LTS) / x86_64  OK    OK    OK  UNNEEDED, same version is already published
palomino4Windows Server 2022 Datacenter / x64  OK    OK    ERROR    OK  
lconwaymacOS 12.5.1 Monterey / x86_64  OK    OK    OK    OK  UNNEEDED, same version is already published
Package 56/2183HostnameOS / ArchINSTALLBUILDCHECKBUILD BIN
AnnotationDbi 1.60.2  (landing page)
Bioconductor Package Maintainer
git_last_commit: eebebb2
git_last_commit_date: 2023-03-09 16:47:17 -0400
nebbiolo2Linux (Ubuntu 20.04.5 LTS) / x86_64  OK    OK    OK  UNNEEDED, same version is already published
palomino4Windows Server 2022 Datacenter / x64  OK    OK    OK    OK  UNNEEDED, same version is already published
lconwaymacOS 12.5.1 Monterey / x86_64  OK    OK    OK    OK  UNNEEDED, same version is already published
Package 57/2183HostnameOS / ArchINSTALLBUILDCHECKBUILD BIN
AnnotationFilter 1.22.0  (landing page)
Bioconductor Package Maintainer
git_last_commit: c9fea4a
git_last_commit_date: 2022-11-01 11:15:27 -0400
nebbiolo2Linux (Ubuntu 20.04.5 LTS) / x86_64  OK    OK    OK  UNNEEDED, same version is already published
palomino4Windows Server 2022 Datacenter / x64  OK    OK    OK    OK  UNNEEDED, same version is already published
lconwaymacOS 12.5.1 Monterey / x86_64  OK    OK    OK    OK  UNNEEDED, same version is already published
Package 58/2183HostnameOS / ArchINSTALLBUILDCHECKBUILD BIN
AnnotationForge 1.40.2  (landing page)
Bioconductor Package Maintainer
git_last_commit: 17653c7
git_last_commit_date: 2023-03-25 16:39:02 -0400
nebbiolo2Linux (Ubuntu 20.04.5 LTS) / x86_64  OK    OK    OK  UNNEEDED, same version is already published
palomino4Windows Server 2022 Datacenter / x64  OK    OK    OK    OK  UNNEEDED, same version is already published
lconwaymacOS 12.5.1 Monterey / x86_64  OK    OK    OK    OK  UNNEEDED, same version is already published
Package 59/2183HostnameOS / ArchINSTALLBUILDCHECKBUILD BIN
AnnotationHub 3.6.0  (landing page)
Bioconductor Package Maintainer
git_last_commit: 3315a73
git_last_commit_date: 2022-11-01 11:08:05 -0400
nebbiolo2Linux (Ubuntu 20.04.5 LTS) / x86_64  OK    OK    ERROR  
palomino4Windows Server 2022 Datacenter / x64  OK    OK    ERROR    OK  
lconwaymacOS 12.5.1 Monterey / x86_64  OK    OK    ERROR    OK  
Package 60/2183HostnameOS / ArchINSTALLBUILDCHECKBUILD BIN
AnnotationHubData 1.28.0  (landing page)
Bioconductor Package Maintainer
git_last_commit: 37f43f7
git_last_commit_date: 2022-11-01 11:12:08 -0400
nebbiolo2Linux (Ubuntu 20.04.5 LTS) / x86_64  OK    OK    WARNINGS  UNNEEDED, same version is already published
palomino4Windows Server 2022 Datacenter / x64  OK    OK    WARNINGS    OK  UNNEEDED, same version is already published
lconwaymacOS 12.5.1 Monterey / x86_64  OK    OK    WARNINGS    OK  UNNEEDED, same version is already published
Package 61/2183HostnameOS / ArchINSTALLBUILDCHECKBUILD BIN
annotationTools 1.72.0  (landing page)
Alexandre Kuhn
git_last_commit: 62cafbb
git_last_commit_date: 2022-11-01 11:03:20 -0400
nebbiolo2Linux (Ubuntu 20.04.5 LTS) / x86_64  OK    OK    OK  UNNEEDED, same version is already published
palomino4Windows Server 2022 Datacenter / x64  OK    OK    OK    OK  UNNEEDED, same version is already published
lconwaymacOS 12.5.1 Monterey / x86_64  OK    OK    OK    OK  UNNEEDED, same version is already published
Package 62/2183HostnameOS / ArchINSTALLBUILDCHECKBUILD BIN
annotatr 1.24.0  (landing page)
Raymond G. Cavalcante
git_last_commit: 84619b5
git_last_commit_date: 2022-11-01 11:14:43 -0400
nebbiolo2Linux (Ubuntu 20.04.5 LTS) / x86_64  OK    OK    OK  UNNEEDED, same version is already published
palomino4Windows Server 2022 Datacenter / x64  OK    OK    OK    OK  UNNEEDED, same version is already published
lconwaymacOS 12.5.1 Monterey / x86_64  OK    OK    OK    OK  UNNEEDED, same version is already published
Package 63/2183HostnameOS / ArchINSTALLBUILDCHECKBUILD BIN
anota 1.46.0  (landing page)
Ola Larsson
git_last_commit: 9a0deb2
git_last_commit_date: 2022-11-01 11:05:53 -0400
nebbiolo2Linux (Ubuntu 20.04.5 LTS) / x86_64  OK    OK    OK  UNNEEDED, same version is already published
palomino4Windows Server 2022 Datacenter / x64  OK    OK    OK    OK  UNNEEDED, same version is already published
lconwaymacOS 12.5.1 Monterey / x86_64  OK    OK    OK    OK  UNNEEDED, same version is already published
Package 64/2183HostnameOS / ArchINSTALLBUILDCHECKBUILD BIN
anota2seq 1.20.0  (landing page)
Christian Oertlin , Julie Lorent
git_last_commit: ae46d48
git_last_commit_date: 2022-11-01 11:16:31 -0400
nebbiolo2Linux (Ubuntu 20.04.5 LTS) / x86_64  OK    OK    WARNINGS  UNNEEDED, same version is already published
palomino4Windows Server 2022 Datacenter / x64  OK    OK    OK    OK  UNNEEDED, same version is already published
lconwaymacOS 12.5.1 Monterey / x86_64  OK    OK    OK    OK  UNNEEDED, same version is already published
Package 65/2183HostnameOS / ArchINSTALLBUILDCHECKBUILD BIN
antiProfiles 1.38.0  (landing page)
Hector Corrada Bravo
git_last_commit: c3d409f
git_last_commit_date: 2022-11-01 11:08:09 -0400
nebbiolo2Linux (Ubuntu 20.04.5 LTS) / x86_64  OK    OK    OK  UNNEEDED, same version is already published
palomino4Windows Server 2022 Datacenter / x64  OK    OK    OK    OK  UNNEEDED, same version is already published
lconwaymacOS 12.5.1 Monterey / x86_64  OK    OK    OK    OK  UNNEEDED, same version is already published
Package 66/2183HostnameOS / ArchINSTALLBUILDCHECKBUILD BIN
AnVIL 1.10.2  (landing page)
Martin Morgan
git_last_commit: 38838f0
git_last_commit_date: 2023-03-23 13:59:35 -0400
nebbiolo2Linux (Ubuntu 20.04.5 LTS) / x86_64  OK    OK    OK  UNNEEDED, same version is already published
palomino4Windows Server 2022 Datacenter / x64  OK    OK    OK    OK  UNNEEDED, same version is already published
lconwaymacOS 12.5.1 Monterey / x86_64  OK    OK    OK    OK  UNNEEDED, same version is already published
Package 67/2183HostnameOS / ArchINSTALLBUILDCHECKBUILD BIN
AnVILBilling 1.8.0  (landing page)
Vince Carey
git_last_commit: efdc1c8
git_last_commit_date: 2022-11-01 11:23:16 -0400
nebbiolo2Linux (Ubuntu 20.04.5 LTS) / x86_64  OK    OK    OK  UNNEEDED, same version is already published
palomino4Windows Server 2022 Datacenter / x64  OK    OK    OK    OK  UNNEEDED, same version is already published
lconwaymacOS 12.5.1 Monterey / x86_64  OK    OK    OK    OK  UNNEEDED, same version is already published
Package 68/2183HostnameOS / ArchINSTALLBUILDCHECKBUILD BIN
AnVILPublish 1.8.0  (landing page)
Martin Morgan
git_last_commit: 4f47cca
git_last_commit_date: 2022-11-01 11:23:10 -0400
nebbiolo2Linux (Ubuntu 20.04.5 LTS) / x86_64  OK    OK    OK  UNNEEDED, same version is already published
palomino4Windows Server 2022 Datacenter / x64  OK    OK    OK    OK  UNNEEDED, same version is already published
lconwaymacOS 12.5.1 Monterey / x86_64  OK    OK    OK    OK  UNNEEDED, same version is already published
Package 69/2183HostnameOS / ArchINSTALLBUILDCHECKBUILD BIN
APAlyzer 1.12.0  (landing page)
Ruijia Wang
git_last_commit: 46cf23c
git_last_commit_date: 2022-11-01 11:20:19 -0400
nebbiolo2Linux (Ubuntu 20.04.5 LTS) / x86_64  OK    OK    WARNINGS  UNNEEDED, same version is already published
palomino4Windows Server 2022 Datacenter / x64  OK    OK    WARNINGS    OK  UNNEEDED, same version is already published
lconwaymacOS 12.5.1 Monterey / x86_64  OK    OK    WARNINGS    OK  UNNEEDED, same version is already published
Package 70/2183HostnameOS / ArchINSTALLBUILDCHECKBUILD BIN
apComplex 2.64.0  (landing page)
Denise Scholtens
git_last_commit: d2667d0
git_last_commit_date: 2022-11-01 10:38:32 -0400
nebbiolo2Linux (Ubuntu 20.04.5 LTS) / x86_64  OK    OK    OK  UNNEEDED, same version is already published
palomino4Windows Server 2022 Datacenter / x64  OK    OK    OK    OK  UNNEEDED, same version is already published
lconwaymacOS 12.5.1 Monterey / x86_64  OK    OK    OK    OK  UNNEEDED, same version is already published
Package 71/2183HostnameOS / ArchINSTALLBUILDCHECKBUILD BIN
apeglm 1.20.0  (landing page)
Anqi Zhu
git_last_commit: 213e75c
git_last_commit_date: 2022-11-01 11:16:16 -0400
nebbiolo2Linux (Ubuntu 20.04.5 LTS) / x86_64  OK    OK    OK  UNNEEDED, same version is already published
palomino4Windows Server 2022 Datacenter / x64  OK    OK    OK    OK  UNNEEDED, same version is already published
lconwaymacOS 12.5.1 Monterey / x86_64  OK    OK    OK    OK  UNNEEDED, same version is already published
Package 72/2183HostnameOS / ArchINSTALLBUILDCHECKBUILD BIN
APL 1.2.0  (landing page)
Elzbieta Gralinska
git_last_commit: 32354e4
git_last_commit_date: 2022-11-01 11:27:04 -0400
nebbiolo2Linux (Ubuntu 20.04.5 LTS) / x86_64  OK    OK    OK  UNNEEDED, same version is already published
palomino4Windows Server 2022 Datacenter / x64  OK    OK    OK    OK  UNNEEDED, same version is already published
lconwaymacOS 12.5.1 Monterey / x86_64  OK    OK    OK    OK  UNNEEDED, same version is already published
Package 73/2183HostnameOS / ArchINSTALLBUILDCHECKBUILD BIN
appreci8R 1.16.0  (landing page)
Sarah Sandmann
git_last_commit: e035de3
git_last_commit_date: 2022-11-01 11:18:06 -0400
nebbiolo2Linux (Ubuntu 20.04.5 LTS) / x86_64  OK    OK    OK  UNNEEDED, same version is already published
palomino4Windows Server 2022 Datacenter / x64  OK    OK    OK    OK  UNNEEDED, same version is already published
lconwaymacOS 12.5.1 Monterey / x86_64  OK    OK    OK    OK  UNNEEDED, same version is already published
Package 74/2183HostnameOS / ArchINSTALLBUILDCHECKBUILD BIN
aroma.light 3.28.0  (landing page)
Henrik Bengtsson
git_last_commit: 7749dd7
git_last_commit_date: 2022-11-01 16:45:04 -0400
nebbiolo2Linux (Ubuntu 20.04.5 LTS) / x86_64  OK    OK    OK  UNNEEDED, same version is already published
palomino4Windows Server 2022 Datacenter / x64  OK    OK    OK    OK  UNNEEDED, same version is already published
lconwaymacOS 12.5.1 Monterey / x86_64  OK    OK    OK    OK  UNNEEDED, same version is already published
Package 75/2183HostnameOS / ArchINSTALLBUILDCHECKBUILD BIN
ArrayExpress 1.58.0  (landing page)
Suhaib Mohammed
git_last_commit: 7e73b1a
git_last_commit_date: 2022-11-01 11:04:06 -0400
nebbiolo2Linux (Ubuntu 20.04.5 LTS) / x86_64  OK    ERROR  skipped
palomino4Windows Server 2022 Datacenter / x64  OK    ERROR  skippedskipped
lconwaymacOS 12.5.1 Monterey / x86_64  OK    ERROR  skippedskipped
Package 76/2183HostnameOS / ArchINSTALLBUILDCHECKBUILD BIN
ArrayExpressHTS 1.48.0  (landing page)
Angela Goncalves , Andrew Tikhonov
git_last_commit: 3dbd3e8
git_last_commit_date: 2022-11-01 11:05:54 -0400
nebbiolo2Linux (Ubuntu 20.04.5 LTS) / x86_64  ERROR    ERROR  skipped
palomino4Windows Server 2022 Datacenter / x64... NOT SUPPORTED ...
lconwaymacOS 12.5.1 Monterey / x86_64  ERROR    ERROR  skippedskipped
Package 77/2183HostnameOS / ArchINSTALLBUILDCHECKBUILD BIN
arrayMvout 1.56.0  (landing page)
V. Carey
git_last_commit: 252dbe6
git_last_commit_date: 2022-11-01 11:04:11 -0400
nebbiolo2Linux (Ubuntu 20.04.5 LTS) / x86_64  OK    OK    OK  UNNEEDED, same version is already published
palomino4Windows Server 2022 Datacenter / x64  OK    OK    OK    OK  UNNEEDED, same version is already published
lconwaymacOS 12.5.1 Monterey / x86_64  OK    OK    OK    OK  UNNEEDED, same version is already published
Package 78/2183HostnameOS / ArchINSTALLBUILDCHECKBUILD BIN
arrayQuality 1.76.0  (landing page)
Agnes Paquet
git_last_commit: 7836fa3
git_last_commit_date: 2022-11-01 10:36:58 -0400
nebbiolo2Linux (Ubuntu 20.04.5 LTS) / x86_64  OK    OK    WARNINGS  UNNEEDED, same version is already published
palomino4Windows Server 2022 Datacenter / x64  OK    OK    WARNINGS    OK  UNNEEDED, same version is already published
lconwaymacOS 12.5.1 Monterey / x86_64  OK    OK    WARNINGS    OK  UNNEEDED, same version is already published
Package 79/2183HostnameOS / ArchINSTALLBUILDCHECKBUILD BIN
arrayQualityMetrics 3.54.0  (landing page)
Mike Smith
git_last_commit: 8dfb5dd
git_last_commit_date: 2022-11-01 11:03:33 -0400
nebbiolo2Linux (Ubuntu 20.04.5 LTS) / x86_64  OK    OK    OK  UNNEEDED, same version is already published
palomino4Windows Server 2022 Datacenter / x64  OK    OK    OK    OK  UNNEEDED, same version is already published
lconwaymacOS 12.5.1 Monterey / x86_64  OK    OK    OK    OK  UNNEEDED, same version is already published
Package 80/2183HostnameOS / ArchINSTALLBUILDCHECKBUILD BIN
ARRmNormalization 1.38.0  (landing page)
Jean-Philippe Fortin
git_last_commit: 0f4adf3
git_last_commit_date: 2022-11-01 11:07:56 -0400
nebbiolo2Linux (Ubuntu 20.04.5 LTS) / x86_64  OK    OK    OK  UNNEEDED, same version is already published
palomino4Windows Server 2022 Datacenter / x64  OK    OK    OK    OK  UNNEEDED, same version is already published
lconwaymacOS 12.5.1 Monterey / x86_64  OK    OK    OK    OK  UNNEEDED, same version is already published
Package 81/2183HostnameOS / ArchINSTALLBUILDCHECKBUILD BIN
artMS 1.16.0  (landing page)
David Jimenez-Morales
git_last_commit: 0633a95
git_last_commit_date: 2022-11-01 11:18:48 -0400
nebbiolo2Linux (Ubuntu 20.04.5 LTS) / x86_64  OK    OK    OK  UNNEEDED, same version is already published
palomino4Windows Server 2022 Datacenter / x64  OK    OK    OK    OK  UNNEEDED, same version is already published
lconwaymacOS 12.5.1 Monterey / x86_64  OK    OK    OK    OK  UNNEEDED, same version is already published
Package 82/2183HostnameOS / ArchINSTALLBUILDCHECKBUILD BIN
ASAFE 1.24.0  (landing page)
Qian Zhang
git_last_commit: 732a2e9
git_last_commit_date: 2022-11-01 11:14:06 -0400
nebbiolo2Linux (Ubuntu 20.04.5 LTS) / x86_64  OK    OK    OK  UNNEEDED, same version is already published
palomino4Windows Server 2022 Datacenter / x64  OK    OK    OK    OK  UNNEEDED, same version is already published
lconwaymacOS 12.5.1 Monterey / x86_64  OK    OK    OK    OK  UNNEEDED, same version is already published
Package 83/2183HostnameOS / ArchINSTALLBUILDCHECKBUILD BIN
ASEB 1.42.0  (landing page)
Likun Wang
git_last_commit: dd736b5
git_last_commit_date: 2022-11-01 11:06:34 -0400
nebbiolo2Linux (Ubuntu 20.04.5 LTS) / x86_64  OK    OK    OK  UNNEEDED, same version is already published
palomino4Windows Server 2022 Datacenter / x64  OK    OK    OK    OK  UNNEEDED, same version is already published
lconwaymacOS 12.5.1 Monterey / x86_64  OK    OK    WARNINGS    OK  UNNEEDED, same version is already published
Package 84/2183HostnameOS / ArchINSTALLBUILDCHECKBUILD BIN
ASGSCA 1.32.0  (landing page)
Hela Romdhani
git_last_commit: 4cbd6c7
git_last_commit_date: 2022-11-01 11:10:28 -0400
nebbiolo2Linux (Ubuntu 20.04.5 LTS) / x86_64  OK    OK    OK  UNNEEDED, same version is already published
palomino4Windows Server 2022 Datacenter / x64  OK    OK    OK    OK  UNNEEDED, same version is already published
lconwaymacOS 12.5.1 Monterey / x86_64  OK    OK    OK    OK  UNNEEDED, same version is already published
Package 85/2183HostnameOS / ArchINSTALLBUILDCHECKBUILD BIN
ASICS 2.14.0  (landing page)
Gaëlle Lefort
git_last_commit: 57b60cb
git_last_commit_date: 2022-11-01 11:17:27 -0400
nebbiolo2Linux (Ubuntu 20.04.5 LTS) / x86_64  OK    OK    OK  UNNEEDED, same version is already published
palomino4Windows Server 2022 Datacenter / x64  OK    OK    OK    OK  UNNEEDED, same version is already published
lconwaymacOS 12.5.1 Monterey / x86_64  OK    OK    OK    OK  UNNEEDED, same version is already published
Package 86/2183HostnameOS / ArchINSTALLBUILDCHECKBUILD BIN
ASpediaFI 1.12.0  (landing page)
Doyeong Yu
git_last_commit: ad0dc91
git_last_commit_date: 2022-11-01 11:20:47 -0400
nebbiolo2Linux (Ubuntu 20.04.5 LTS) / x86_64  ERROR    ERROR  skipped
palomino4Windows Server 2022 Datacenter / x64  ERROR    ERROR  skippedskipped
lconwaymacOS 12.5.1 Monterey / x86_64  ERROR    ERROR  skippedskipped
Package 87/2183HostnameOS / ArchINSTALLBUILDCHECKBUILD BIN
ASpli 2.8.0  (landing page)
Estefania Mancini
git_last_commit: ff40685
git_last_commit_date: 2022-11-01 11:14:10 -0400
nebbiolo2Linux (Ubuntu 20.04.5 LTS) / x86_64  OK    OK    OK  UNNEEDED, same version is already published
palomino4Windows Server 2022 Datacenter / x64  OK    OK    OK    OK  UNNEEDED, same version is already published
lconwaymacOS 12.5.1 Monterey / x86_64  OK    OK    OK    OK  UNNEEDED, same version is already published
Package 88/2183HostnameOS / ArchINSTALLBUILDCHECKBUILD BIN
AssessORF 1.16.0  (landing page)
Deepank Korandla
git_last_commit: 0a35f1b
git_last_commit_date: 2022-11-01 11:18:47 -0400
nebbiolo2Linux (Ubuntu 20.04.5 LTS) / x86_64  OK    OK    OK  UNNEEDED, same version is already published
palomino4Windows Server 2022 Datacenter / x64  OK    OK    OK    OK  UNNEEDED, same version is already published
lconwaymacOS 12.5.1 Monterey / x86_64  OK    OK    OK    OK  UNNEEDED, same version is already published
Package 89/2183HostnameOS / ArchINSTALLBUILDCHECKBUILD BIN
ASSET 2.16.0  (landing page)
Samsiddhi Bhattacharjee
git_last_commit: 10c22c3
git_last_commit_date: 2022-11-01 11:08:36 -0400
nebbiolo2Linux (Ubuntu 20.04.5 LTS) / x86_64  OK    OK    OK  UNNEEDED, same version is already published
palomino4Windows Server 2022 Datacenter / x64  OK    OK    OK    OK  UNNEEDED, same version is already published
lconwaymacOS 12.5.1 Monterey / x86_64  OK    OK    OK    OK  UNNEEDED, same version is already published
Package 90/2183HostnameOS / ArchINSTALLBUILDCHECKBUILD BIN
ASSIGN 1.34.0  (landing page)
Ying Shen , W. Evan Johnson
git_last_commit: 5b656c6
git_last_commit_date: 2022-11-01 11:09:27 -0400
nebbiolo2Linux (Ubuntu 20.04.5 LTS) / x86_64  OK    OK    OK  UNNEEDED, same version is already published
palomino4Windows Server 2022 Datacenter / x64  OK    OK    OK    OK  UNNEEDED, same version is already published
lconwaymacOS 12.5.1 Monterey / x86_64  OK    OK    OK    OK  UNNEEDED, same version is already published
Package 91/2183HostnameOS / ArchINSTALLBUILDCHECKBUILD BIN
ASURAT 1.2.0  (landing page)
Keita Iida
git_last_commit: c986006
git_last_commit_date: 2022-11-01 11:26:43 -0400
nebbiolo2Linux (Ubuntu 20.04.5 LTS) / x86_64  OK    OK    OK  UNNEEDED, same version is already published
palomino4Windows Server 2022 Datacenter / x64  OK    OK    OK    OK  UNNEEDED, same version is already published
lconwaymacOS 12.5.1 Monterey / x86_64  OK    OK    OK    OK  UNNEEDED, same version is already published
Package 92/2183HostnameOS / ArchINSTALLBUILDCHECKBUILD BIN
ATACCoGAPS 1.0.0  (landing page)
Rossin Erbe
git_last_commit: f320695
git_last_commit_date: 2022-11-01 11:27:16 -0400
nebbiolo2Linux (Ubuntu 20.04.5 LTS) / x86_64  OK    OK    OK  UNNEEDED, same version is already published
palomino4Windows Server 2022 Datacenter / x64  OK    OK    OK    OK  UNNEEDED, same version is already published
lconwaymacOS 12.5.1 Monterey / x86_64  OK    OK    OK    OK  UNNEEDED, same version is already published
Package 93/2183HostnameOS / ArchINSTALLBUILDCHECKBUILD BIN
ATACseqQC 1.22.0  (landing page)
Jianhong Ou
git_last_commit: be03c44
git_last_commit_date: 2022-11-01 11:15:41 -0400
nebbiolo2Linux (Ubuntu 20.04.5 LTS) / x86_64  OK    OK    OK  UNNEEDED, same version is already published
palomino4Windows Server 2022 Datacenter / x64  OK    OK    OK    OK  UNNEEDED, same version is already published
lconwaymacOS 12.5.1 Monterey / x86_64  OK    OK    OK    OK  UNNEEDED, same version is already published
Package 94/2183HostnameOS / ArchINSTALLBUILDCHECKBUILD BIN
ATACseqTFEA 1.0.1  (landing page)
Jianhong Ou
git_last_commit: ba0fb29
git_last_commit_date: 2022-11-04 14:12:12 -0400
nebbiolo2Linux (Ubuntu 20.04.5 LTS) / x86_64  OK    OK    OK  UNNEEDED, same version is already published
palomino4Windows Server 2022 Datacenter / x64  OK    OK    OK    OK  UNNEEDED, same version is already published
lconwaymacOS 12.5.1 Monterey / x86_64  OK    OK    OK    OK  UNNEEDED, same version is already published
Package 95/2183HostnameOS / ArchINSTALLBUILDCHECKBUILD BIN
atena 1.4.1  (landing page)
Beatriz Calvo-Serra
git_last_commit: c41a0fb
git_last_commit_date: 2023-02-03 09:18:06 -0400
nebbiolo2Linux (Ubuntu 20.04.5 LTS) / x86_64  OK    OK    OK  UNNEEDED, same version is already published
palomino4Windows Server 2022 Datacenter / x64  OK    OK    OK    OK  UNNEEDED, same version is already published
lconwaymacOS 12.5.1 Monterey / x86_64  OK    OK    OK    OK  UNNEEDED, same version is already published
Package 96/2183HostnameOS / ArchINSTALLBUILDCHECKBUILD BIN
atSNP 1.14.0  (landing page)
Sunyoung Shin
git_last_commit: a71f2c5
git_last_commit_date: 2022-11-01 11:19:16 -0400
nebbiolo2Linux (Ubuntu 20.04.5 LTS) / x86_64  OK    OK    OK  UNNEEDED, same version is already published
palomino4Windows Server 2022 Datacenter / x64  OK    OK    OK    OK  UNNEEDED, same version is already published
lconwaymacOS 12.5.1 Monterey / x86_64  OK    OK    OK    OK  UNNEEDED, same version is already published
Package 97/2183HostnameOS / ArchINSTALLBUILDCHECKBUILD BIN
attract 1.50.0  (landing page)
Samuel Zimmerman
git_last_commit: 2df810f
git_last_commit_date: 2022-11-01 11:05:07 -0400
nebbiolo2Linux (Ubuntu 20.04.5 LTS) / x86_64  OK    OK    OK  UNNEEDED, same version is already published
palomino4Windows Server 2022 Datacenter / x64  OK    OK    OK    OK  UNNEEDED, same version is already published
lconwaymacOS 12.5.1 Monterey / x86_64  OK    OK    OK    OK  UNNEEDED, same version is already published
Package 98/2183HostnameOS / ArchINSTALLBUILDCHECKBUILD BIN
AUCell 1.20.2  (landing page)
Sara Aibar
git_last_commit: 1822d37
git_last_commit_date: 2022-12-01 10:43:21 -0400
nebbiolo2Linux (Ubuntu 20.04.5 LTS) / x86_64  OK    OK    OK  UNNEEDED, same version is already published
palomino4Windows Server 2022 Datacenter / x64  OK    OK    OK    OK  UNNEEDED, same version is already published
lconwaymacOS 12.5.1 Monterey / x86_64  OK    OK    OK    OK  UNNEEDED, same version is already published
Package 99/2183HostnameOS / ArchINSTALLBUILDCHECKBUILD BIN
autonomics 1.6.0  (landing page)
Aditya Bhagwat
git_last_commit: 6768188
git_last_commit_date: 2022-11-01 11:24:11 -0400
nebbiolo2Linux (Ubuntu 20.04.5 LTS) / x86_64  OK    OK    WARNINGS  UNNEEDED, same version is already published
palomino4Windows Server 2022 Datacenter / x64  OK    OK    WARNINGS    OK  UNNEEDED, same version is already published
lconwaymacOS 12.5.1 Monterey / x86_64  OK    OK    WARNINGS    OK  UNNEEDED, same version is already published
Package 100/2183HostnameOS / ArchINSTALLBUILDCHECKBUILD BIN
AWFisher 1.12.0  (landing page)
Zhiguang Huo
git_last_commit: 431750b
git_last_commit_date: 2022-11-01 11:20:10 -0400
nebbiolo2Linux (Ubuntu 20.04.5 LTS) / x86_64  OK    OK    OK  UNNEEDED, same version is already published
palomino4Windows Server 2022 Datacenter / x64  OK    OK    OK    OK  UNNEEDED, same version is already published
lconwaymacOS 12.5.1 Monterey / x86_64  OK    OK    OK    OK  UNNEEDED, same version is already published
Package 101/2183HostnameOS / ArchINSTALLBUILDCHECKBUILD BIN
awst 1.6.0  (landing page)
Davide Risso
git_last_commit: b0c3a99
git_last_commit_date: 2022-11-01 11:24:48 -0400
nebbiolo2Linux (Ubuntu 20.04.5 LTS) / x86_64  OK    OK    OK  UNNEEDED, same version is already published
palomino4Windows Server 2022 Datacenter / x64  OK    OK    OK    OK  UNNEEDED, same version is already published
lconwaymacOS 12.5.1 Monterey / x86_64  OK    OK    OK    OK  UNNEEDED, same version is already published
B
ABCDEFGHIJKLMNOPQRSTUVWXYZ
Package 102/2183HostnameOS / ArchINSTALLBUILDCHECKBUILD BIN
BaalChIP 1.24.0  (landing page)
Ines de Santiago
git_last_commit: d4145fe
git_last_commit_date: 2022-11-01 11:14:26 -0400
nebbiolo2Linux (Ubuntu 20.04.5 LTS) / x86_64  OK    OK    WARNINGS  UNNEEDED, same version is already published
palomino4Windows Server 2022 Datacenter / x64  OK    OK    WARNINGS    OK  UNNEEDED, same version is already published
lconwaymacOS 12.5.1 Monterey / x86_64  OK    OK    WARNINGS    OK  UNNEEDED, same version is already published
Package 103/2183HostnameOS / ArchINSTALLBUILDCHECKBUILD BIN
BAC 1.58.0  (landing page)
Raphael Gottardo
git_last_commit: e43017b
git_last_commit_date: 2022-11-01 11:03:41 -0400
nebbiolo2Linux (Ubuntu 20.04.5 LTS) / x86_64  OK    OK    WARNINGS  UNNEEDED, same version is already published
palomino4Windows Server 2022 Datacenter / x64  OK    OK    WARNINGS    OK  UNNEEDED, same version is already published
lconwaymacOS 12.5.1 Monterey / x86_64  OK    OK    WARNINGS    OK  UNNEEDED, same version is already published
Package 104/2183HostnameOS / ArchINSTALLBUILDCHECKBUILD BIN
bacon 1.26.0  (landing page)
Maarten van Iterson
git_last_commit: 7eec762
git_last_commit_date: 2022-11-01 11:13:09 -0400
nebbiolo2Linux (Ubuntu 20.04.5 LTS) / x86_64  OK    OK    OK  UNNEEDED, same version is already published
palomino4Windows Server 2022 Datacenter / x64  OK    OK    OK    OK  UNNEEDED, same version is already published
lconwaymacOS 12.5.1 Monterey / x86_64  OK    OK    OK    OK  UNNEEDED, same version is already published
Package 105/2183HostnameOS / ArchINSTALLBUILDCHECKBUILD BIN
BADER 1.36.0  (landing page)
Andreas Neudecker
git_last_commit: bb34300
git_last_commit_date: 2022-11-01 11:08:40 -0400
nebbiolo2Linux (Ubuntu 20.04.5 LTS) / x86_64  OK    OK    OK  UNNEEDED, same version is already published
palomino4Windows Server 2022 Datacenter / x64  OK    OK    OK    OK  UNNEEDED, same version is already published
lconwaymacOS 12.5.1 Monterey / x86_64  OK    OK    OK    OK  UNNEEDED, same version is already published
Package 106/2183HostnameOS / ArchINSTALLBUILDCHECKBUILD BIN
BadRegionFinder 1.26.0  (landing page)
Sarah Sandmann
git_last_commit: 328cbd2
git_last_commit_date: 2022-11-01 11:13:25 -0400
nebbiolo2Linux (Ubuntu 20.04.5 LTS) / x86_64  OK    OK    OK  UNNEEDED, same version is already published
palomino4Windows Server 2022 Datacenter / x64  OK    OK    OK    OK  UNNEEDED, same version is already published
lconwaymacOS 12.5.1 Monterey / x86_64  OK    OK    OK    OK  UNNEEDED, same version is already published
Package 107/2183HostnameOS / ArchINSTALLBUILDCHECKBUILD BIN
BAGS 2.38.0  (landing page)
Alejandro Quiroz-Zarate
git_last_commit: c50fe0d
git_last_commit_date: 2022-11-01 11:06:38 -0400
nebbiolo2Linux (Ubuntu 20.04.5 LTS) / x86_64  OK    OK    OK  UNNEEDED, same version is already published
palomino4Windows Server 2022 Datacenter / x64  OK    OK    OK    OK  UNNEEDED, same version is already published
lconwaymacOS 12.5.1 Monterey / x86_64  OK    OK    OK    OK  UNNEEDED, same version is already published
Package 108/2183HostnameOS / ArchINSTALLBUILDCHECKBUILD BIN
ballgown 2.30.0  (landing page)
Jack Fu
git_last_commit: 70655cf
git_last_commit_date: 2022-11-01 11:10:01 -0400
nebbiolo2Linux (Ubuntu 20.04.5 LTS) / x86_64  OK    OK    OK  UNNEEDED, same version is already published
palomino4Windows Server 2022 Datacenter / x64  OK    OK    OK    OK  UNNEEDED, same version is already published
lconwaymacOS 12.5.1 Monterey / x86_64  OK    OK    OK    OK  UNNEEDED, same version is already published
Package 109/2183HostnameOS / ArchINSTALLBUILDCHECKBUILD BIN
bambu 3.0.8  (landing page)
Ying Chen
git_last_commit: a946653
git_last_commit_date: 2023-02-14 20:59:35 -0400
nebbiolo2Linux (Ubuntu 20.04.5 LTS) / x86_64  OK    OK    OK  UNNEEDED, same version is already published
palomino4Windows Server 2022 Datacenter / x64  OK    OK    OK    OK  UNNEEDED, same version is already published
lconwaymacOS 12.5.1 Monterey / x86_64  OK    OK    OK    OK  UNNEEDED, same version is already published
Package 110/2183HostnameOS / ArchINSTALLBUILDCHECKBUILD BIN
bamsignals 1.30.0  (landing page)
Johannes Helmuth
git_last_commit: aac37df
git_last_commit_date: 2022-11-01 11:11:17 -0400
nebbiolo2Linux (Ubuntu 20.04.5 LTS) / x86_64  OK    OK    OK  UNNEEDED, same version is already published
palomino4Windows Server 2022 Datacenter / x64  OK    OK    OK    OK  UNNEEDED, same version is already published
lconwaymacOS 12.5.1 Monterey / x86_64  OK    OK    OK    OK  UNNEEDED, same version is already published
Package 111/2183HostnameOS / ArchINSTALLBUILDCHECKBUILD BIN
BANDITS 1.14.2  (landing page)
Simone Tiberi
git_last_commit: d998f17
git_last_commit_date: 2023-01-19 11:14:08 -0400
nebbiolo2Linux (Ubuntu 20.04.5 LTS) / x86_64  OK    OK    OK  UNNEEDED, same version is already published
palomino4Windows Server 2022 Datacenter / x64  OK    OK    OK    OK  UNNEEDED, same version is already published
lconwaymacOS 12.5.1 Monterey / x86_64  OK    OK    OK    OK  UNNEEDED, same version is already published
Package 112/2183HostnameOS / ArchINSTALLBUILDCHECKBUILD BIN
bandle 1.2.2  (landing page)
Oliver M. Crook
git_last_commit: 8ab251f
git_last_commit_date: 2023-01-19 11:14:11 -0400
nebbiolo2Linux (Ubuntu 20.04.5 LTS) / x86_64  OK    OK    OK  UNNEEDED, same version is already published
palomino4Windows Server 2022 Datacenter / x64  OK    OK    OK    OK  UNNEEDED, same version is already published
lconwaymacOS 12.5.1 Monterey / x86_64  OK    OK    OK    OK  UNNEEDED, same version is already published
Package 113/2183HostnameOS / ArchINSTALLBUILDCHECKBUILD BIN
banocc 1.22.0  (landing page)
George Weingart
git_last_commit: 1021506
git_last_commit_date: 2022-11-01 11:15:30 -0400
nebbiolo2Linux (Ubuntu 20.04.5 LTS) / x86_64  OK    OK    OK  UNNEEDED, same version is already published
palomino4Windows Server 2022 Datacenter / x64  OK    ERROR  skippedskipped
lconwaymacOS 12.5.1 Monterey / x86_64  OK    OK    OK    OK  UNNEEDED, same version is already published
Package 114/2183HostnameOS / ArchINSTALLBUILDCHECKBUILD BIN
barcodetrackR 1.6.0  (landing page)
Diego Alexander Espinoza
git_last_commit: 73e546d
git_last_commit_date: 2022-11-01 11:24:29 -0400
nebbiolo2Linux (Ubuntu 20.04.5 LTS) / x86_64  OK    OK    OK  UNNEEDED, same version is already published
palomino4Windows Server 2022 Datacenter / x64  OK    OK    OK    OK  UNNEEDED, same version is already published
lconwaymacOS 12.5.1 Monterey / x86_64  OK    OK    OK    OK  UNNEEDED, same version is already published
Package 115/2183HostnameOS / ArchINSTALLBUILDCHECKBUILD BIN
basecallQC 1.22.0  (landing page)
Thomas Carroll
git_last_commit: 01b2024
git_last_commit_date: 2022-11-01 11:15:31 -0400
nebbiolo2Linux (Ubuntu 20.04.5 LTS) / x86_64  OK    OK    OK  UNNEEDED, same version is already published
palomino4Windows Server 2022 Datacenter / x64  OK    OK    OK    OK  UNNEEDED, same version is already published
lconwaymacOS 12.5.1 Monterey / x86_64  OK    OK    OK    OK  UNNEEDED, same version is already published
Package 116/2183HostnameOS / ArchINSTALLBUILDCHECKBUILD BIN
BaseSpaceR 1.42.0  (landing page)
Jared O'Connell
git_last_commit: 17f4ade
git_last_commit_date: 2022-11-01 11:08:02 -0400
nebbiolo2Linux (Ubuntu 20.04.5 LTS) / x86_64  OK    OK    OK  UNNEEDED, same version is already published
palomino4Windows Server 2022 Datacenter / x64  OK    OK    OK    OK  UNNEEDED, same version is already published
lconwaymacOS 12.5.1 Monterey / x86_64  OK    OK    OK    OK  UNNEEDED, same version is already published
Package 117/2183HostnameOS / ArchINSTALLBUILDCHECKBUILD BIN
Basic4Cseq 1.34.0  (landing page)
Carolin Walter
git_last_commit: 53ec861
git_last_commit_date: 2022-11-01 11:09:18 -0400
nebbiolo2Linux (Ubuntu 20.04.5 LTS) / x86_64  OK    OK    OK  UNNEEDED, same version is already published
palomino4Windows Server 2022 Datacenter / x64  OK    OK    OK    OK  UNNEEDED, same version is already published
lconwaymacOS 12.5.1 Monterey / x86_64  OK    OK    OK    OK  UNNEEDED, same version is already published
Package 118/2183HostnameOS / ArchINSTALLBUILDCHECKBUILD BIN
BASiCS 2.10.5  (landing page)
Catalina Vallejos
git_last_commit: 6de1264
git_last_commit_date: 2023-01-19 11:14:20 -0400
nebbiolo2Linux (Ubuntu 20.04.5 LTS) / x86_64  OK    OK    OK  UNNEEDED, same version is already published
palomino4Windows Server 2022 Datacenter / x64  OK    OK    OK    OK  UNNEEDED, same version is already published
lconwaymacOS 12.5.1 Monterey / x86_64  OK    OK    OK    OK  UNNEEDED, same version is already published
Package 119/2183HostnameOS / ArchINSTALLBUILDCHECKBUILD BIN
BASiCStan 1.0.0  (landing page)
Alan O'Callaghan
git_last_commit: 5824462
git_last_commit_date: 2022-11-01 11:27:25 -0400
nebbiolo2Linux (Ubuntu 20.04.5 LTS) / x86_64  OK    OK    OK  UNNEEDED, same version is already published
palomino4Windows Server 2022 Datacenter / x64  OK    OK    OK    OK  UNNEEDED, same version is already published
lconwaymacOS 12.5.1 Monterey / x86_64  OK    OK    OK    OK  UNNEEDED, same version is already published
Package 120/2183HostnameOS / ArchINSTALLBUILDCHECKBUILD BIN
BasicSTARRseq 1.26.0  (landing page)
Annika Buerger
git_last_commit: b156a23
git_last_commit_date: 2022-11-01 11:12:51 -0400
nebbiolo2Linux (Ubuntu 20.04.5 LTS) / x86_64  OK    OK    OK  UNNEEDED, same version is already published
palomino4Windows Server 2022 Datacenter / x64  OK    OK    OK    OK  UNNEEDED, same version is already published
lconwaymacOS 12.5.1 Monterey / x86_64  OK    OK    OK    OK  UNNEEDED, same version is already published
Package 121/2183HostnameOS / ArchINSTALLBUILDCHECKBUILD BIN
basilisk 1.10.2  (landing page)
Aaron Lun
git_last_commit: 9c9ad75
git_last_commit_date: 2022-11-08 11:29:13 -0400
nebbiolo2Linux (Ubuntu 20.04.5 LTS) / x86_64  OK    OK    OK  UNNEEDED, same version is already published
palomino4Windows Server 2022 Datacenter / x64  OK    OK    TIMEOUT    OK  
lconwaymacOS 12.5.1 Monterey / x86_64  OK    OK    OK    OK  UNNEEDED, same version is already published
Package 122/2183HostnameOS / ArchINSTALLBUILDCHECKBUILD BIN
basilisk.utils 1.10.0  (landing page)
Aaron Lun
git_last_commit: b4d6087
git_last_commit_date: 2022-11-01 11:21:24 -0400
nebbiolo2Linux (Ubuntu 20.04.5 LTS) / x86_64  OK    OK    OK  UNNEEDED, same version is already published
palomino4Windows Server 2022 Datacenter / x64  OK    OK    OK    OK  UNNEEDED, same version is already published
lconwaymacOS 12.5.1 Monterey / x86_64  OK    OK    OK    OK  UNNEEDED, same version is already published
Package 123/2183HostnameOS / ArchINSTALLBUILDCHECKBUILD BIN
batchelor 1.14.1  (landing page)
Aaron Lun
git_last_commit: a1f3e84
git_last_commit_date: 2023-01-02 20:16:37 -0400
nebbiolo2Linux (Ubuntu 20.04.5 LTS) / x86_64  OK    OK    OK  UNNEEDED, same version is already published
palomino4Windows Server 2022 Datacenter / x64  OK    OK    OK    OK  UNNEEDED, same version is already published
lconwaymacOS 12.5.1 Monterey / x86_64  OK    OK    OK    OK  UNNEEDED, same version is already published
Package 124/2183HostnameOS / ArchINSTALLBUILDCHECKBUILD BIN
BatchQC 1.26.0  (landing page)
Solaiappan Manimaran
git_last_commit: c593445
git_last_commit_date: 2022-11-01 11:13:30 -0400
nebbiolo2Linux (Ubuntu 20.04.5 LTS) / x86_64  OK    OK    OK  UNNEEDED, same version is already published
palomino4Windows Server 2022 Datacenter / x64  OK    OK    OK    OK  UNNEEDED, same version is already published
lconwaymacOS 12.5.1 Monterey / x86_64  OK    OK    OK    OK  UNNEEDED, same version is already published
Package 125/2183HostnameOS / ArchINSTALLBUILDCHECKBUILD BIN
BayesKnockdown 1.24.0  (landing page)
William Chad Young
git_last_commit: eb337ab
git_last_commit_date: 2022-11-01 11:14:12 -0400
nebbiolo2Linux (Ubuntu 20.04.5 LTS) / x86_64  OK    OK    OK  UNNEEDED, same version is already published
palomino4Windows Server 2022 Datacenter / x64  OK    OK    OK    OK  UNNEEDED, same version is already published
lconwaymacOS 12.5.1 Monterey / x86_64  OK    OK    OK    OK  UNNEEDED, same version is already published
Package 126/2183HostnameOS / ArchINSTALLBUILDCHECKBUILD BIN
BayesSpace 1.8.2  (landing page)
Matt Stone
git_last_commit: e192cc9
git_last_commit_date: 2023-01-19 11:15:00 -0400
nebbiolo2Linux (Ubuntu 20.04.5 LTS) / x86_64  OK    OK    OK  UNNEEDED, same version is already published
palomino4Windows Server 2022 Datacenter / x64  OK    OK    OK    OK  UNNEEDED, same version is already published
lconwaymacOS 12.5.1 Monterey / x86_64  OK    OK    OK    OK  UNNEEDED, same version is already published
Package 127/2183HostnameOS / ArchINSTALLBUILDCHECKBUILD BIN
bayNorm 1.16.2  (landing page)
Wenhao Tang
git_last_commit: 7bd8b14
git_last_commit_date: 2023-01-19 11:15:02 -0400
nebbiolo2Linux (Ubuntu 20.04.5 LTS) / x86_64  OK    OK    OK  UNNEEDED, same version is already published
palomino4Windows Server 2022 Datacenter / x64  OK    OK    OK    OK  UNNEEDED, same version is already published
lconwaymacOS 12.5.1 Monterey / x86_64  OK    OK    OK    OK  UNNEEDED, same version is already published
Package 128/2183HostnameOS / ArchINSTALLBUILDCHECKBUILD BIN
baySeq 2.32.0  (landing page)
Thomas J. Hardcastle
git_last_commit: c6e69d6
git_last_commit_date: 2022-11-01 11:04:42 -0400
nebbiolo2Linux (Ubuntu 20.04.5 LTS) / x86_64  OK    OK    ERROR  
palomino4Windows Server 2022 Datacenter / x64  OK    OK    OK    OK  UNNEEDED, same version is already published
lconwaymacOS 12.5.1 Monterey / x86_64  OK    OK    OK    OK  UNNEEDED, same version is already published
Package 129/2183HostnameOS / ArchINSTALLBUILDCHECKBUILD BIN
BBCAnalyzer 1.28.0  (landing page)
Sarah Sandmann
git_last_commit: 136e385
git_last_commit_date: 2022-11-01 11:12:03 -0400
nebbiolo2Linux (Ubuntu 20.04.5 LTS) / x86_64  OK    OK    OK  UNNEEDED, same version is already published
palomino4Windows Server 2022 Datacenter / x64  OK    OK    WARNINGS    OK  UNNEEDED, same version is already published
lconwaymacOS 12.5.1 Monterey / x86_64  OK    OK    OK    OK  UNNEEDED, same version is already published
Package 130/2183HostnameOS / ArchINSTALLBUILDCHECKBUILD BIN
BCRANK 1.60.0  (landing page)
Adam Ameur
git_last_commit: 519d8aa
git_last_commit_date: 2022-11-01 11:03:44 -0400
nebbiolo2Linux (Ubuntu 20.04.5 LTS) / x86_64  OK    OK    OK  UNNEEDED, same version is already published
palomino4Windows Server 2022 Datacenter / x64  OK    OK    OK    OK  UNNEEDED, same version is already published
lconwaymacOS 12.5.1 Monterey / x86_64  OK    OK    OK    OK  UNNEEDED, same version is already published
Package 131/2183HostnameOS / ArchINSTALLBUILDCHECKBUILD BIN
bcSeq 1.20.0  (landing page)
Jiaxing Lin
git_last_commit: e47dac1
git_last_commit_date: 2022-11-01 11:16:48 -0400
nebbiolo2Linux (Ubuntu 20.04.5 LTS) / x86_64  OK    OK    WARNINGS  UNNEEDED, same version is already published
palomino4Windows Server 2022 Datacenter / x64  OK    OK    WARNINGS    OK  UNNEEDED, same version is already published
lconwaymacOS 12.5.1 Monterey / x86_64  OK    OK    OK    OK  UNNEEDED, same version is already published
Package 132/2183HostnameOS / ArchINSTALLBUILDCHECKBUILD BIN
BDMMAcorrect 1.16.2  (landing page)
ZHENWEI DAI
git_last_commit: 61ae2d3
git_last_commit_date: 2023-01-19 11:15:03 -0400
nebbiolo2Linux (Ubuntu 20.04.5 LTS) / x86_64  OK    OK    OK  UNNEEDED, same version is already published
palomino4Windows Server 2022 Datacenter / x64  OK    OK    OK    OK  UNNEEDED, same version is already published
lconwaymacOS 12.5.1 Monterey / x86_64  OK    OK    OK    OK  UNNEEDED, same version is already published
Package 133/2183HostnameOS / ArchINSTALLBUILDCHECKBUILD BIN
beachmat 2.14.2  (landing page)
Aaron Lun
git_last_commit: bfc3e8a
git_last_commit_date: 2023-04-06 11:30:37 -0400
nebbiolo2Linux (Ubuntu 20.04.5 LTS) / x86_64  OK    OK    OK  UNNEEDED, same version is already published
palomino4Windows Server 2022 Datacenter / x64  OK    OK    OK    OK  UNNEEDED, same version is already published
lconwaymacOS 12.5.1 Monterey / x86_64  OK    OK    OK    OK  UNNEEDED, same version is already published
Package 134/2183HostnameOS / ArchINSTALLBUILDCHECKBUILD BIN
beadarray 2.48.0  (landing page)
Mark Dunning
git_last_commit: 3db0e75
git_last_commit_date: 2022-11-01 10:40:39 -0400
nebbiolo2Linux (Ubuntu 20.04.5 LTS) / x86_64  OK    OK    OK  UNNEEDED, same version is already published
palomino4Windows Server 2022 Datacenter / x64  OK    OK    OK    OK  UNNEEDED, same version is already published
lconwaymacOS 12.5.1 Monterey / x86_64  OK    OK    OK    OK  UNNEEDED, same version is already published
Package 135/2183HostnameOS / ArchINSTALLBUILDCHECKBUILD BIN
beadarraySNP 1.64.0  (landing page)
Jan Oosting
git_last_commit: e629daa
git_last_commit_date: 2022-11-01 10:42:02 -0400
nebbiolo2Linux (Ubuntu 20.04.5 LTS) / x86_64  OK    OK    OK  UNNEEDED, same version is already published
palomino4Windows Server 2022 Datacenter / x64  OK    OK    OK    OK  UNNEEDED, same version is already published
lconwaymacOS 12.5.1 Monterey / x86_64  OK    OK    OK    OK  UNNEEDED, same version is already published
Package 136/2183HostnameOS / ArchINSTALLBUILDCHECKBUILD BIN
BeadDataPackR 1.50.0  (landing page)
Mike Smith
git_last_commit: c84fdae
git_last_commit_date: 2022-11-01 11:04:56 -0400
nebbiolo2Linux (Ubuntu 20.04.5 LTS) / x86_64  OK    OK    OK  UNNEEDED, same version is already published
palomino4Windows Server 2022 Datacenter / x64  OK    OK    OK    OK  UNNEEDED, same version is already published
lconwaymacOS 12.5.1 Monterey / x86_64  OK    OK    OK    OK  UNNEEDED, same version is already published
Package 137/2183HostnameOS / ArchINSTALLBUILDCHECKBUILD BIN
BEARscc 1.18.0  (landing page)
Benjamin Schuster-Boeckler
git_last_commit: 12407a6
git_last_commit_date: 2022-11-01 11:17:04 -0400
nebbiolo2Linux (Ubuntu 20.04.5 LTS) / x86_64  OK    OK    OK  UNNEEDED, same version is already published
palomino4Windows Server 2022 Datacenter / x64  OK    OK    OK    OK  UNNEEDED, same version is already published
lconwaymacOS 12.5.1 Monterey / x86_64  OK    OK    OK    OK  UNNEEDED, same version is already published
Package 138/2183HostnameOS / ArchINSTALLBUILDCHECKBUILD BIN
BEAT 1.36.0  (landing page)
Kemal Akman
git_last_commit: 4ad65bd
git_last_commit_date: 2022-11-01 11:09:07 -0400
nebbiolo2Linux (Ubuntu 20.04.5 LTS) / x86_64  OK    OK    OK  UNNEEDED, same version is already published
palomino4Windows Server 2022 Datacenter / x64  OK    OK    OK    OK  UNNEEDED, same version is already published
lconwaymacOS 12.5.1 Monterey / x86_64  OK    OK    OK    OK  UNNEEDED, same version is already published
Package 139/2183HostnameOS / ArchINSTALLBUILDCHECKBUILD BIN
BEclear 2.14.0  (landing page)
David Rasp
git_last_commit: 97b981f
git_last_commit_date: 2022-11-01 11:11:42 -0400
nebbiolo2Linux (Ubuntu 20.04.5 LTS) / x86_64  OK    OK    OK  UNNEEDED, same version is already published
palomino4Windows Server 2022 Datacenter / x64  OK    OK    OK    OK  UNNEEDED, same version is already published
lconwaymacOS 12.5.1 Monterey / x86_64  OK    OK    OK    OK  UNNEEDED, same version is already published
Package 140/2183HostnameOS / ArchINSTALLBUILDCHECKBUILD BIN
beer 1.2.0  (landing page)
Athena Chen
git_last_commit: bbed750
git_last_commit_date: 2022-11-01 11:26:26 -0400
nebbiolo2Linux (Ubuntu 20.04.5 LTS) / x86_64  OK    OK    OK  UNNEEDED, same version is already published
palomino4Windows Server 2022 Datacenter / x64  OK    OK    OK    OK  UNNEEDED, same version is already published
lconwaymacOS 12.5.1 Monterey / x86_64  OK    OK    OK    OK  UNNEEDED, same version is already published
Package 141/2183HostnameOS / ArchINSTALLBUILDCHECKBUILD BIN
benchdamic 1.4.0  (landing page)
Matteo Calgaro
git_last_commit: 0e7363b
git_last_commit_date: 2022-11-01 11:25:57 -0400
nebbiolo2Linux (Ubuntu 20.04.5 LTS) / x86_64  OK    OK    OK  UNNEEDED, same version is already published
palomino4Windows Server 2022 Datacenter / x64  OK    OK    OK    OK  UNNEEDED, same version is already published
lconwaymacOS 12.5.1 Monterey / x86_64  OK    OK    OK    OK  UNNEEDED, same version is already published
Package 142/2183HostnameOS / ArchINSTALLBUILDCHECKBUILD BIN
BgeeCall 1.14.0  (landing page)
Julien Wollbrett
git_last_commit: 8ac40cd
git_last_commit_date: 2022-11-01 11:21:10 -0400
nebbiolo2Linux (Ubuntu 20.04.5 LTS) / x86_64  OK    OK    OK  UNNEEDED, same version is already published
palomino4Windows Server 2022 Datacenter / x64  OK    OK    OK    OK  UNNEEDED, same version is already published
lconwaymacOS 12.5.1 Monterey / x86_64  OK    OK    OK    OK  UNNEEDED, same version is already published
Package 143/2183HostnameOS / ArchINSTALLBUILDCHECKBUILD BIN
BgeeDB 2.24.0  (landing page)
Julien Wollbrett , Julien Roux , Andrea Komljenovic , Frederic Bastian
git_last_commit: cfca314
git_last_commit_date: 2022-11-01 11:13:33 -0400
nebbiolo2Linux (Ubuntu 20.04.5 LTS) / x86_64  OK    OK    OK  UNNEEDED, same version is already published
palomino4Windows Server 2022 Datacenter / x64  OK    OK    OK    OK  UNNEEDED, same version is already published
lconwaymacOS 12.5.1 Monterey / x86_64  OK    OK    OK    OK  UNNEEDED, same version is already published
Package 144/2183HostnameOS / ArchINSTALLBUILDCHECKBUILD BIN
BGmix 1.58.0  (landing page)
Alex Lewin
git_last_commit: 65641cd
git_last_commit_date: 2022-11-01 11:03:39 -0400
nebbiolo2Linux (Ubuntu 20.04.5 LTS) / x86_64  OK    OK    WARNINGS  UNNEEDED, same version is already published
palomino4Windows Server 2022 Datacenter / x64... NOT SUPPORTED ...
lconwaymacOS 12.5.1 Monterey / x86_64  OK    OK    OK    OK  UNNEEDED, same version is already published
Package 145/2183HostnameOS / ArchINSTALLBUILDCHECKBUILD BIN
bgx 1.64.0  (landing page)
Ernest Turro
git_last_commit: 9390093
git_last_commit_date: 2022-11-01 11:03:27 -0400
nebbiolo2Linux (Ubuntu 20.04.5 LTS) / x86_64  OK    OK    OK  UNNEEDED, same version is already published
palomino4Windows Server 2022 Datacenter / x64  OK    OK    OK    OK  UNNEEDED, same version is already published
lconwaymacOS 12.5.1 Monterey / x86_64  OK    OK    WARNINGS    OK  UNNEEDED, same version is already published
Package 146/2183HostnameOS / ArchINSTALLBUILDCHECKBUILD BIN
BHC 1.50.0  (landing page)
Rich Savage
git_last_commit: 93d57be
git_last_commit_date: 2022-11-01 11:05:08 -0400
nebbiolo2Linux (Ubuntu 20.04.5 LTS) / x86_64  OK    OK    OK  UNNEEDED, same version is already published
palomino4Windows Server 2022 Datacenter / x64  OK    OK    OK    OK  UNNEEDED, same version is already published
lconwaymacOS 12.5.1 Monterey / x86_64  OK    OK    WARNINGS    OK  UNNEEDED, same version is already published
Package 147/2183HostnameOS / ArchINSTALLBUILDCHECKBUILD BIN
BicARE 1.56.0  (landing page)
Pierre Gestraud
git_last_commit: 7ee27f5
git_last_commit_date: 2022-11-01 11:04:12 -0400
nebbiolo2Linux (Ubuntu 20.04.5 LTS) / x86_64  OK    OK    OK  UNNEEDED, same version is already published
palomino4Windows Server 2022 Datacenter / x64  OK    OK    OK    OK  UNNEEDED, same version is already published
lconwaymacOS 12.5.1 Monterey / x86_64  OK    OK    OK    OK  UNNEEDED, same version is already published
Package 148/2183HostnameOS / ArchINSTALLBUILDCHECKBUILD BIN
BiFET 1.18.0  (landing page)
Ahrim Youn
git_last_commit: 186c421
git_last_commit_date: 2022-11-01 11:16:59 -0400
nebbiolo2Linux (Ubuntu 20.04.5 LTS) / x86_64  OK    OK    OK  UNNEEDED, same version is already published
palomino4Windows Server 2022 Datacenter / x64  OK    OK    OK    OK  UNNEEDED, same version is already published
lconwaymacOS 12.5.1 Monterey / x86_64  OK    OK    OK    OK  UNNEEDED, same version is already published
Package 149/2183HostnameOS / ArchINSTALLBUILDCHECKBUILD BIN
BiGGR 1.34.0  (landing page)
Anand K. Gavai
git_last_commit: 5770893
git_last_commit_date: 2022-11-01 11:08:39 -0400
nebbiolo2Linux (Ubuntu 20.04.5 LTS) / x86_64  OK    OK    OK  UNNEEDED, same version is already published
palomino4Windows Server 2022 Datacenter / x64  OK    OK    OK    OK  UNNEEDED, same version is already published
lconwaymacOS 12.5.1 Monterey / x86_64... NOT SUPPORTED ...
Package 150/2183HostnameOS / ArchINSTALLBUILDCHECKBUILD BIN
bigmelon 1.24.0  (landing page)
Tyler J. Gorrie-Stone
git_last_commit: 77478bf
git_last_commit_date: 2022-11-01 11:14:27 -0400
nebbiolo2Linux (Ubuntu 20.04.5 LTS) / x86_64  OK    OK    WARNINGS  UNNEEDED, same version is already published
palomino4Windows Server 2022 Datacenter / x64  OK    OK    WARNINGS    OK  UNNEEDED, same version is already published
lconwaymacOS 12.5.1 Monterey / x86_64  OK    OK    WARNINGS    OK  UNNEEDED, same version is already published
Package 151/2183HostnameOS / ArchINSTALLBUILDCHECKBUILD BIN
bigPint 1.14.0  (landing page)
Lindsay Rutter
git_last_commit: ce713bc
git_last_commit_date: 2022-11-01 11:19:09 -0400
nebbiolo2Linux (Ubuntu 20.04.5 LTS) / x86_64  OK    OK    WARNINGS  UNNEEDED, same version is already published
palomino4Windows Server 2022 Datacenter / x64  OK    OK    WARNINGS    OK  UNNEEDED, same version is already published
lconwaymacOS 12.5.1 Monterey / x86_64  OK    OK    WARNINGS    OK  UNNEEDED, same version is already published
Package 152/2183HostnameOS / ArchINSTALLBUILDCHECKBUILD BIN
BindingSiteFinder 1.4.0  (landing page)
Mirko Brüggemann
git_last_commit: c66cdc8
git_last_commit_date: 2022-11-01 11:25:21 -0400
nebbiolo2Linux (Ubuntu 20.04.5 LTS) / x86_64  OK    OK    OK  UNNEEDED, same version is already published
palomino4Windows Server 2022 Datacenter / x64  OK    OK    OK    OK  UNNEEDED, same version is already published
lconwaymacOS 12.5.1 Monterey / x86_64  OK    OK    OK    OK  UNNEEDED, same version is already published
Package 153/2183HostnameOS / ArchINSTALLBUILDCHECKBUILD BIN
bioassayR 1.36.0  (landing page)
Daniela Cassol
git_last_commit: 3ca74a6
git_last_commit_date: 2022-11-01 11:08:47 -0400
nebbiolo2Linux (Ubuntu 20.04.5 LTS) / x86_64  OK    OK    OK  UNNEEDED, same version is already published
palomino4Windows Server 2022 Datacenter / x64  OK    OK    OK    OK  UNNEEDED, same version is already published
lconwaymacOS 12.5.1 Monterey / x86_64  OK    OK    OK    OK  UNNEEDED, same version is already published
Package 154/2183HostnameOS / ArchINSTALLBUILDCHECKBUILD BIN
Biobase 2.58.0  (landing page)
Bioconductor Package Maintainer
git_last_commit: 767f2f3
git_last_commit_date: 2022-11-01 10:34:43 -0400
nebbiolo2Linux (Ubuntu 20.04.5 LTS) / x86_64  OK    OK    OK  UNNEEDED, same version is already published
palomino4Windows Server 2022 Datacenter / x64  OK    OK    OK    OK  UNNEEDED, same version is already published
lconwaymacOS 12.5.1 Monterey / x86_64  OK    OK    OK    OK  UNNEEDED, same version is already published
Package 155/2183HostnameOS / ArchINSTALLBUILDCHECKBUILD BIN
biobroom 1.30.0  (landing page)
John D. Storey and Andrew J. Bass
git_last_commit: 35b5a6d
git_last_commit_date: 2022-11-20 15:34:36 -0400
nebbiolo2Linux (Ubuntu 20.04.5 LTS) / x86_64  OK    OK    WARNINGS  UNNEEDED, same version is already published
palomino4Windows Server 2022 Datacenter / x64  OK    OK    WARNINGS    OK  UNNEEDED, same version is already published
lconwaymacOS 12.5.1 Monterey / x86_64  OK    OK    WARNINGS    OK  UNNEEDED, same version is already published
Package 156/2183HostnameOS / ArchINSTALLBUILDCHECKBUILD BIN
biobtreeR 1.10.0  (landing page)
Tamer Gur
git_last_commit: 1c75efb
git_last_commit_date: 2022-11-01 11:21:06 -0400
nebbiolo2Linux (Ubuntu 20.04.5 LTS) / x86_64  OK    OK    OK  UNNEEDED, same version is already published
palomino4Windows Server 2022 Datacenter / x64  OK    OK    OK    OK  UNNEEDED, same version is already published
lconwaymacOS 12.5.1 Monterey / x86_64  OK    OK    OK    OK  UNNEEDED, same version is already published
Package 157/2183HostnameOS / ArchINSTALLBUILDCHECKBUILD BIN
bioCancer 1.26.04  (landing page)
Karim Mezhoud
git_last_commit: 6c0335a
git_last_commit_date: 2023-02-03 09:19:32 -0400
nebbiolo2Linux (Ubuntu 20.04.5 LTS) / x86_64  OK    OK    OK  UNNEEDED, same version is already published
palomino4Windows Server 2022 Datacenter / x64  OK    OK    OK    OK  UNNEEDED, same version is already published
lconwaymacOS 12.5.1 Monterey / x86_64  OK    OK    OK    OK  UNNEEDED, same version is already published
Package 158/2183HostnameOS / ArchINSTALLBUILDCHECKBUILD BIN
BiocBaseUtils 1.0.0  (landing page)
Marcel Ramos
git_last_commit: c6c2cde
git_last_commit_date: 2022-11-01 11:27:06 -0400
nebbiolo2Linux (Ubuntu 20.04.5 LTS) / x86_64  OK    OK    OK  UNNEEDED, same version is already published
palomino4Windows Server 2022 Datacenter / x64  OK    OK    OK    OK  UNNEEDED, same version is already published
lconwaymacOS 12.5.1 Monterey / x86_64  OK    OK    OK    OK  UNNEEDED, same version is already published
Package 159/2183HostnameOS / ArchINSTALLBUILDCHECKBUILD BIN
BiocCheck 1.34.3  (landing page)
Marcel Ramos
git_last_commit: 58b4a85
git_last_commit_date: 2023-03-03 13:31:24 -0400
nebbiolo2Linux (Ubuntu 20.04.5 LTS) / x86_64  OK    OK    OK  UNNEEDED, same version is already published
palomino4Windows Server 2022 Datacenter / x64  OK    OK    OK    OK  UNNEEDED, same version is already published
lconwaymacOS 12.5.1 Monterey / x86_64  OK    OK    OK    OK  UNNEEDED, same version is already published
Package 160/2183HostnameOS / ArchINSTALLBUILDCHECKBUILD BIN
BiocDockerManager 1.10.0  (landing page)
Bioconductor Package Maintainer
git_last_commit: 4f4314a
git_last_commit_date: 2022-11-01 11:21:42 -0400
nebbiolo2Linux (Ubuntu 20.04.5 LTS) / x86_64  OK    OK    ERROR  
palomino4Windows Server 2022 Datacenter / x64  OK    OK    ERROR    OK  
lconwaymacOS 12.5.1 Monterey / x86_64  OK    OK    ERROR    OK  
Package 161/2183HostnameOS / ArchINSTALLBUILDCHECKBUILD BIN
BiocFHIR 1.0.0  (landing page)
Vincent Carey
git_last_commit: c23d2dc
git_last_commit_date: 2022-11-01 11:27:48 -0400
nebbiolo2Linux (Ubuntu 20.04.5 LTS) / x86_64  OK    OK    OK  UNNEEDED, same version is already published
palomino4Windows Server 2022 Datacenter / x64  OK    OK    OK    OK  UNNEEDED, same version is already published
lconwaymacOS 12.5.1 Monterey / x86_64  OK    OK    OK    OK  UNNEEDED, same version is already published
Package 162/2183HostnameOS / ArchINSTALLBUILDCHECKBUILD BIN
BiocFileCache 2.6.1  (landing page)
Lori Shepherd
git_last_commit: fdeb0ad
git_last_commit_date: 2023-02-17 07:39:09 -0400
nebbiolo2Linux (Ubuntu 20.04.5 LTS) / x86_64  OK    OK    OK  UNNEEDED, same version is already published
palomino4Windows Server 2022 Datacenter / x64  OK    OK    OK    OK  UNNEEDED, same version is already published
lconwaymacOS 12.5.1 Monterey / x86_64  OK    OK    OK    OK  UNNEEDED, same version is already published
Package 163/2183HostnameOS / ArchINSTALLBUILDCHECKBUILD BIN
BiocGenerics 0.44.0  (landing page)
Hervé Pagès
git_last_commit: d7cd9c1
git_last_commit_date: 2022-11-01 11:06:33 -0400
nebbiolo2Linux (Ubuntu 20.04.5 LTS) / x86_64  OK    OK    WARNINGS  UNNEEDED, same version is already published
palomino4Windows Server 2022 Datacenter / x64  OK    OK    WARNINGS    OK  UNNEEDED, same version is already published
lconwaymacOS 12.5.1 Monterey / x86_64  OK    OK    WARNINGS    OK  UNNEEDED, same version is already published
Package 164/2183HostnameOS / ArchINSTALLBUILDCHECKBUILD BIN
biocGraph 1.60.0  (landing page)
Florian Hahne
git_last_commit: ee8dbd0
git_last_commit_date: 2022-11-01 11:03:31 -0400
nebbiolo2Linux (Ubuntu 20.04.5 LTS) / x86_64  OK    OK    OK  UNNEEDED, same version is already published
palomino4Windows Server 2022 Datacenter / x64  OK    OK    OK    OK  UNNEEDED, same version is already published
lconwaymacOS 12.5.1 Monterey / x86_64  OK    OK    OK    OK  UNNEEDED, same version is already published
Package 165/2183HostnameOS / ArchINSTALLBUILDCHECKBUILD BIN
BiocIO 1.8.0  (landing page)
Bioconductor Package Maintainer
git_last_commit: 4a719fa
git_last_commit_date: 2022-11-01 11:22:39 -0400
nebbiolo2Linux (Ubuntu 20.04.5 LTS) / x86_64  OK    OK    OK  UNNEEDED, same version is already published
palomino4Windows Server 2022 Datacenter / x64  OK    OK    OK    OK  UNNEEDED, same version is already published
lconwaymacOS 12.5.1 Monterey / x86_64  OK    OK    OK    OK  UNNEEDED, same version is already published
Package 166/2183HostnameOS / ArchINSTALLBUILDCHECKBUILD BIN
BiocNeighbors 1.16.0  (landing page)
Aaron Lun
git_last_commit: 3b227be
git_last_commit_date: 2022-11-01 11:18:04 -0400
nebbiolo2Linux (Ubuntu 20.04.5 LTS) / x86_64  OK    OK    OK  UNNEEDED, same version is already published
palomino4Windows Server 2022 Datacenter / x64  OK    OK    OK    OK  UNNEEDED, same version is already published
lconwaymacOS 12.5.1 Monterey / x86_64  OK    OK    OK    OK  UNNEEDED, same version is already published
Package 167/2183HostnameOS / ArchINSTALLBUILDCHECKBUILD BIN
BiocOncoTK 1.18.0  (landing page)
VJ Carey
git_last_commit: bd29ac7
git_last_commit_date: 2022-11-01 11:17:47 -0400
nebbiolo2Linux (Ubuntu 20.04.5 LTS) / x86_64  OK    OK    WARNINGS  UNNEEDED, same version is already published
palomino4Windows Server 2022 Datacenter / x64  OK    OK    WARNINGS    OK  UNNEEDED, same version is already published
lconwaymacOS 12.5.1 Monterey / x86_64  OK    OK    WARNINGS    OK  UNNEEDED, same version is already published
Package 168/2183HostnameOS / ArchINSTALLBUILDCHECKBUILD BIN
BioCor 1.22.0  (landing page)
Lluís Revilla Sancho
git_last_commit: 4493ae5
git_last_commit_date: 2022-11-01 11:15:22 -0400
nebbiolo2Linux (Ubuntu 20.04.5 LTS) / x86_64  OK    OK    OK  UNNEEDED, same version is already published
palomino4Windows Server 2022 Datacenter / x64  OK    OK    OK    OK  UNNEEDED, same version is already published
lconwaymacOS 12.5.1 Monterey / x86_64  OK    OK    OK    OK  UNNEEDED, same version is already published
Package 169/2183HostnameOS / ArchINSTALLBUILDCHECKBUILD BIN
BiocParallel 1.32.6  (landing page)
Martin Morgan
git_last_commit: 994f4e7
git_last_commit_date: 2023-03-17 12:41:27 -0400
nebbiolo2Linux (Ubuntu 20.04.5 LTS) / x86_64  OK    OK    OK  UNNEEDED, same version is already published
palomino4Windows Server 2022 Datacenter / x64  OK    OK    OK    OK  UNNEEDED, same version is already published
lconwaymacOS 12.5.1 Monterey / x86_64  OK    OK    OK    OK  UNNEEDED, same version is already published
Package 170/2183HostnameOS / ArchINSTALLBUILDCHECKBUILD BIN
BiocPkgTools 1.16.1  (landing page)
Sean Davis
git_last_commit: d8c2727
git_last_commit_date: 2023-02-27 17:03:46 -0400
nebbiolo2Linux (Ubuntu 20.04.5 LTS) / x86_64  OK    OK    OK  UNNEEDED, same version is already published
palomino4Windows Server 2022 Datacenter / x64  OK    OK    OK    OK  UNNEEDED, same version is already published
lconwaymacOS 12.5.1 Monterey / x86_64  OK    OK    OK    OK  UNNEEDED, same version is already published
Package 171/2183HostnameOS / ArchINSTALLBUILDCHECKBUILD BIN
BiocSet 1.12.1  (landing page)
Kayla Morrell
git_last_commit: 9d2263e
git_last_commit_date: 2022-12-30 09:49:20 -0400
nebbiolo2Linux (Ubuntu 20.04.5 LTS) / x86_64  OK    OK    OK  UNNEEDED, same version is already published
palomino4Windows Server 2022 Datacenter / x64  OK    OK    OK    OK  UNNEEDED, same version is already published
lconwaymacOS 12.5.1 Monterey / x86_64  OK    OK    OK    OK  UNNEEDED, same version is already published
Package 172/2183HostnameOS / ArchINSTALLBUILDCHECKBUILD BIN
BiocSingular 1.14.0  (landing page)
Aaron Lun
git_last_commit: 6dc42b3
git_last_commit_date: 2022-11-01 11:19:16 -0400
nebbiolo2Linux (Ubuntu 20.04.5 LTS) / x86_64  OK    OK    OK  UNNEEDED, same version is already published
palomino4Windows Server 2022 Datacenter / x64  OK    OK    OK    OK  UNNEEDED, same version is already published
lconwaymacOS 12.5.1 Monterey / x86_64  OK    OK    OK    OK  UNNEEDED, same version is already published
Package 173/2183HostnameOS / ArchINSTALLBUILDCHECKBUILD BIN
BiocSklearn 1.20.1  (landing page)
Vince Carey
git_last_commit: 7dd118f
git_last_commit_date: 2022-12-26 07:14:25 -0400
nebbiolo2Linux (Ubuntu 20.04.5 LTS) / x86_64  OK    OK    OK  UNNEEDED, same version is already published
palomino4Windows Server 2022 Datacenter / x64  OK    OK    OK    OK  UNNEEDED, same version is already published
lconwaymacOS 12.5.1 Monterey / x86_64  OK    OK    OK    OK  UNNEEDED, same version is already published
Package 174/2183HostnameOS / ArchINSTALLBUILDCHECKBUILD BIN
BiocStyle 2.26.0  (landing page)
Bioconductor Package
git_last_commit: add0354
git_last_commit_date: 2022-11-01 11:08:24 -0400
nebbiolo2Linux (Ubuntu 20.04.5 LTS) / x86_64  OK    OK    OK  UNNEEDED, same version is already published
palomino4Windows Server 2022 Datacenter / x64  OK    OK    OK    OK  UNNEEDED, same version is already published
lconwaymacOS 12.5.1 Monterey / x86_64  OK    OK    OK    OK  UNNEEDED, same version is already published
Package 175/2183HostnameOS / ArchINSTALLBUILDCHECKBUILD BIN
biocthis 1.8.3  (landing page)
Leonardo Collado-Torres
git_last_commit: a815ce3
git_last_commit_date: 2023-03-10 16:31:15 -0400
nebbiolo2Linux (Ubuntu 20.04.5 LTS) / x86_64  OK    OK    OK  UNNEEDED, same version is already published
palomino4Windows Server 2022 Datacenter / x64  OK    OK    OK    OK  UNNEEDED, same version is already published
lconwaymacOS 12.5.1 Monterey / x86_64  OK    OK    OK    OK  UNNEEDED, same version is already published
Package 176/2183HostnameOS / ArchINSTALLBUILDCHECKBUILD BIN
BiocVersion 3.16.0  (landing page)
Bioconductor Package Maintainer
git_last_commit: c681e06
git_last_commit_date: 2022-04-26 11:49:21 -0400
nebbiolo2Linux (Ubuntu 20.04.5 LTS) / x86_64  OK    OK    OK  UNNEEDED, same version is already published
palomino4Windows Server 2022 Datacenter / x64  OK    OK    OK    OK  UNNEEDED, same version is already published
lconwaymacOS 12.5.1 Monterey / x86_64  OK    OK    OK    OK  UNNEEDED, same version is already published
Package 177/2183HostnameOS / ArchINSTALLBUILDCHECKBUILD BIN
biocViews 1.66.3  (landing page)
Bioconductor Package Maintainer
git_last_commit: b6995ff
git_last_commit_date: 2023-03-06 08:37:15 -0400
nebbiolo2Linux (Ubuntu 20.04.5 LTS) / x86_64  OK    OK    OK  UNNEEDED, same version is already published
palomino4Windows Server 2022 Datacenter / x64  OK    OK    OK    OK  UNNEEDED, same version is already published
lconwaymacOS 12.5.1 Monterey / x86_64  OK    OK    OK    OK  UNNEEDED, same version is already published
Package 178/2183HostnameOS / ArchINSTALLBUILDCHECKBUILD BIN
BiocWorkflowTools 1.24.0  (landing page)
Mike Smith
git_last_commit: 90ca9d7
git_last_commit_date: 2022-11-01 11:14:24 -0400
nebbiolo2Linux (Ubuntu 20.04.5 LTS) / x86_64  OK    OK    OK  UNNEEDED, same version is already published
palomino4Windows Server 2022 Datacenter / x64  OK    OK    OK    OK  UNNEEDED, same version is already published
lconwaymacOS 12.5.1 Monterey / x86_64  OK    OK    OK    OK  UNNEEDED, same version is already published
Package 179/2183HostnameOS / ArchINSTALLBUILDCHECKBUILD BIN
biodb 1.6.1  (landing page)
Pierrick Roger
git_last_commit: 585246e
git_last_commit_date: 2022-11-22 11:30:02 -0400
nebbiolo2Linux (Ubuntu 20.04.5 LTS) / x86_64  OK    OK    OK  UNNEEDED, same version is already published
palomino4Windows Server 2022 Datacenter / x64  OK    OK    OK    OK  UNNEEDED, same version is already published
lconwaymacOS 12.5.1 Monterey / x86_64  OK    OK    OK    OK  UNNEEDED, same version is already published
Package 180/2183HostnameOS / ArchINSTALLBUILDCHECKBUILD BIN
biodbChebi 1.4.0  (landing page)
Pierrick Roger
git_last_commit: 4525e08
git_last_commit_date: 2022-11-01 11:25:43 -0400
nebbiolo2Linux (Ubuntu 20.04.5 LTS) / x86_64  OK    OK    OK  UNNEEDED, same version is already published
palomino4Windows Server 2022 Datacenter / x64  OK    OK    OK    OK  UNNEEDED, same version is already published
lconwaymacOS 12.5.1 Monterey / x86_64  OK    OK    OK    OK  UNNEEDED, same version is already published
Package 181/2183HostnameOS / ArchINSTALLBUILDCHECKBUILD BIN
biodbExpasy 1.2.0  (landing page)
Pierrick Roger
git_last_commit: ef6c7ee
git_last_commit_date: 2022-11-01 11:26:41 -0400
nebbiolo2Linux (Ubuntu 20.04.5 LTS) / x86_64  OK    OK    OK  UNNEEDED, same version is already published
palomino4Windows Server 2022 Datacenter / x64  OK    OK    OK    OK  UNNEEDED, same version is already published
lconwaymacOS 12.5.1 Monterey / x86_64  OK    OK    OK    OK  UNNEEDED, same version is already published
Package 182/2183HostnameOS / ArchINSTALLBUILDCHECKBUILD BIN
biodbHmdb 1.4.0  (landing page)
Pierrick Roger
git_last_commit: df94f3a
git_last_commit_date: 2022-11-01 11:26:07 -0400
nebbiolo2Linux (Ubuntu 20.04.5 LTS) / x86_64  OK    OK    OK  UNNEEDED, same version is already published
palomino4Windows Server 2022 Datacenter / x64  OK    OK    ERROR    OK  
lconwaymacOS 12.5.1 Monterey / x86_64  OK    OK    ERROR    OK  
Package 183/2183HostnameOS / ArchINSTALLBUILDCHECKBUILD BIN
biodbKegg 1.4.0  (landing page)
Pierrick Roger
git_last_commit: 824ec0d
git_last_commit_date: 2022-11-01 11:25:59 -0400
nebbiolo2Linux (Ubuntu 20.04.5 LTS) / x86_64  OK    OK    OK  UNNEEDED, same version is already published
palomino4Windows Server 2022 Datacenter / x64  OK    OK    OK    OK  UNNEEDED, same version is already published
lconwaymacOS 12.5.1 Monterey / x86_64  OK    OK    OK    OK  UNNEEDED, same version is already published
Package 184/2183HostnameOS / ArchINSTALLBUILDCHECKBUILD BIN
biodbLipidmaps 1.4.1  (landing page)
Pierrick Roger
git_last_commit: 75afc75
git_last_commit_date: 2022-12-01 07:31:40 -0400
nebbiolo2Linux (Ubuntu 20.04.5 LTS) / x86_64  OK    OK    OK  UNNEEDED, same version is already published
palomino4Windows Server 2022 Datacenter / x64  OK    OK    OK    OK  UNNEEDED, same version is already published
lconwaymacOS 12.5.1 Monterey / x86_64  OK    OK    OK    OK  UNNEEDED, same version is already published
Package 185/2183HostnameOS / ArchINSTALLBUILDCHECKBUILD BIN
biodbMirbase 1.2.2  (landing page)
Pierrick Roger
git_last_commit: 993efd2
git_last_commit_date: 2023-01-09 06:51:56 -0400
nebbiolo2Linux (Ubuntu 20.04.5 LTS) / x86_64  OK    OK    ERROR  
palomino4Windows Server 2022 Datacenter / x64  OK    OK    OK    OK  UNNEEDED, same version is already published
lconwaymacOS 12.5.1 Monterey / x86_64  OK    OK    OK    OK  UNNEEDED, same version is already published
Package 186/2183HostnameOS / ArchINSTALLBUILDCHECKBUILD BIN
biodbNcbi 1.2.0  (landing page)
Pierrick Roger
git_last_commit: 987e49c
git_last_commit_date: 2022-11-01 11:26:40 -0400
nebbiolo2Linux (Ubuntu 20.04.5 LTS) / x86_64  OK    OK    OK  UNNEEDED, same version is already published
palomino4Windows Server 2022 Datacenter / x64  OK    OK    OK    OK  UNNEEDED, same version is already published
lconwaymacOS 12.5.1 Monterey / x86_64  OK    OK    OK    OK  UNNEEDED, same version is already published
Package 187/2183HostnameOS / ArchINSTALLBUILDCHECKBUILD BIN
biodbNci 1.2.0  (landing page)
Pierrick Roger
git_last_commit: 768ea26
git_last_commit_date: 2022-11-01 11:26:38 -0400
nebbiolo2Linux (Ubuntu 20.04.5 LTS) / x86_64  OK    OK    OK  UNNEEDED, same version is already published
palomino4Windows Server 2022 Datacenter / x64  OK    OK    OK    OK  UNNEEDED, same version is already published
lconwaymacOS 12.5.1 Monterey / x86_64  OK    OK    OK    OK  UNNEEDED, same version is already published
Package 188/2183HostnameOS / ArchINSTALLBUILDCHECKBUILD BIN
biodbUniprot 1.4.0  (landing page)
Pierrick Roger
git_last_commit: 15ae9f4
git_last_commit_date: 2022-11-01 11:25:53 -0400
nebbiolo2Linux (Ubuntu 20.04.5 LTS) / x86_64  OK    OK    OK  UNNEEDED, same version is already published
palomino4Windows Server 2022 Datacenter / x64  OK    OK    OK    OK  UNNEEDED, same version is already published
lconwaymacOS 12.5.1 Monterey / x86_64  OK    OK    OK    OK  UNNEEDED, same version is already published
Package 189/2183HostnameOS / ArchINSTALLBUILDCHECKBUILD BIN
bioDist 1.70.0  (landing page)
Bioconductor Package Maintainer
git_last_commit: 78dc18e
git_last_commit_date: 2022-11-01 10:38:26 -0400
nebbiolo2Linux (Ubuntu 20.04.5 LTS) / x86_64  OK    OK    OK  UNNEEDED, same version is already published
palomino4Windows Server 2022 Datacenter / x64  OK    OK    OK    OK  UNNEEDED, same version is already published
lconwaymacOS 12.5.1 Monterey / x86_64  OK    OK    OK    OK  UNNEEDED, same version is already published
Package 190/2183HostnameOS / ArchINSTALLBUILDCHECKBUILD BIN
biomaRt 2.54.1  (landing page)
Mike Smith
git_last_commit: d5412fb
git_last_commit_date: 2023-03-20 08:57:14 -0400
nebbiolo2Linux (Ubuntu 20.04.5 LTS) / x86_64  OK    OK    OK  UNNEEDED, same version is already published
palomino4Windows Server 2022 Datacenter / x64  OK    OK    OK    OK  UNNEEDED, same version is already published
lconwaymacOS 12.5.1 Monterey / x86_64  OK    OK    OK    OK  UNNEEDED, same version is already published
Package 191/2183HostnameOS / ArchINSTALLBUILDCHECKBUILD BIN
biomformat 1.26.0  (landing page)
Paul J. McMurdie
git_last_commit: f851ba2
git_last_commit_date: 2022-11-01 11:12:36 -0400
nebbiolo2Linux (Ubuntu 20.04.5 LTS) / x86_64  OK    OK    WARNINGS  UNNEEDED, same version is already published
palomino4Windows Server 2022 Datacenter / x64  OK    OK    WARNINGS    OK  UNNEEDED, same version is already published
lconwaymacOS 12.5.1 Monterey / x86_64  OK    OK    WARNINGS    OK  UNNEEDED, same version is already published
Package 192/2183HostnameOS / ArchINSTALLBUILDCHECKBUILD BIN
BioMM 1.14.0  (landing page)
Junfang Chen
git_last_commit: 5ba232e
git_last_commit_date: 2022-11-01 11:19:15 -0400
nebbiolo2Linux (Ubuntu 20.04.5 LTS) / x86_64  OK    ERROR  skipped
palomino4Windows Server 2022 Datacenter / x64  OK    ERROR  skippedskipped
lconwaymacOS 12.5.1 Monterey / x86_64  OK    ERROR  skippedskipped
Package 193/2183HostnameOS / ArchINSTALLBUILDCHECKBUILD BIN
BioMVCClass 1.66.0  (landing page)
Elizabeth Whalen
git_last_commit: 964bec3
git_last_commit_date: 2022-11-01 10:41:56 -0400
nebbiolo2Linux (Ubuntu 20.04.5 LTS) / x86_64  OK    OK    OK  UNNEEDED, same version is already published
palomino4Windows Server 2022 Datacenter / x64  OK    OK    OK    OK  UNNEEDED, same version is already published
lconwaymacOS 12.5.1 Monterey / x86_64  OK    OK    OK    OK  UNNEEDED, same version is already published
Package 194/2183HostnameOS / ArchINSTALLBUILDCHECKBUILD BIN
biomvRCNS 1.38.0  (landing page)
Yang Du
git_last_commit: 911a52a
git_last_commit_date: 2022-11-01 11:07:53 -0400
nebbiolo2Linux (Ubuntu 20.04.5 LTS) / x86_64  OK    OK    OK  UNNEEDED, same version is already published
palomino4Windows Server 2022 Datacenter / x64  OK    OK    OK    OK  UNNEEDED, same version is already published
lconwaymacOS 12.5.1 Monterey / x86_64  OK    OK    OK    OK  UNNEEDED, same version is already published
Package 195/2183HostnameOS / ArchINSTALLBUILDCHECKBUILD BIN
BioNAR 1.0.0  (landing page)
Anatoly Sorokin
git_last_commit: f9c6c3c
git_last_commit_date: 2022-11-01 11:27:44 -0400
nebbiolo2Linux (Ubuntu 20.04.5 LTS) / x86_64  OK    OK    OK  UNNEEDED, same version is already published
palomino4Windows Server 2022 Datacenter / x64  OK    OK    OK    OK  UNNEEDED, same version is already published
lconwaymacOS 12.5.1 Monterey / x86_64  OK    OK    OK    OK  UNNEEDED, same version is already published
Package 196/2183HostnameOS / ArchINSTALLBUILDCHECKBUILD BIN
BioNERO 1.6.1  (landing page)
Fabricio Almeida-Silva
git_last_commit: af9f87a
git_last_commit_date: 2023-03-23 05:34:49 -0400
nebbiolo2Linux (Ubuntu 20.04.5 LTS) / x86_64  OK    OK    OK  UNNEEDED, same version is already published
palomino4Windows Server 2022 Datacenter / x64  OK    OK    OK    OK  UNNEEDED, same version is already published
lconwaymacOS 12.5.1 Monterey / x86_64  OK    OK    OK    OK  UNNEEDED, same version is already published
Package 197/2183HostnameOS / ArchINSTALLBUILDCHECKBUILD BIN
BioNet 1.58.0  (landing page)
Marcus Dittrich
git_last_commit: 462aa3b
git_last_commit_date: 2022-11-01 11:05:12 -0400
nebbiolo2Linux (Ubuntu 20.04.5 LTS) / x86_64  OK    OK    OK  UNNEEDED, same version is already published
palomino4Windows Server 2022 Datacenter / x64  OK    OK    OK    OK  UNNEEDED, same version is already published
lconwaymacOS 12.5.1 Monterey / x86_64  OK    OK    OK    OK  UNNEEDED, same version is already published
Package 198/2183HostnameOS / ArchINSTALLBUILDCHECKBUILD BIN
BioNetStat 1.18.0  (landing page)
Vinicius Jardim
git_last_commit: c00a54e
git_last_commit_date: 2022-11-01 11:17:42 -0400
nebbiolo2Linux (Ubuntu 20.04.5 LTS) / x86_64  OK    OK    OK  UNNEEDED, same version is already published
palomino4Windows Server 2022 Datacenter / x64  OK    OK    OK    OK  UNNEEDED, same version is already published
lconwaymacOS 12.5.1 Monterey / x86_64  OK    OK    OK    OK  UNNEEDED, same version is already published
Package 199/2183HostnameOS / ArchINSTALLBUILDCHECKBUILD BIN
BioQC 1.26.0  (landing page)
Jitao David Zhang
git_last_commit: c4cfa15
git_last_commit_date: 2022-11-01 11:12:35 -0400
nebbiolo2Linux (Ubuntu 20.04.5 LTS) / x86_64  OK    OK    OK  UNNEEDED, same version is already published
palomino4Windows Server 2022 Datacenter / x64  OK    OK    OK    OK  UNNEEDED, same version is already published
lconwaymacOS 12.5.1 Monterey / x86_64  OK    OK    OK    OK  UNNEEDED, same version is already published
Package 200/2183HostnameOS / ArchINSTALLBUILDCHECKBUILD BIN
biosigner 1.26.0  (landing page)
Etienne A. Thevenot
git_last_commit: 17c649e
git_last_commit_date: 2022-11-01 11:13:04 -0400
nebbiolo2Linux (Ubuntu 20.04.5 LTS) / x86_64  OK    OK    OK  UNNEEDED, same version is already published
palomino4Windows Server 2022 Datacenter / x64  OK    OK    OK    OK  UNNEEDED, same version is already published
lconwaymacOS 12.5.1 Monterey / x86_64  OK    OK    OK    OK  UNNEEDED, same version is already published
Package 201/2183HostnameOS / ArchINSTALLBUILDCHECKBUILD BIN
Biostrings 2.66.0  (landing page)
H. Pagès
git_last_commit: 3470ca7
git_last_commit_date: 2022-11-01 10:36:29 -0400
nebbiolo2Linux (Ubuntu 20.04.5 LTS) / x86_64  OK    OK    WARNINGS  UNNEEDED, same version is already published
palomino4Windows Server 2022 Datacenter / x64  OK    OK    WARNINGS    OK  UNNEEDED, same version is already published
lconwaymacOS 12.5.1 Monterey / x86_64  OK    OK    WARNINGS    OK  UNNEEDED, same version is already published
Package 202/2183HostnameOS / ArchINSTALLBUILDCHECKBUILD BIN
BioTIP 1.12.0  (landing page)
Yuxi (Jennifer) Sun , Zhezhen Wang , and X Holly Yang
git_last_commit: 0cb382e
git_last_commit_date: 2022-11-01 11:20:36 -0400
nebbiolo2Linux (Ubuntu 20.04.5 LTS) / x86_64  OK    OK    WARNINGS  UNNEEDED, same version is already published
palomino4Windows Server 2022 Datacenter / x64  OK    OK    WARNINGS    OK  UNNEEDED, same version is already published
lconwaymacOS 12.5.1 Monterey / x86_64  OK    OK    WARNINGS    OK  UNNEEDED, same version is already published
Package 203/2183HostnameOS / ArchINSTALLBUILDCHECKBUILD BIN
biotmle 1.22.0  (landing page)
Nima Hejazi
git_last_commit: bfa9e7d
git_last_commit_date: 2022-11-01 11:15:35 -0400
nebbiolo2Linux (Ubuntu 20.04.5 LTS) / x86_64  OK    OK    OK  UNNEEDED, same version is already published
palomino4Windows Server 2022 Datacenter / x64  OK    OK    OK    OK  UNNEEDED, same version is already published
lconwaymacOS 12.5.1 Monterey / x86_64  OK    OK    OK    OK  UNNEEDED, same version is already published
Package 204/2183HostnameOS / ArchINSTALLBUILDCHECKBUILD BIN
biovizBase 1.46.0  (landing page)
Michael Lawrence
git_last_commit: a47060c
git_last_commit_date: 2022-11-01 11:06:19 -0400
nebbiolo2Linux (Ubuntu 20.04.5 LTS) / x86_64  OK    OK    WARNINGS  UNNEEDED, same version is already published
palomino4Windows Server 2022 Datacenter / x64  OK    OK    WARNINGS    OK  UNNEEDED, same version is already published
lconwaymacOS 12.5.1 Monterey / x86_64  OK    OK    WARNINGS    OK  UNNEEDED, same version is already published
Package 205/2183HostnameOS / ArchINSTALLBUILDCHECKBUILD BIN
BiRewire 3.30.0  (landing page)
Andrea Gobbi
git_last_commit: 870cea3
git_last_commit_date: 2022-11-01 11:08:42 -0400
nebbiolo2Linux (Ubuntu 20.04.5 LTS) / x86_64  OK    OK    WARNINGS  UNNEEDED, same version is already published
palomino4Windows Server 2022 Datacenter / x64  OK    OK    WARNINGS    OK  UNNEEDED, same version is already published
lconwaymacOS 12.5.1 Monterey / x86_64  OK    OK    OK    OK  UNNEEDED, same version is already published
Package 206/2183HostnameOS / ArchINSTALLBUILDCHECKBUILD BIN
biscuiteer 1.12.0  (landing page)
Jacob Morrison
git_last_commit: 236bbc1
git_last_commit_date: 2022-11-01 11:20:50 -0400
nebbiolo2Linux (Ubuntu 20.04.5 LTS) / x86_64  OK    OK    WARNINGS  UNNEEDED, same version is already published
palomino4Windows Server 2022 Datacenter / x64  OK    OK    WARNINGS    OK