Back to Multiple platform build/check report for BioC 3.16
ABCDEFGHIJKL[M]NOPQRSTUVWXYZ

This page was generated on 2022-08-06 11:06:39 -0400 (Sat, 06 Aug 2022).

HostnameOSArch (*)R versionInstalled pkgs
nebbiolo2Linux (Ubuntu 20.04.4 LTS)x86_644.2.1 (2022-06-23) -- "Funny-Looking Kid" 4371
palomino4Windows Server 2022 Datacenterx644.2.1 (2022-06-23 ucrt) -- "Funny-Looking Kid" 4155
lconwaymacOS 12.2.1 Montereyx86_644.2.1 Patched (2022-07-09 r82577) -- "Funny-Looking Kid" 4155
Click on any hostname to see more info about the system (e.g. compilers)      (*) as reported by 'uname -p', except on Windows and Mac OS X

BUILD results for muscat on palomino4


To the developers/maintainers of the muscat package:
- Please allow up to 24 hours (and sometimes 48 hours) for your latest push to git@git.bioconductor.org:packages/muscat.git to
reflect on this report. See How and When does the builder pull? When will my changes propagate? for more information.
- Make sure to use the following settings in order to reproduce any error or warning you see on this page.

raw results

Package 1285/2137HostnameOS / ArchINSTALLBUILDCHECKBUILD BIN
muscat 1.11.2  (landing page)
Helena L. Crowell
Snapshot Date: 2022-08-05 14:00:05 -0400 (Fri, 05 Aug 2022)
git_url: https://git.bioconductor.org/packages/muscat
git_branch: master
git_last_commit: fd893e8
git_last_commit_date: 2022-06-17 01:39:15 -0400 (Fri, 17 Jun 2022)
nebbiolo2Linux (Ubuntu 20.04.4 LTS) / x86_64  OK    OK    OK  UNNEEDED, same version is already published
palomino4Windows Server 2022 Datacenter / x64  OK    OK    OK    NA  
lconwaymacOS 12.2.1 Monterey / x86_64  OK    OK    OK    OK  UNNEEDED, same version is already published

Summary

Package: muscat
Version: 1.11.2
Command: chmod a+r muscat -R && F:\biocbuild\bbs-3.16-bioc\R\bin\R.exe CMD build --keep-empty-dirs --no-resave-data muscat
StartedAt: 2022-08-05 19:59:50 -0400 (Fri, 05 Aug 2022)
EndedAt: 2022-08-05 20:04:49 -0400 (Fri, 05 Aug 2022)
EllapsedTime: 299.8 seconds
RetCode: 0
Status:   OK  
PackageFile: muscat_1.11.2.tar.gz
PackageFileSize: 3.884 MiB

Command output

##############################################################################
##############################################################################
###
### Running command:
###
###   chmod a+r muscat -R && F:\biocbuild\bbs-3.16-bioc\R\bin\R.exe CMD build --keep-empty-dirs --no-resave-data muscat
###
##############################################################################
##############################################################################


* checking for file 'muscat/DESCRIPTION' ... OK
* preparing 'muscat':
* checking DESCRIPTION meta-information ... OK
* installing the package to build vignettes
* creating vignettes ... OK
* checking for LF line-endings in source and make files and shell scripts
* checking for empty or unneeded directories
* looking to see if a 'data/datalist' file should be added
* building 'muscat_1.11.2.tar.gz'