Back to Multiple platform build/check report for BioC 3.16:   simplified   long
AB[C]DEFGHIJKLMNOPQRSTUVWXYZ

This page was generated on 2023-03-24 11:05:24 -0400 (Fri, 24 Mar 2023).

HostnameOSArch (*)R versionInstalled pkgs
nebbiolo2Linux (Ubuntu 20.04.5 LTS)x86_644.2.3 (2023-03-15) -- "Shortstop Beagle" 4286
palomino4Windows Server 2022 Datacenterx644.2.3 (2023-03-15 ucrt) -- "Shortstop Beagle" 4276
lconwaymacOS 12.5.1 Montereyx86_644.2.3 (2023-03-15) -- "Shortstop Beagle" 4303
Click on any hostname to see more info about the system (e.g. compilers)      (*) as reported by 'uname -p', except on Windows and Mac OS X

CHECK results for customProDB on nebbiolo2


To the developers/maintainers of the customProDB package:
- Please allow up to 24 hours (and sometimes 48 hours) for your latest push to git@git.bioconductor.org:packages/customProDB.git to
reflect on this report. See How and When does the builder pull? When will my changes propagate? for more information.
- Make sure to use the following settings in order to reproduce any error or warning you see on this page.

raw results

Package 458/2183HostnameOS / ArchINSTALLBUILDCHECKBUILD BIN
customProDB 1.38.0  (landing page)
Xiaojing Wang
Snapshot Date: 2023-03-22 14:00:04 -0400 (Wed, 22 Mar 2023)
git_url: https://git.bioconductor.org/packages/customProDB
git_branch: RELEASE_3_16
git_last_commit: cfe95f1
git_last_commit_date: 2022-11-01 11:08:20 -0400 (Tue, 01 Nov 2022)
nebbiolo2Linux (Ubuntu 20.04.5 LTS) / x86_64  OK    OK    OK  UNNEEDED, same version is already published
palomino4Windows Server 2022 Datacenter / x64  OK    OK    OK    OK  UNNEEDED, same version is already published
lconwaymacOS 12.5.1 Monterey / x86_64  OK    OK    OK    OK  UNNEEDED, same version is already published

Summary

Package: customProDB
Version: 1.38.0
Command: /home/biocbuild/bbs-3.16-bioc/R/bin/R CMD check --install=check:customProDB.install-out.txt --library=/home/biocbuild/bbs-3.16-bioc/R/site-library --timings customProDB_1.38.0.tar.gz
StartedAt: 2023-03-22 20:15:04 -0400 (Wed, 22 Mar 2023)
EndedAt: 2023-03-22 20:23:52 -0400 (Wed, 22 Mar 2023)
EllapsedTime: 527.9 seconds
RetCode: 0
Status:   OK  
CheckDir: customProDB.Rcheck
Warnings: 0

Command output

##############################################################################
##############################################################################
###
### Running command:
###
###   /home/biocbuild/bbs-3.16-bioc/R/bin/R CMD check --install=check:customProDB.install-out.txt --library=/home/biocbuild/bbs-3.16-bioc/R/site-library --timings customProDB_1.38.0.tar.gz
###
##############################################################################
##############################################################################


* using log directory ‘/home/biocbuild/bbs-3.16-bioc/meat/customProDB.Rcheck’
* using R version 4.2.3 (2023-03-15)
* using platform: x86_64-pc-linux-gnu (64-bit)
* using session charset: UTF-8
* checking for file ‘customProDB/DESCRIPTION’ ... OK
* checking extension type ... Package
* this is package ‘customProDB’ version ‘1.38.0’
* checking package namespace information ... OK
* checking package dependencies ... OK
* checking if this is a source package ... OK
* checking if there is a namespace ... OK
* checking for hidden files and directories ... OK
* checking for portable file names ... OK
* checking for sufficient/correct file permissions ... OK
* checking whether package ‘customProDB’ can be installed ... OK
* checking installed package size ... OK
* checking package directory ... OK
* checking ‘build’ directory ... OK
* checking DESCRIPTION meta-information ... OK
* checking top-level files ... OK
* checking for left-over files ... OK
* checking index information ... OK
* checking package subdirectories ... OK
* checking R files for non-ASCII characters ... OK
* checking R files for syntax errors ... OK
* checking whether the package can be loaded ... OK
* checking whether the package can be loaded with stated dependencies ... OK
* checking whether the package can be unloaded cleanly ... OK
* checking whether the namespace can be loaded with stated dependencies ... OK
* checking whether the namespace can be unloaded cleanly ... OK
* checking loading without being on the library search path ... OK
* checking dependencies in R code ... NOTE
Unexported objects imported by ':::' calls:
  ‘biomaRt:::martBM’ ‘biomaRt:::martDataset’ ‘biomaRt:::martHost’
  See the note in ?`:::` about the use of this operator.
* checking S3 generic/method consistency ... OK
* checking replacement functions ... OK
* checking foreign function calls ... OK
* checking R code for possible problems ... NOTE
Bed2Range: no visible binding for global variable ‘V5’
OutputNovelJun: no visible binding for global variable ‘jun_type’
OutputVarproseq: no visible binding for global variable ‘genename’
OutputVarproseq: no visible binding for global variable ‘txname’
OutputVarproseq: no visible binding for global variable ‘proname’
OutputVarproseq: no visible binding for global variable ‘aaref’
OutputVarproseq: no visible binding for global variable ‘aapos’
OutputVarproseq: no visible binding for global variable ‘aavar’
OutputVarproseq: no visible binding for global variable ‘rsid’
OutputVarproseq_single: no visible binding for global variable
  ‘genename’
OutputVarproseq_single: no visible binding for global variable ‘txname’
OutputVarproseq_single: no visible binding for global variable
  ‘proname’
OutputVarproseq_single: no visible binding for global variable ‘aaref’
OutputVarproseq_single: no visible binding for global variable ‘aapos’
OutputVarproseq_single: no visible binding for global variable ‘aavar’
OutputVarproseq_single: no visible binding for global variable ‘rsid’
Outputaberrant: no visible binding for global variable ‘pro_name’
Positionincoding: no visible binding for global variable ‘cds_start’
Positionincoding: no visible binding for global variable ‘cds_end’
PrepareAnnotationEnsembl: no visible binding for global variable
  ‘ensembl_gene_id’
PrepareAnnotationEnsembl: no visible binding for global variable
  ‘pro_name’
PrepareAnnotationEnsembl: no visible binding for global variable
  ‘chrom’
PrepareAnnotationEnsembl: no visible binding for global variable ‘name’
PrepareAnnotationEnsembl: no visible binding for global variable
  ‘alleleCount’
PrepareAnnotationEnsembl: no visible binding for global variable
  ‘alleles’
PrepareAnnotationRefseq: no visible binding for global variable ‘name’
PrepareAnnotationRefseq: no visible binding for global variable
  ‘mrnaAcc’
PrepareAnnotationRefseq: no visible binding for global variable
  ‘protAcc’
PrepareAnnotationRefseq: no visible binding for global variable
  ‘transcript’
PrepareAnnotationRefseq: no visible binding for global variable ‘chrom’
PrepareAnnotationRefseq: no visible binding for global variable
  ‘alleleCount’
PrepareAnnotationRefseq: no visible binding for global variable
  ‘alleles’
PrepareAnnotationRefseq: no visible binding for global variable
  ‘COSMIC’
Varlocation: no visible binding for global variable ‘pro_name’
Undefined global functions or variables:
  COSMIC V5 aapos aaref aavar alleleCount alleles cds_end cds_start
  chrom ensembl_gene_id genename jun_type mrnaAcc name pro_name proname
  protAcc rsid transcript txname
* checking Rd files ... OK
* checking Rd metadata ... OK
* checking Rd cross-references ... OK
* checking for missing documentation entries ... OK
* checking for code/documentation mismatches ... OK
* checking Rd \usage sections ... OK
* checking Rd contents ... OK
* checking for unstated dependencies in examples ... OK
* checking files in ‘vignettes’ ... OK
* checking examples ... OK
Examples with CPU (user + system) or elapsed time > 5s
                          user system elapsed
PrepareAnnotationEnsembl 5.406  0.485  22.862
* checking for unstated dependencies in vignettes ... OK
* checking package vignettes in ‘inst/doc’ ... OK
* checking running R code from vignettes ...
  ‘customProDB.Rnw’ using ‘UTF-8’... OK
 OK
* checking re-building of vignette outputs ... OK
* checking PDF version of manual ... OK
* DONE

Status: 2 NOTEs
See
  ‘/home/biocbuild/bbs-3.16-bioc/meat/customProDB.Rcheck/00check.log’
for details.



Installation output

customProDB.Rcheck/00install.out

##############################################################################
##############################################################################
###
### Running command:
###
###   /home/biocbuild/bbs-3.16-bioc/R/bin/R CMD INSTALL customProDB
###
##############################################################################
##############################################################################


* installing to library ‘/home/biocbuild/bbs-3.16-bioc/R/site-library’
* installing *source* package ‘customProDB’ ...
** using staged installation
** R
** inst
** byte-compile and prepare package for lazy loading
** help
*** installing help indices
** building package indices
** installing vignettes
** testing if installed package can be loaded from temporary location
** testing if installed package can be loaded from final location
** testing if installed package keeps a record of temporary installation path
* DONE (customProDB)

Tests output


Example timings

customProDB.Rcheck/customProDB-Ex.timings

nameusersystemelapsed
Bed2Range0.0670.0160.083
InputVcf0.5830.0920.685
JunctionType0.7130.0240.738
Multiple_VCF0.6410.0320.674
OutputNovelJun1.3570.0281.386
OutputVarprocodingseq0.5560.0120.568
OutputVarproseq0.4690.0240.494
OutputVarproseq_single0.4780.0240.502
Outputaberrant0.2370.0320.269
Outputproseq0.5550.0000.556
OutputsharedPro1.5210.0071.531
Positionincoding0.3100.0170.326
PrepareAnnotationEnsembl 5.406 0.48522.862
PrepareAnnotationRefseq000
SharedJunc0.4980.0760.573
Varlocation000
aaVariation1.5250.2441.769
calculateRPKM0.5050.0160.520
easyRun1.1030.0521.154
easyRun_mul3.6560.1883.844