Back to Multiple platform build/check report for BioC 3.16:   simplified   long
ABCDEFGHIJKLMNOPQRS[T]UVWXYZ

This page was generated on 2023-03-24 11:06:59 -0400 (Fri, 24 Mar 2023).

HostnameOSArch (*)R versionInstalled pkgs
nebbiolo2Linux (Ubuntu 20.04.5 LTS)x86_644.2.3 (2023-03-15) -- "Shortstop Beagle" 4286
palomino4Windows Server 2022 Datacenterx644.2.3 (2023-03-15 ucrt) -- "Shortstop Beagle" 4276
lconwaymacOS 12.5.1 Montereyx86_644.2.3 (2023-03-15) -- "Shortstop Beagle" 4303
Click on any hostname to see more info about the system (e.g. compilers)      (*) as reported by 'uname -p', except on Windows and Mac OS X

CHECK results for TimiRGeN on lconway


To the developers/maintainers of the TimiRGeN package:
- Please allow up to 24 hours (and sometimes 48 hours) for your latest push to git@git.bioconductor.org:packages/TimiRGeN.git to
reflect on this report. See How and When does the builder pull? When will my changes propagate? for more information.
- Make sure to use the following settings in order to reproduce any error or warning you see on this page.

raw results

Package 2053/2183HostnameOS / ArchINSTALLBUILDCHECKBUILD BIN
TimiRGeN 1.8.0  (landing page)
Krutik Patel
Snapshot Date: 2023-03-22 14:00:04 -0400 (Wed, 22 Mar 2023)
git_url: https://git.bioconductor.org/packages/TimiRGeN
git_branch: RELEASE_3_16
git_last_commit: 6150789
git_last_commit_date: 2022-11-01 11:22:47 -0400 (Tue, 01 Nov 2022)
nebbiolo2Linux (Ubuntu 20.04.5 LTS) / x86_64  OK    OK    OK  UNNEEDED, same version is already published
palomino4Windows Server 2022 Datacenter / x64  OK    OK    OK    OK  UNNEEDED, same version is already published
lconwaymacOS 12.5.1 Monterey / x86_64  OK    OK    OK    OK  UNNEEDED, same version is already published

Summary

Package: TimiRGeN
Version: 1.8.0
Command: /Library/Frameworks/R.framework/Resources/bin/R CMD check --install=check:TimiRGeN.install-out.txt --library=/Library/Frameworks/R.framework/Resources/library --no-vignettes --timings TimiRGeN_1.8.0.tar.gz
StartedAt: 2023-03-22 23:11:40 -0400 (Wed, 22 Mar 2023)
EndedAt: 2023-03-22 23:20:45 -0400 (Wed, 22 Mar 2023)
EllapsedTime: 545.4 seconds
RetCode: 0
Status:   OK  
CheckDir: TimiRGeN.Rcheck
Warnings: 0

Command output

##############################################################################
##############################################################################
###
### Running command:
###
###   /Library/Frameworks/R.framework/Resources/bin/R CMD check --install=check:TimiRGeN.install-out.txt --library=/Library/Frameworks/R.framework/Resources/library --no-vignettes --timings TimiRGeN_1.8.0.tar.gz
###
##############################################################################
##############################################################################


* using log directory ‘/Users/biocbuild/bbs-3.16-bioc/meat/TimiRGeN.Rcheck’
* using R version 4.2.3 (2023-03-15)
* using platform: x86_64-apple-darwin17.0 (64-bit)
* using session charset: UTF-8
* using option ‘--no-vignettes’
* checking for file ‘TimiRGeN/DESCRIPTION’ ... OK
* checking extension type ... Package
* this is package ‘TimiRGeN’ version ‘1.8.0’
* package encoding: UTF-8
* checking package namespace information ... OK
* checking package dependencies ... OK
* checking if this is a source package ... OK
* checking if there is a namespace ... OK
* checking for hidden files and directories ... OK
* checking for portable file names ... OK
* checking for sufficient/correct file permissions ... OK
* checking whether package ‘TimiRGeN’ can be installed ... OK
* checking installed package size ... OK
* checking package directory ... OK
* checking ‘build’ directory ... OK
* checking DESCRIPTION meta-information ... OK
* checking top-level files ... OK
* checking for left-over files ... OK
* checking index information ... OK
* checking package subdirectories ... OK
* checking R files for non-ASCII characters ... OK
* checking R files for syntax errors ... OK
* checking whether the package can be loaded ... OK
* checking whether the package can be loaded with stated dependencies ... OK
* checking whether the package can be unloaded cleanly ... OK
* checking whether the namespace can be loaded with stated dependencies ... OK
* checking whether the namespace can be unloaded cleanly ... OK
* checking dependencies in R code ... OK
* checking S3 generic/method consistency ... OK
* checking replacement functions ... OK
* checking foreign function calls ... OK
* checking R code for possible problems ... OK
* checking Rd files ... OK
* checking Rd metadata ... OK
* checking Rd cross-references ... OK
* checking for missing documentation entries ... OK
* checking for code/documentation mismatches ... OK
* checking Rd \usage sections ... OK
* checking Rd contents ... OK
* checking for unstated dependencies in examples ... OK
* checking contents of ‘data’ directory ... OK
* checking data for non-ASCII characters ... NOTE
  Note: found 3 marked UTF-8 strings
* checking LazyData ... OK
* checking data for ASCII and uncompressed saves ... OK
* checking files in ‘vignettes’ ... OK
* checking examples ... OK
Examples with CPU (user + system) or elapsed time > 5s
                user system elapsed
clusterList    4.353  0.822   6.788
addIds         4.263  0.826  14.531
wikiMrna       3.747  0.771   5.514
multiReg       3.750  0.758   5.083
diffExpressRes 3.805  0.597   6.215
makeMapp       2.836  0.569   5.178
* checking for unstated dependencies in ‘tests’ ... OK
* checking tests ...
  Running ‘testthat.R’
 OK
* checking for unstated dependencies in vignettes ... OK
* checking package vignettes in ‘inst/doc’ ... OK
* checking running R code from vignettes ... SKIPPED
* checking re-building of vignette outputs ... SKIPPED
* checking PDF version of manual ... OK
* DONE

Status: 1 NOTE
See
  ‘/Users/biocbuild/bbs-3.16-bioc/meat/TimiRGeN.Rcheck/00check.log’
for details.



Installation output

TimiRGeN.Rcheck/00install.out

##############################################################################
##############################################################################
###
### Running command:
###
###   /Library/Frameworks/R.framework/Resources/bin/R CMD INSTALL TimiRGeN
###
##############################################################################
##############################################################################


* installing to library ‘/Library/Frameworks/R.framework/Versions/4.2/Resources/library’
* installing *source* package ‘TimiRGeN’ ...
** using staged installation
** R
** data
*** moving datasets to lazyload DB
** inst
** byte-compile and prepare package for lazy loading
** help
*** installing help indices
** building package indices
** installing vignettes
** testing if installed package can be loaded from temporary location
** testing if installed package can be loaded from final location
** testing if installed package keeps a record of temporary installation path
* DONE (TimiRGeN)

Tests output

TimiRGeN.Rcheck/tests/testthat.Rout


R version 4.2.3 (2023-03-15) -- "Shortstop Beagle"
Copyright (C) 2023 The R Foundation for Statistical Computing
Platform: x86_64-apple-darwin17.0 (64-bit)

R is free software and comes with ABSOLUTELY NO WARRANTY.
You are welcome to redistribute it under certain conditions.
Type 'license()' or 'licence()' for distribution details.

R is a collaborative project with many contributors.
Type 'contributors()' for more information and
'citation()' on how to cite R or R packages in publications.

Type 'demo()' for some demos, 'help()' for on-line help, or
'help.start()' for an HTML browser interface to help.
Type 'q()' to quit R.

> #unit test check
> library(testthat)
> library(TimiRGeN)
Loading required package: Mfuzz
Loading required package: Biobase
Loading required package: BiocGenerics

Attaching package: 'BiocGenerics'

The following objects are masked from 'package:stats':

    IQR, mad, sd, var, xtabs

The following objects are masked from 'package:base':

    Filter, Find, Map, Position, Reduce, anyDuplicated, aperm, append,
    as.data.frame, basename, cbind, colnames, dirname, do.call,
    duplicated, eval, evalq, get, grep, grepl, intersect, is.unsorted,
    lapply, mapply, match, mget, order, paste, pmax, pmax.int, pmin,
    pmin.int, rank, rbind, rownames, sapply, setdiff, sort, table,
    tapply, union, unique, unsplit, which.max, which.min

Welcome to Bioconductor

    Vignettes contain introductory material; view with
    'browseVignettes()'. To cite Bioconductor, see
    'citation("Biobase")', and for packages 'citation("pkgname")'.

Loading required package: e1071

Attaching package: 'DynDoc'

The following object is masked from 'package:BiocGenerics':

    path

Loading required package: MultiAssayExperiment
Loading required package: SummarizedExperiment
Loading required package: MatrixGenerics
Loading required package: matrixStats

Attaching package: 'matrixStats'

The following objects are masked from 'package:Biobase':

    anyMissing, rowMedians


Attaching package: 'MatrixGenerics'

The following objects are masked from 'package:matrixStats':

    colAlls, colAnyNAs, colAnys, colAvgsPerRowSet, colCollapse,
    colCounts, colCummaxs, colCummins, colCumprods, colCumsums,
    colDiffs, colIQRDiffs, colIQRs, colLogSumExps, colMadDiffs,
    colMads, colMaxs, colMeans2, colMedians, colMins, colOrderStats,
    colProds, colQuantiles, colRanges, colRanks, colSdDiffs, colSds,
    colSums2, colTabulates, colVarDiffs, colVars, colWeightedMads,
    colWeightedMeans, colWeightedMedians, colWeightedSds,
    colWeightedVars, rowAlls, rowAnyNAs, rowAnys, rowAvgsPerColSet,
    rowCollapse, rowCounts, rowCummaxs, rowCummins, rowCumprods,
    rowCumsums, rowDiffs, rowIQRDiffs, rowIQRs, rowLogSumExps,
    rowMadDiffs, rowMads, rowMaxs, rowMeans2, rowMedians, rowMins,
    rowOrderStats, rowProds, rowQuantiles, rowRanges, rowRanks,
    rowSdDiffs, rowSds, rowSums2, rowTabulates, rowVarDiffs, rowVars,
    rowWeightedMads, rowWeightedMeans, rowWeightedMedians,
    rowWeightedSds, rowWeightedVars

The following object is masked from 'package:Biobase':

    rowMedians

Loading required package: GenomicRanges
Loading required package: stats4
Loading required package: S4Vectors

Attaching package: 'S4Vectors'

The following objects are masked from 'package:base':

    I, expand.grid, unname

Loading required package: IRanges
Loading required package: GenomeInfoDb

> test_check(package = "TimiRGeN")
[ FAIL 0 | WARN 49 | SKIP 0 | PASS 124 ]

[ FAIL 0 | WARN 49 | SKIP 0 | PASS 124 ]
> 
> proc.time()
   user  system elapsed 
 24.784   6.857  31.550 

Example timings

TimiRGeN.Rcheck/TimiRGeN-Ex.timings

nameusersystemelapsed
UUO_data0.0060.0030.009
addIds 4.263 0.82614.531
addPrefix1.3740.1781.551
clusterCheck0.8710.2151.937
clusterList4.3530.8226.788
combineGenes0.4650.0770.759
createClusters1.0760.1652.262
createClusters20.8520.1611.366
cytoMake0.0000.0000.001
diffExpressRes3.8050.5976.215
dloadGmt1.3830.2802.912
dloadMirdb0.0010.0000.000
dloadMirtarbase0.3100.0620.372
dloadTargetscan000
eNames2.9560.5844.241
e_list_mouse0.0010.0020.003
enrichWiki2.1930.3703.153
genesList0.8330.2031.037
getIdsMir1.0550.1731.234
getIdsMrna2.7430.4253.733
gmtEnsembl1.1680.2191.835
hs_mRNA0.0010.0020.003
hs_miR0.0010.0020.002
hs_probes0.0010.0020.003
linearRegr3.6280.7754.991
long_data0.0030.0020.006
makeDynamic3.3100.7044.603
makeMapp2.8360.5695.178
makeNet0.0710.0170.088
matrixFilter0.2630.0610.324
miRTarBase0.0010.0020.002
mirMrnaInt0.2820.0640.346
mm_mRNA0.0010.0020.002
mm_miR0.0010.0020.002
multiReg3.7500.7585.083
quickBar1.9450.3512.765
quickCrossCorr3.5040.6934.744
quickDMap3.6120.7544.944
quickDendro3.4800.7384.791
quickFuzz0.8220.1831.585
quickHClust3.0890.6084.282
quickMap0.2480.0550.301
quickNet0.1160.0290.145
quickPathwayTC3.0750.6144.446
quickReg3.5920.7864.955
quickTC3.3350.7324.643
quickTCPred3.5870.7654.920
reduceWiki0.4770.0890.567
returnCluster0.9510.2391.823
significantVals0.3130.0650.375
startObject0.1070.0270.133
turnPercent0.3870.0900.473
w_list_mouse0.0010.0010.003
wikiMatrix0.2070.0440.248
wikiMrna3.7470.7715.514