Back to Multiple platform build/check report for BioC 3.16: simplified long |
|
This page was generated on 2023-03-29 11:05:18 -0400 (Wed, 29 Mar 2023).
Hostname | OS | Arch (*) | R version | Installed pkgs |
---|---|---|---|---|
nebbiolo2 | Linux (Ubuntu 20.04.5 LTS) | x86_64 | 4.2.3 (2023-03-15) -- "Shortstop Beagle" | 4482 |
palomino4 | Windows Server 2022 Datacenter | x64 | 4.2.3 (2023-03-15 ucrt) -- "Shortstop Beagle" | 4278 |
lconway | macOS 12.5.1 Monterey | x86_64 | 4.2.3 (2023-03-15) -- "Shortstop Beagle" | 4306 |
Click on any hostname to see more info about the system (e.g. compilers) (*) as reported by 'uname -p', except on Windows and Mac OS X |
To the developers/maintainers of the seqsetvis package: - Please allow up to 24 hours (and sometimes 48 hours) for your latest push to git@git.bioconductor.org:packages/seqsetvis.git to reflect on this report. See How and When does the builder pull? When will my changes propagate? for more information. - Make sure to use the following settings in order to reproduce any error or warning you see on this page. |
Package 1849/2183 | Hostname | OS / Arch | INSTALL | BUILD | CHECK | BUILD BIN | ||||||||
seqsetvis 1.18.1 (landing page) Joseph R Boyd
| nebbiolo2 | Linux (Ubuntu 20.04.5 LTS) / x86_64 | OK | OK | OK | ![]() | ||||||||
palomino4 | Windows Server 2022 Datacenter / x64 | OK | OK | OK | OK | ![]() | ||||||||
lconway | macOS 12.5.1 Monterey / x86_64 | OK | OK | OK | OK | ![]() | ||||||||
Package: seqsetvis |
Version: 1.18.1 |
Command: /home/biocbuild/bbs-3.16-bioc/R/bin/R CMD check --install=check:seqsetvis.install-out.txt --library=/home/biocbuild/bbs-3.16-bioc/R/site-library --timings seqsetvis_1.18.1.tar.gz |
StartedAt: 2023-03-28 00:04:39 -0400 (Tue, 28 Mar 2023) |
EndedAt: 2023-03-28 00:14:25 -0400 (Tue, 28 Mar 2023) |
EllapsedTime: 586.8 seconds |
RetCode: 0 |
Status: OK |
CheckDir: seqsetvis.Rcheck |
Warnings: 0 |
############################################################################## ############################################################################## ### ### Running command: ### ### /home/biocbuild/bbs-3.16-bioc/R/bin/R CMD check --install=check:seqsetvis.install-out.txt --library=/home/biocbuild/bbs-3.16-bioc/R/site-library --timings seqsetvis_1.18.1.tar.gz ### ############################################################################## ############################################################################## * using log directory ‘/home/biocbuild/bbs-3.16-bioc/meat/seqsetvis.Rcheck’ * using R version 4.2.3 (2023-03-15) * using platform: x86_64-pc-linux-gnu (64-bit) * using session charset: UTF-8 * checking for file ‘seqsetvis/DESCRIPTION’ ... OK * checking extension type ... Package * this is package ‘seqsetvis’ version ‘1.18.1’ * package encoding: UTF-8 * checking package namespace information ... OK * checking package dependencies ... OK * checking if this is a source package ... OK * checking if there is a namespace ... OK * checking for hidden files and directories ... OK * checking for portable file names ... OK * checking for sufficient/correct file permissions ... OK * checking whether package ‘seqsetvis’ can be installed ... OK * checking installed package size ... OK * checking package directory ... OK * checking ‘build’ directory ... OK * checking DESCRIPTION meta-information ... OK * checking top-level files ... OK * checking for left-over files ... OK * checking index information ... OK * checking package subdirectories ... OK * checking R files for non-ASCII characters ... OK * checking R files for syntax errors ... OK * checking whether the package can be loaded ... OK * checking whether the package can be loaded with stated dependencies ... OK * checking whether the package can be unloaded cleanly ... OK * checking whether the namespace can be loaded with stated dependencies ... OK * checking whether the namespace can be unloaded cleanly ... OK * checking loading without being on the library search path ... OK * checking dependencies in R code ... OK * checking S3 generic/method consistency ... OK * checking replacement functions ... OK * checking foreign function calls ... OK * checking R code for possible problems ... OK * checking Rd files ... OK * checking Rd metadata ... OK * checking Rd cross-references ... OK * checking for missing documentation entries ... OK * checking for code/documentation mismatches ... OK * checking Rd \usage sections ... OK * checking Rd contents ... OK * checking for unstated dependencies in examples ... OK * checking contents of ‘data’ directory ... OK * checking data for non-ASCII characters ... OK * checking LazyData ... OK * checking data for ASCII and uncompressed saves ... OK * checking files in ‘vignettes’ ... OK * checking examples ... OK Examples with CPU (user + system) or elapsed time > 5s user system elapsed ssvFeatureBinaryHeatmap 7.790 0.356 8.146 ssvFetchBam 6.359 0.020 6.344 ssvSignalBandedQuantiles 5.045 0.036 4.960 * checking for unstated dependencies in ‘tests’ ... OK * checking tests ... Running ‘testthat.R’ OK * checking for unstated dependencies in vignettes ... OK * checking package vignettes in ‘inst/doc’ ... OK * checking running R code from vignettes ... ‘seqsetvis_overview.Rmd’ using ‘UTF-8’... OK NONE * checking re-building of vignette outputs ... OK * checking PDF version of manual ... OK * DONE Status: OK
seqsetvis.Rcheck/00install.out
############################################################################## ############################################################################## ### ### Running command: ### ### /home/biocbuild/bbs-3.16-bioc/R/bin/R CMD INSTALL seqsetvis ### ############################################################################## ############################################################################## * installing to library ‘/home/biocbuild/bbs-3.16-bioc/R/site-library’ * installing *source* package ‘seqsetvis’ ... ** using staged installation ** R ** data *** moving datasets to lazyload DB ** inst ** byte-compile and prepare package for lazy loading ** help *** installing help indices ** building package indices ** installing vignettes ** testing if installed package can be loaded from temporary location ** testing if installed package can be loaded from final location ** testing if installed package keeps a record of temporary installation path * DONE (seqsetvis)
seqsetvis.Rcheck/tests/testthat.Rout
R version 4.2.3 (2023-03-15) -- "Shortstop Beagle" Copyright (C) 2023 The R Foundation for Statistical Computing Platform: x86_64-pc-linux-gnu (64-bit) R is free software and comes with ABSOLUTELY NO WARRANTY. You are welcome to redistribute it under certain conditions. Type 'license()' or 'licence()' for distribution details. R is a collaborative project with many contributors. Type 'contributors()' for more information and 'citation()' on how to cite R or R packages in publications. Type 'demo()' for some demos, 'help()' for on-line help, or 'help.start()' for an HTML browser interface to help. Type 'q()' to quit R. > > ## load dependencies > library(testthat) > library(seqsetvis) Loading required package: ggplot2 > library(data.table) > > ## test package > test_check(package = "seqsetvis") [ FAIL 0 | WARN 3 | SKIP 0 | PASS 1182 ] [ FAIL 0 | WARN 3 | SKIP 0 | PASS 1182 ] > > proc.time() user system elapsed 247.281 2.454 246.209
seqsetvis.Rcheck/seqsetvis-Ex.timings
name | user | system | elapsed | |
add_cluster_annotation | 2.670 | 0.072 | 2.698 | |
append_ynorm | 0.056 | 0.000 | 0.033 | |
applySpline | 0.470 | 0.003 | 0.435 | |
assemble_heatmap_cluster_bars | 0.733 | 0.001 | 0.698 | |
calc_norm_factors | 0.026 | 0.000 | 0.014 | |
centerAtMax | 0.335 | 0.004 | 0.290 | |
centerFixedSizeGRanges | 0.178 | 0.000 | 0.178 | |
centerGRangesAtMax | 0.409 | 0.008 | 0.374 | |
clusteringKmeans | 0.053 | 0.004 | 0.040 | |
clusteringKmeansNestedHclust | 0.036 | 0.000 | 0.023 | |
col2hex | 0.001 | 0.000 | 0.001 | |
collapse_gr | 0.717 | 0.008 | 0.725 | |
convert_collapsed_coord | 0.252 | 0.000 | 0.251 | |
copy_clust_info | 1.955 | 0.044 | 1.917 | |
crossCorrByRle | 0.473 | 0.000 | 0.474 | |
easyLoad_FUN | 0.055 | 0.004 | 0.060 | |
easyLoad_IDRmerged | 0.057 | 0.000 | 0.057 | |
easyLoad_bed | 0.113 | 0.000 | 0.113 | |
easyLoad_broadPeak | 0.035 | 0.000 | 0.036 | |
easyLoad_narrowPeak | 0.035 | 0.000 | 0.035 | |
easyLoad_seacr | 0.039 | 0.000 | 0.039 | |
expandCigar | 0.170 | 0.004 | 0.155 | |
fragLen_calcStranded | 1.658 | 0.012 | 1.664 | |
fragLen_fromMacs2Xls | 0.002 | 0.000 | 0.003 | |
getReadLength | 0.057 | 0.000 | 0.057 | |
get_mapped_reads | 0.009 | 0.000 | 0.008 | |
ggellipse | 0.565 | 0.000 | 0.565 | |
harmonize_seqlengths | 0.107 | 0.000 | 0.107 | |
make_clustering_matrix | 0.045 | 0.000 | 0.035 | |
merge_clusters | 4.373 | 0.116 | 4.397 | |
prepare_fetch_GRanges | 0.023 | 0.008 | 0.031 | |
prepare_fetch_GRanges_names | 0.072 | 0.000 | 0.072 | |
prepare_fetch_GRanges_width | 0.025 | 0.000 | 0.025 | |
quantileGRangesWidth | 0.001 | 0.000 | 0.001 | |
reorder_clusters_hclust | 1.815 | 0.004 | 1.773 | |
reorder_clusters_manual | 0.948 | 0.020 | 0.926 | |
reorder_clusters_stepdown | 1.873 | 0.000 | 1.827 | |
reverse_clusters | 2.076 | 0.023 | 2.010 | |
safeBrew | 0.029 | 0.000 | 0.029 | |
split_cluster | 1.83 | 0.00 | 1.73 | |
ssvConsensusIntervalSets | 0.356 | 0.000 | 0.356 | |
ssvFactorizeMembTable | 0.013 | 0.000 | 0.013 | |
ssvFeatureBars | 0.635 | 0.008 | 0.644 | |
ssvFeatureBinaryHeatmap | 7.790 | 0.356 | 8.146 | |
ssvFeatureEuler | 0.532 | 0.000 | 0.532 | |
ssvFeaturePie | 0.523 | 0.000 | 0.524 | |
ssvFeatureUpset | 2.783 | 0.048 | 2.831 | |
ssvFeatureVenn | 0.572 | 0.012 | 0.584 | |
ssvFetchBam | 6.359 | 0.020 | 6.344 | |
ssvFetchBamPE | 2.085 | 0.004 | 2.090 | |
ssvFetchBigwig | 1.435 | 0.004 | 1.439 | |
ssvFetchGRanges | 0.810 | 0.000 | 0.809 | |
ssvFetchSignal | 1.482 | 0.004 | 1.486 | |
ssvMakeMembTable-methods | 0.565 | 0.008 | 0.573 | |
ssvOverlapIntervalSets | 0.270 | 0.004 | 0.274 | |
ssvSignalBandedQuantiles | 5.045 | 0.036 | 4.960 | |
ssvSignalClustering | 2.661 | 0.004 | 2.566 | |
ssvSignalHeatmap.ClusterBars | 3.186 | 0.064 | 3.076 | |
ssvSignalHeatmap | 4.713 | 0.096 | 4.585 | |
ssvSignalLineplot | 2.337 | 0.000 | 2.331 | |
ssvSignalLineplotAgg | 1.055 | 0.000 | 1.036 | |
ssvSignalScatterplot | 0.888 | 0.000 | 0.843 | |
viewGRangesWinSample_dt | 1.288 | 0.028 | 1.309 | |
viewGRangesWinSummary_dt | 1.299 | 0.004 | 1.279 | |
within_clust_sort | 1.420 | 0.004 | 1.356 | |