Back to Multiple platform build/check report for BioC 3.16: simplified long |
|
This page was generated on 2023-03-27 11:04:54 -0400 (Mon, 27 Mar 2023).
Hostname | OS | Arch (*) | R version | Installed pkgs |
---|---|---|---|---|
nebbiolo2 | Linux (Ubuntu 20.04.5 LTS) | x86_64 | 4.2.3 (2023-03-15) -- "Shortstop Beagle" | 4480 |
palomino4 | Windows Server 2022 Datacenter | x64 | 4.2.3 (2023-03-15 ucrt) -- "Shortstop Beagle" | 4276 |
lconway | macOS 12.5.1 Monterey | x86_64 | 4.2.3 (2023-03-15) -- "Shortstop Beagle" | 4304 |
Click on any hostname to see more info about the system (e.g. compilers) (*) as reported by 'uname -p', except on Windows and Mac OS X |
To the developers/maintainers of the chromVAR package: - Please allow up to 24 hours (and sometimes 48 hours) for your latest push to git@git.bioconductor.org:packages/chromVAR.git to reflect on this report. See How and When does the builder pull? When will my changes propagate? for more information. - Make sure to use the following settings in order to reproduce any error or warning you see on this page. |
Package 327/2183 | Hostname | OS / Arch | INSTALL | BUILD | CHECK | BUILD BIN | ||||||||
chromVAR 1.20.2 (landing page) Alicia Schep
| nebbiolo2 | Linux (Ubuntu 20.04.5 LTS) / x86_64 | OK | OK | OK | ![]() | ||||||||
palomino4 | Windows Server 2022 Datacenter / x64 | OK | OK | OK | OK | ![]() | ||||||||
lconway | macOS 12.5.1 Monterey / x86_64 | OK | OK | OK | OK | ![]() | ||||||||
Package: chromVAR |
Version: 1.20.2 |
Command: /home/biocbuild/bbs-3.16-bioc/R/bin/R CMD check --install=check:chromVAR.install-out.txt --library=/home/biocbuild/bbs-3.16-bioc/R/site-library --timings chromVAR_1.20.2.tar.gz |
StartedAt: 2023-03-24 19:32:44 -0400 (Fri, 24 Mar 2023) |
EndedAt: 2023-03-24 19:40:21 -0400 (Fri, 24 Mar 2023) |
EllapsedTime: 457.3 seconds |
RetCode: 0 |
Status: OK |
CheckDir: chromVAR.Rcheck |
Warnings: 0 |
############################################################################## ############################################################################## ### ### Running command: ### ### /home/biocbuild/bbs-3.16-bioc/R/bin/R CMD check --install=check:chromVAR.install-out.txt --library=/home/biocbuild/bbs-3.16-bioc/R/site-library --timings chromVAR_1.20.2.tar.gz ### ############################################################################## ############################################################################## * using log directory ‘/home/biocbuild/bbs-3.16-bioc/meat/chromVAR.Rcheck’ * using R version 4.2.3 (2023-03-15) * using platform: x86_64-pc-linux-gnu (64-bit) * using session charset: UTF-8 * checking for file ‘chromVAR/DESCRIPTION’ ... OK * checking extension type ... Package * this is package ‘chromVAR’ version ‘1.20.2’ * checking package namespace information ... OK * checking package dependencies ... OK * checking if this is a source package ... OK * checking if there is a namespace ... OK * checking for hidden files and directories ... OK * checking for portable file names ... OK * checking for sufficient/correct file permissions ... OK * checking whether package ‘chromVAR’ can be installed ... OK * checking installed package size ... NOTE installed size is 5.4Mb sub-directories of 1Mb or more: libs 3.9Mb * checking package directory ... OK * checking ‘build’ directory ... OK * checking DESCRIPTION meta-information ... OK * checking top-level files ... OK * checking for left-over files ... OK * checking index information ... OK * checking package subdirectories ... OK * checking R files for non-ASCII characters ... OK * checking R files for syntax errors ... OK * checking whether the package can be loaded ... OK * checking whether the package can be loaded with stated dependencies ... OK * checking whether the package can be unloaded cleanly ... OK * checking whether the namespace can be loaded with stated dependencies ... OK * checking whether the namespace can be unloaded cleanly ... OK * checking loading without being on the library search path ... OK * checking dependencies in R code ... OK * checking S3 generic/method consistency ... OK * checking replacement functions ... OK * checking foreign function calls ... OK * checking R code for possible problems ... NOTE left_right_to_grglist: no visible global function definition for ‘GenomicRangesList’ Undefined global functions or variables: GenomicRangesList * checking Rd files ... OK * checking Rd metadata ... OK * checking Rd cross-references ... OK * checking for missing documentation entries ... OK * checking for code/documentation mismatches ... OK * checking Rd \usage sections ... OK * checking Rd contents ... OK * checking for unstated dependencies in examples ... OK * checking contents of ‘data’ directory ... OK * checking data for non-ASCII characters ... OK * checking LazyData ... OK * checking data for ASCII and uncompressed saves ... OK * checking line endings in C/C++/Fortran sources/headers ... OK * checking line endings in Makefiles ... OK * checking compilation flags in Makevars ... OK * checking for GNU extensions in Makefiles ... OK * checking for portable use of $(BLAS_LIBS) and $(LAPACK_LIBS) ... OK * checking use of PKG_*FLAGS in Makefiles ... OK * checking compiled code ... NOTE Note: information on .o files is not available * checking files in ‘vignettes’ ... OK * checking examples ... OK Examples with CPU (user + system) or elapsed time > 5s user system elapsed deviationsCovariability 16.087 0.260 16.352 pwmDistance 5.958 0.072 6.032 getJasparMotifs 5.858 0.172 6.031 * checking for unstated dependencies in ‘tests’ ... OK * checking tests ... Running ‘testthat.R’ OK * checking for unstated dependencies in vignettes ... OK * checking package vignettes in ‘inst/doc’ ... OK * checking running R code from vignettes ... ‘Introduction.Rmd’ using ‘UTF-8’... OK NONE * checking re-building of vignette outputs ... OK * checking PDF version of manual ... OK * DONE Status: 3 NOTEs See ‘/home/biocbuild/bbs-3.16-bioc/meat/chromVAR.Rcheck/00check.log’ for details.
chromVAR.Rcheck/00install.out
############################################################################## ############################################################################## ### ### Running command: ### ### /home/biocbuild/bbs-3.16-bioc/R/bin/R CMD INSTALL chromVAR ### ############################################################################## ############################################################################## * installing to library ‘/home/biocbuild/bbs-3.16-bioc/R/site-library’ * installing *source* package ‘chromVAR’ ... ** using staged installation ** libs g++ -std=gnu++11 -I"/home/biocbuild/bbs-3.16-bioc/R/include" -DNDEBUG -I'/home/biocbuild/bbs-3.16-bioc/R/site-library/Rcpp/include' -I'/home/biocbuild/bbs-3.16-bioc/R/site-library/RcppArmadillo/include' -I/usr/local/include -fpic -g -O2 -Wall -c RcppExports.cpp -o RcppExports.o g++ -std=gnu++11 -I"/home/biocbuild/bbs-3.16-bioc/R/include" -DNDEBUG -I'/home/biocbuild/bbs-3.16-bioc/R/site-library/Rcpp/include' -I'/home/biocbuild/bbs-3.16-bioc/R/site-library/RcppArmadillo/include' -I/usr/local/include -fpic -g -O2 -Wall -c pwm_similarity.cpp -o pwm_similarity.o g++ -std=gnu++11 -I"/home/biocbuild/bbs-3.16-bioc/R/include" -DNDEBUG -I'/home/biocbuild/bbs-3.16-bioc/R/site-library/Rcpp/include' -I'/home/biocbuild/bbs-3.16-bioc/R/site-library/RcppArmadillo/include' -I/usr/local/include -fpic -g -O2 -Wall -c utils.cpp -o utils.o utils.cpp: In function ‘Rcpp::NumericVector row_sds(arma::mat&, bool)’: utils.cpp:12:21: warning: comparison of integer expressions of different signedness: ‘int’ and ‘const uword’ {aka ‘const unsigned int’} [-Wsign-compare] 12 | for( int j=0; j < X.n_rows; j++ ) { | ~~^~~~~~~~~~ g++ -std=gnu++11 -shared -L/home/biocbuild/bbs-3.16-bioc/R/lib -L/usr/local/lib -o chromVAR.so RcppExports.o pwm_similarity.o utils.o -L/home/biocbuild/bbs-3.16-bioc/R/lib -lRlapack -L/home/biocbuild/bbs-3.16-bioc/R/lib -lRblas -lgfortran -lm -lquadmath -L/home/biocbuild/bbs-3.16-bioc/R/lib -lR installing to /home/biocbuild/bbs-3.16-bioc/R/site-library/00LOCK-chromVAR/00new/chromVAR/libs ** R ** data *** moving datasets to lazyload DB ** inst ** byte-compile and prepare package for lazy loading ** help *** installing help indices ** building package indices ** installing vignettes ** testing if installed package can be loaded from temporary location ** checking absolute paths in shared objects and dynamic libraries ** testing if installed package can be loaded from final location ** testing if installed package keeps a record of temporary installation path * DONE (chromVAR)
chromVAR.Rcheck/tests/testthat.Rout
R version 4.2.3 (2023-03-15) -- "Shortstop Beagle" Copyright (C) 2023 The R Foundation for Statistical Computing Platform: x86_64-pc-linux-gnu (64-bit) R is free software and comes with ABSOLUTELY NO WARRANTY. You are welcome to redistribute it under certain conditions. Type 'license()' or 'licence()' for distribution details. R is a collaborative project with many contributors. Type 'contributors()' for more information and 'citation()' on how to cite R or R packages in publications. Type 'demo()' for some demos, 'help()' for on-line help, or 'help.start()' for an HTML browser interface to help. Type 'q()' to quit R. > library(testthat) > library(chromVAR) > BiocParallel::register(BiocParallel::SerialParam()) > test_check("chromVAR") [ FAIL 0 | WARN 0 | SKIP 0 | PASS 65 ] > > proc.time() user system elapsed 23.204 1.175 24.365
chromVAR.Rcheck/chromVAR-Ex.timings
name | user | system | elapsed | |
addGCBias | 0.582 | 0.016 | 0.598 | |
annotationMatches | 0.008 | 0.003 | 0.011 | |
chromVAR_theme | 0.202 | 0.000 | 0.202 | |
computeDeviations | 2.729 | 0.088 | 2.817 | |
computeExpectations | 0.025 | 0.000 | 0.025 | |
computeVariability | 3.027 | 0.160 | 3.187 | |
counts | 0.007 | 0.000 | 0.007 | |
deviationScores | 0.004 | 0.000 | 0.004 | |
deviations | 0.005 | 0.000 | 0.004 | |
deviationsCovariability | 16.087 | 0.260 | 16.352 | |
deviationsTsne | 0.049 | 0.008 | 0.057 | |
differentialDeviations | 0.007 | 0.004 | 0.011 | |
differentialVariability | 0.018 | 0.004 | 0.022 | |
example_counts | 0.001 | 0.000 | 0.001 | |
filterPeaks | 0.209 | 0.000 | 0.209 | |
filterSamples | 0.045 | 0.000 | 0.045 | |
filterSamplesPlot | 0.099 | 0.000 | 0.099 | |
getAnnotations | 0.286 | 0.004 | 0.290 | |
getBackgroundPeaks | 0.447 | 0.092 | 0.539 | |
getCisGroups | 0.096 | 0.004 | 0.100 | |
getCounts | 3.354 | 0.140 | 3.508 | |
getFragmentsPerPeak | 0.007 | 0.000 | 0.007 | |
getFragmentsPerSample | 0.007 | 0.000 | 0.007 | |
getJasparMotifs | 5.858 | 0.172 | 6.031 | |
getPeaks | 0.133 | 0.020 | 0.151 | |
getPermutedData | 1.069 | 0.200 | 1.269 | |
getSampleCorrelation | 0.012 | 0.000 | 0.011 | |
getSampleDepths | 0.083 | 0.016 | 0.099 | |
getSampleDistance | 0.012 | 0.000 | 0.011 | |
getTotalFragments | 0.007 | 0.000 | 0.007 | |
makeBiasBins | 0.041 | 0.000 | 0.041 | |
makePermutedSets | 0.990 | 0.032 | 1.023 | |
matchKmers | 1.987 | 0.040 | 2.027 | |
mini_counts | 0.001 | 0.000 | 0.001 | |
mini_dev | 0 | 0 | 0 | |
mini_ix | 0.000 | 0.000 | 0.001 | |
plotVariability | 2.970 | 0.048 | 3.019 | |
pwmDistance | 5.958 | 0.072 | 6.032 | |
rbind-chromVARDeviations-method | 0.048 | 0.000 | 0.049 | |