Back to Multiple platform build/check report for BioC 3.16:   simplified   long
AB[C]DEFGHIJKLMNOPQRSTUVWXYZ

This page was generated on 2023-03-27 11:04:54 -0400 (Mon, 27 Mar 2023).

HostnameOSArch (*)R versionInstalled pkgs
nebbiolo2Linux (Ubuntu 20.04.5 LTS)x86_644.2.3 (2023-03-15) -- "Shortstop Beagle" 4480
palomino4Windows Server 2022 Datacenterx644.2.3 (2023-03-15 ucrt) -- "Shortstop Beagle" 4276
lconwaymacOS 12.5.1 Montereyx86_644.2.3 (2023-03-15) -- "Shortstop Beagle" 4304
Click on any hostname to see more info about the system (e.g. compilers)      (*) as reported by 'uname -p', except on Windows and Mac OS X

BUILD results for ChIPQC on nebbiolo2


To the developers/maintainers of the ChIPQC package:
- Please allow up to 24 hours (and sometimes 48 hours) for your latest push to git@git.bioconductor.org:packages/ChIPQC.git to
reflect on this report. See How and When does the builder pull? When will my changes propagate? for more information.
- Make sure to use the following settings in order to reproduce any error or warning you see on this page.

raw results

Package 314/2183HostnameOS / ArchINSTALLBUILDCHECKBUILD BIN
ChIPQC 1.34.1  (landing page)
Tom Carroll , Rory Stark
Snapshot Date: 2023-03-24 14:00:04 -0400 (Fri, 24 Mar 2023)
git_url: https://git.bioconductor.org/packages/ChIPQC
git_branch: RELEASE_3_16
git_last_commit: dabb39a
git_last_commit_date: 2023-01-10 07:39:10 -0400 (Tue, 10 Jan 2023)
nebbiolo2Linux (Ubuntu 20.04.5 LTS) / x86_64  OK    OK    WARNINGS  UNNEEDED, same version is already published
palomino4Windows Server 2022 Datacenter / x64  OK    OK    WARNINGS    OK  UNNEEDED, same version is already published
lconwaymacOS 12.5.1 Monterey / x86_64  OK    OK    WARNINGS    OK  UNNEEDED, same version is already published

Summary

Package: ChIPQC
Version: 1.34.1
Command: /home/biocbuild/bbs-3.16-bioc/R/bin/R CMD build --keep-empty-dirs --no-resave-data ChIPQC
StartedAt: 2023-03-24 16:10:41 -0400 (Fri, 24 Mar 2023)
EndedAt: 2023-03-24 16:12:09 -0400 (Fri, 24 Mar 2023)
EllapsedTime: 87.9 seconds
RetCode: 0
Status:   OK  
PackageFile: ChIPQC_1.34.1.tar.gz
PackageFileSize: 1.514 MiB

Command output

##############################################################################
##############################################################################
###
### Running command:
###
###   /home/biocbuild/bbs-3.16-bioc/R/bin/R CMD build --keep-empty-dirs --no-resave-data ChIPQC
###
##############################################################################
##############################################################################


* checking for file ‘ChIPQC/DESCRIPTION’ ... OK
* preparing ‘ChIPQC’:
* checking DESCRIPTION meta-information ... OK
* installing the package to build vignettes
* creating vignettes ... OK
* checking for LF line-endings in source and make files and shell scripts
* checking for empty or unneeded directories
* looking to see if a ‘data/datalist’ file should be added
* building ‘ChIPQC_1.34.1.tar.gz’