Back to Multiple platform build/check report for BioC 3.16:   simplified   long
ABCDEFGHIJKL[M]NOPQRSTUVWXYZ

This page was generated on 2023-03-27 11:05:34 -0400 (Mon, 27 Mar 2023).

HostnameOSArch (*)R versionInstalled pkgs
nebbiolo2Linux (Ubuntu 20.04.5 LTS)x86_644.2.3 (2023-03-15) -- "Shortstop Beagle" 4480
palomino4Windows Server 2022 Datacenterx644.2.3 (2023-03-15 ucrt) -- "Shortstop Beagle" 4276
lconwaymacOS 12.5.1 Montereyx86_644.2.3 (2023-03-15) -- "Shortstop Beagle" 4304
Click on any hostname to see more info about the system (e.g. compilers)      (*) as reported by 'uname -p', except on Windows and Mac OS X

BUILD results for mistyR on palomino4


To the developers/maintainers of the mistyR package:
- Please allow up to 24 hours (and sometimes 48 hours) for your latest push to git@git.bioconductor.org:packages/mistyR.git to
reflect on this report. See How and When does the builder pull? When will my changes propagate? for more information.
- Make sure to use the following settings in order to reproduce any error or warning you see on this page.

raw results

Package 1227/2183HostnameOS / ArchINSTALLBUILDCHECKBUILD BIN
mistyR 1.6.1  (landing page)
Jovan Tanevski
Snapshot Date: 2023-03-24 14:00:04 -0400 (Fri, 24 Mar 2023)
git_url: https://git.bioconductor.org/packages/mistyR
git_branch: RELEASE_3_16
git_last_commit: 23b3fdf
git_last_commit_date: 2023-02-20 03:54:27 -0400 (Mon, 20 Feb 2023)
nebbiolo2Linux (Ubuntu 20.04.5 LTS) / x86_64  OK    OK    OK  UNNEEDED, same version is already published
palomino4Windows Server 2022 Datacenter / x64  OK    ERROR  skippedskipped
lconwaymacOS 12.5.1 Monterey / x86_64  OK    OK    OK    OK  UNNEEDED, same version is already published

Summary

Package: mistyR
Version: 1.6.1
Command: chmod a+r mistyR -R && F:\biocbuild\bbs-3.16-bioc\R\bin\R.exe CMD build --keep-empty-dirs --no-resave-data mistyR
StartedAt: 2023-03-24 19:55:31 -0400 (Fri, 24 Mar 2023)
EndedAt: 2023-03-24 19:57:51 -0400 (Fri, 24 Mar 2023)
EllapsedTime: 139.7 seconds
RetCode: 1
Status:   ERROR  
PackageFile: None
PackageFileSize: NA

Command output

##############################################################################
##############################################################################
###
### Running command:
###
###   chmod a+r mistyR -R && F:\biocbuild\bbs-3.16-bioc\R\bin\R.exe CMD build --keep-empty-dirs --no-resave-data mistyR
###
##############################################################################
##############################################################################


* checking for file 'mistyR/DESCRIPTION' ... OK
* preparing 'mistyR':
* checking DESCRIPTION meta-information ... OK
* installing the package to build vignettes
* creating vignettes ...Warning in file(con, "r") :
  cannot open file 'F:\biocbuild\bbs-3.16-bioc\tmpdir\RtmpUd8GkK\xshell27b86445448e': Permission denied
Error in file(con, "r") : cannot open the connection
Execution halted