Back to Multiple platform build/check report for BioC 3.16
ABCDEF[G]HIJKLMNOPQRSTUVWXYZ

This page was generated on 2023-01-31 11:05:01 -0500 (Tue, 31 Jan 2023).

HostnameOSArch (*)R versionInstalled pkgs
nebbiolo2Linux (Ubuntu 20.04.5 LTS)x86_644.2.2 (2022-10-31) -- "Innocent and Trusting" 4511
palomino4Windows Server 2022 Datacenterx644.2.2 (2022-10-31 ucrt) -- "Innocent and Trusting" 4289
lconwaymacOS 12.5.1 Montereyx86_644.2.2 (2022-10-31) -- "Innocent and Trusting" 4318
Click on any hostname to see more info about the system (e.g. compilers)      (*) as reported by 'uname -p', except on Windows and Mac OS X

All results for package GenomicAlignments


To the developers/maintainers of the GenomicAlignments package:
- Please allow up to 24 hours (and sometimes 48 hours) for your latest push to git@git.bioconductor.org:packages/GenomicAlignments.git to
reflect on this report. See How and When does the builder pull? When will my changes propagate? for more information.
- Make sure to use the following settings in order to reproduce any error or warning you see on this page.

raw results

Package 782/2183HostnameOS / ArchINSTALLBUILDCHECKBUILD BIN
GenomicAlignments 1.34.0  (landing page)
Hervé Pagès
Snapshot Date: 2023-01-30 14:00:05 -0500 (Mon, 30 Jan 2023)
git_url: https://git.bioconductor.org/packages/GenomicAlignments
git_branch: RELEASE_3_16
git_last_commit: c6eb780
git_last_commit_date: 2022-11-01 11:08:59 -0500 (Tue, 01 Nov 2022)
nebbiolo2Linux (Ubuntu 20.04.5 LTS) / x86_64  OK    OK    OK  UNNEEDED, same version is already published
palomino4Windows Server 2022 Datacenter / x64  OK    OK    OK    OK  UNNEEDED, same version is already published
lconwaymacOS 12.5.1 Monterey / x86_64  OK    OK    OK    OK  UNNEEDED, same version is already published

Results for Bioconductor software packages that depend directly on package GenomicAlignments

QUICK STATSOS / ArchINSTALLBUILDCHECKBUILD BIN
nebbiolo2Linux (Ubuntu 20.04.5 LTS) / x86_64
02109
04107
042677
palomino4Windows Server 2022 Datacenter / x64
02105
05102
032574
00102
lconwaymacOS 12.5.1 Monterey / x86_64
03107
07103
032377
00103
Package 1/111HostnameOS / ArchINSTALLBUILDCHECKBUILD BIN
AllelicImbalance 1.36.0  (landing page)
Jesper R Gadin
git_last_commit: cb4910c
git_last_commit_date: 2022-11-01 11:08:46 -0500
nebbiolo2Linux (Ubuntu 20.04.5 LTS) / x86_64  OK    OK    OK  UNNEEDED, same version is already published
palomino4Windows Server 2022 Datacenter / x64  OK    OK    OK    OK  UNNEEDED, same version is already published
lconwaymacOS 12.5.1 Monterey / x86_64  OK    OK    OK    OK  UNNEEDED, same version is already published
Package 2/111HostnameOS / ArchINSTALLBUILDCHECKBUILD BIN
alpine 1.24.0  (landing page)
Michael Love
git_last_commit: 7e734d4
git_last_commit_date: 2022-11-01 11:14:18 -0500
nebbiolo2Linux (Ubuntu 20.04.5 LTS) / x86_64  OK    OK    OK  UNNEEDED, same version is already published
palomino4Windows Server 2022 Datacenter / x64  OK    OK    OK    OK  UNNEEDED, same version is already published
lconwaymacOS 12.5.1 Monterey / x86_64  OK    OK    OK    OK  UNNEEDED, same version is already published
Package 3/111HostnameOS / ArchINSTALLBUILDCHECKBUILD BIN
AneuFinder 1.26.0  (landing page)
Aaron Taudt
git_last_commit: 7cd59a1
git_last_commit_date: 2022-11-01 11:13:19 -0500
nebbiolo2Linux (Ubuntu 20.04.5 LTS) / x86_64  OK    OK    WARNINGS  UNNEEDED, same version is already published
palomino4Windows Server 2022 Datacenter / x64  OK    OK    WARNINGS    OK  UNNEEDED, same version is already published
lconwaymacOS 12.5.1 Monterey / x86_64  OK    OK    WARNINGS    OK  UNNEEDED, same version is already published
Package 4/111HostnameOS / ArchINSTALLBUILDCHECKBUILD BIN
APAlyzer 1.12.0  (landing page)
Ruijia Wang
git_last_commit: 46cf23c
git_last_commit_date: 2022-11-01 11:20:19 -0500
nebbiolo2Linux (Ubuntu 20.04.5 LTS) / x86_64  OK    OK    WARNINGS  UNNEEDED, same version is already published
palomino4Windows Server 2022 Datacenter / x64  OK    OK    WARNINGS    OK  UNNEEDED, same version is already published
lconwaymacOS 12.5.1 Monterey / x86_64  OK    OK    WARNINGS    OK  UNNEEDED, same version is already published
Package 5/111HostnameOS / ArchINSTALLBUILDCHECKBUILD BIN
ASpediaFI 1.12.0  (landing page)
Doyeong Yu
git_last_commit: ad0dc91
git_last_commit_date: 2022-11-01 11:20:47 -0500
nebbiolo2Linux (Ubuntu 20.04.5 LTS) / x86_64  ERROR    ERROR  skipped
palomino4Windows Server 2022 Datacenter / x64  ERROR    ERROR  skippedskipped
lconwaymacOS 12.5.1 Monterey / x86_64  ERROR    ERROR  skippedskipped
Package 6/111HostnameOS / ArchINSTALLBUILDCHECKBUILD BIN
ASpli 2.8.0  (landing page)
Estefania Mancini
git_last_commit: ff40685
git_last_commit_date: 2022-11-01 11:14:10 -0500
nebbiolo2Linux (Ubuntu 20.04.5 LTS) / x86_64  OK    OK    OK  UNNEEDED, same version is already published
palomino4Windows Server 2022 Datacenter / x64  OK    OK    OK    OK  UNNEEDED, same version is already published
lconwaymacOS 12.5.1 Monterey / x86_64  OK    OK    OK    OK  UNNEEDED, same version is already published
Package 7/111HostnameOS / ArchINSTALLBUILDCHECKBUILD BIN
ATACseqQC 1.22.0  (landing page)
Jianhong Ou
git_last_commit: be03c44
git_last_commit_date: 2022-11-01 11:15:41 -0500
nebbiolo2Linux (Ubuntu 20.04.5 LTS) / x86_64  OK    OK    OK  UNNEEDED, same version is already published
palomino4Windows Server 2022 Datacenter / x64  OK    OK    OK    OK  UNNEEDED, same version is already published
lconwaymacOS 12.5.1 Monterey / x86_64  OK    OK    OK    OK  UNNEEDED, same version is already published
Package 8/111HostnameOS / ArchINSTALLBUILDCHECKBUILD BIN
ATACseqTFEA 1.0.1  (landing page)
Jianhong Ou
git_last_commit: ba0fb29
git_last_commit_date: 2022-11-04 14:12:12 -0500
nebbiolo2Linux (Ubuntu 20.04.5 LTS) / x86_64  OK    OK    OK  UNNEEDED, same version is already published
palomino4Windows Server 2022 Datacenter / x64  OK    OK    OK    OK  UNNEEDED, same version is already published
lconwaymacOS 12.5.1 Monterey / x86_64  OK    OK    OK    OK  UNNEEDED, same version is already published
Package 9/111HostnameOS / ArchINSTALLBUILDCHECKBUILD BIN
atena 1.4.0  (landing page)
Beatriz Calvo-Serra
git_last_commit: ee2acff
git_last_commit_date: 2022-11-01 11:25:40 -0500
nebbiolo2Linux (Ubuntu 20.04.5 LTS) / x86_64  OK    OK    OK  UNNEEDED, same version is already published
palomino4Windows Server 2022 Datacenter / x64  OK    OK    OK    OK  UNNEEDED, same version is already published
lconwaymacOS 12.5.1 Monterey / x86_64  OK    OK    OK    OK  UNNEEDED, same version is already published
Package 10/111HostnameOS / ArchINSTALLBUILDCHECKBUILD BIN
BaalChIP 1.24.0  (landing page)
Ines de Santiago
git_last_commit: d4145fe
git_last_commit_date: 2022-11-01 11:14:26 -0500
nebbiolo2Linux (Ubuntu 20.04.5 LTS) / x86_64  OK    OK    WARNINGS  UNNEEDED, same version is already published
palomino4Windows Server 2022 Datacenter / x64  OK    OK    WARNINGS    OK  UNNEEDED, same version is already published
lconwaymacOS 12.5.1 Monterey / x86_64  OK    OK    WARNINGS    OK  UNNEEDED, same version is already published
Package 11/111HostnameOS / ArchINSTALLBUILDCHECKBUILD BIN
bambu 3.0.7  (landing page)
Ying Chen
git_last_commit: 83da64a
git_last_commit_date: 2023-01-19 11:14:07 -0500
nebbiolo2Linux (Ubuntu 20.04.5 LTS) / x86_64  OK    ERROR  skipped
palomino4Windows Server 2022 Datacenter / x64  OK    ERROR  skippedskipped
lconwaymacOS 12.5.1 Monterey / x86_64  OK    ERROR  skippedskipped
Package 12/111HostnameOS / ArchINSTALLBUILDCHECKBUILD BIN
Basic4Cseq 1.34.0  (landing page)
Carolin Walter
git_last_commit: 53ec861
git_last_commit_date: 2022-11-01 11:09:18 -0500
nebbiolo2Linux (Ubuntu 20.04.5 LTS) / x86_64  OK    OK    OK  UNNEEDED, same version is already published
palomino4Windows Server 2022 Datacenter / x64  OK    OK    OK    OK  UNNEEDED, same version is already published
lconwaymacOS 12.5.1 Monterey / x86_64  OK    OK    OK    OK  UNNEEDED, same version is already published
Package 13/111HostnameOS / ArchINSTALLBUILDCHECKBUILD BIN
BasicSTARRseq 1.26.0  (landing page)
Annika Buerger
git_last_commit: b156a23
git_last_commit_date: 2022-11-01 11:12:51 -0500
nebbiolo2Linux (Ubuntu 20.04.5 LTS) / x86_64  OK    OK    OK  UNNEEDED, same version is already published
palomino4Windows Server 2022 Datacenter / x64  OK    OK    OK    OK  UNNEEDED, same version is already published
lconwaymacOS 12.5.1 Monterey / x86_64  OK    OK    OK    OK  UNNEEDED, same version is already published
Package 14/111HostnameOS / ArchINSTALLBUILDCHECKBUILD BIN
biovizBase 1.46.0  (landing page)
Michael Lawrence
git_last_commit: a47060c
git_last_commit_date: 2022-11-01 11:06:19 -0500
nebbiolo2Linux (Ubuntu 20.04.5 LTS) / x86_64  OK    OK    WARNINGS  UNNEEDED, same version is already published
palomino4Windows Server 2022 Datacenter / x64  OK    OK    WARNINGS    OK  UNNEEDED, same version is already published
lconwaymacOS 12.5.1 Monterey / x86_64  OK    OK    WARNINGS    OK  UNNEEDED, same version is already published
Package 15/111HostnameOS / ArchINSTALLBUILDCHECKBUILD BIN
breakpointR 1.16.0  (landing page)
David Porubsky
git_last_commit: 04d0691
git_last_commit_date: 2022-11-01 11:18:28 -0500
nebbiolo2Linux (Ubuntu 20.04.5 LTS) / x86_64  OK    OK    OK  UNNEEDED, same version is already published
palomino4Windows Server 2022 Datacenter / x64  OK    OK    OK    OK  UNNEEDED, same version is already published
lconwaymacOS 12.5.1 Monterey / x86_64  OK    OK    OK    OK  UNNEEDED, same version is already published
Package 16/111HostnameOS / ArchINSTALLBUILDCHECKBUILD BIN
BRGenomics 1.10.0  (landing page)
Mike DeBerardine
git_last_commit: 966826e
git_last_commit_date: 2022-11-01 11:21:40 -0500
nebbiolo2Linux (Ubuntu 20.04.5 LTS) / x86_64  OK    OK    WARNINGS  UNNEEDED, same version is already published
palomino4Windows Server 2022 Datacenter / x64  OK    OK    WARNINGS    OK  UNNEEDED, same version is already published
lconwaymacOS 12.5.1 Monterey / x86_64  OK    OK    WARNINGS    OK  UNNEEDED, same version is already published
Package 17/111HostnameOS / ArchINSTALLBUILDCHECKBUILD BIN
CAGEfightR 1.18.0  (landing page)
Malte Thodberg
git_last_commit: de07aac
git_last_commit_date: 2022-11-01 11:17:49 -0500
nebbiolo2Linux (Ubuntu 20.04.5 LTS) / x86_64  OK    OK    OK  UNNEEDED, same version is already published
palomino4Windows Server 2022 Datacenter / x64  OK    OK    OK    OK  UNNEEDED, same version is already published
lconwaymacOS 12.5.1 Monterey / x86_64  OK    OK    OK    OK  UNNEEDED, same version is already published
Package 18/111HostnameOS / ArchINSTALLBUILDCHECKBUILD BIN
CAGEr 2.4.0  (landing page)
Charles Plessy
git_last_commit: 4ce371f
git_last_commit_date: 2022-11-01 11:07:54 -0500
nebbiolo2Linux (Ubuntu 20.04.5 LTS) / x86_64  OK    OK    OK  UNNEEDED, same version is already published
palomino4Windows Server 2022 Datacenter / x64  OK    OK    OK    OK  UNNEEDED, same version is already published
lconwaymacOS 12.5.1 Monterey / x86_64  OK    OK    OK    OK  UNNEEDED, same version is already published
Package 19/111HostnameOS / ArchINSTALLBUILDCHECKBUILD BIN
cfDNAPro 1.4.0  (landing page)
Haichao Wang
git_last_commit: e32b87d
git_last_commit_date: 2022-11-01 11:25:24 -0500
nebbiolo2Linux (Ubuntu 20.04.5 LTS) / x86_64  OK    OK    OK  UNNEEDED, same version is already published
palomino4Windows Server 2022 Datacenter / x64  OK    OK    OK    OK  UNNEEDED, same version is already published
lconwaymacOS 12.5.1 Monterey / x86_64  OK    OK    OK    OK  UNNEEDED, same version is already published
Package 20/111HostnameOS / ArchINSTALLBUILDCHECKBUILD BIN
chimeraviz 1.24.0  (landing page)
Stian Lågstad
git_last_commit: 0f9835a
git_last_commit_date: 2022-11-01 11:14:55 -0500
nebbiolo2Linux (Ubuntu 20.04.5 LTS) / x86_64  OK    OK    OK  UNNEEDED, same version is already published
palomino4Windows Server 2022 Datacenter / x64  OK    OK    OK    OK  UNNEEDED, same version is already published
lconwaymacOS 12.5.1 Monterey / x86_64  OK    OK    OK    OK  UNNEEDED, same version is already published
Package 21/111HostnameOS / ArchINSTALLBUILDCHECKBUILD BIN
ChIPexoQual 1.22.0  (landing page)
Rene Welch
git_last_commit: 60f340b
git_last_commit_date: 2022-11-01 11:15:05 -0500
nebbiolo2Linux (Ubuntu 20.04.5 LTS) / x86_64  OK    OK    OK  UNNEEDED, same version is already published
palomino4Windows Server 2022 Datacenter / x64  OK    OK    OK    OK  UNNEEDED, same version is already published
lconwaymacOS 12.5.1 Monterey / x86_64  OK    OK    OK    OK  UNNEEDED, same version is already published
Package 22/111HostnameOS / ArchINSTALLBUILDCHECKBUILD BIN
ChIPpeakAnno 3.32.0  (landing page)
Jianhong Ou
git_last_commit: 016661f
git_last_commit_date: 2022-11-01 11:04:34 -0500
nebbiolo2Linux (Ubuntu 20.04.5 LTS) / x86_64  OK    OK    OK  UNNEEDED, same version is already published
palomino4Windows Server 2022 Datacenter / x64  OK    OK    OK    OK  UNNEEDED, same version is already published
lconwaymacOS 12.5.1 Monterey / x86_64  OK    OK    OK    OK  UNNEEDED, same version is already published
Package 23/111HostnameOS / ArchINSTALLBUILDCHECKBUILD BIN
ChIPQC 1.34.1  (landing page)
Tom Carroll , Rory Stark
git_last_commit: dabb39a
git_last_commit_date: 2023-01-10 07:39:10 -0500
nebbiolo2Linux (Ubuntu 20.04.5 LTS) / x86_64  OK    OK    WARNINGS  UNNEEDED, same version is already published
palomino4Windows Server 2022 Datacenter / x64  OK    OK    WARNINGS    OK  UNNEEDED, same version is already published
lconwaymacOS 12.5.1 Monterey / x86_64  OK    OK    WARNINGS    OK  UNNEEDED, same version is already published
Package 24/111HostnameOS / ArchINSTALLBUILDCHECKBUILD BIN
chromstaR 1.24.0  (landing page)
Aaron Taudt
git_last_commit: a38e62b
git_last_commit_date: 2022-11-01 11:13:56 -0500
nebbiolo2Linux (Ubuntu 20.04.5 LTS) / x86_64  OK    OK    OK  UNNEEDED, same version is already published
palomino4Windows Server 2022 Datacenter / x64  OK    OK    OK    OK  UNNEEDED, same version is already published
lconwaymacOS 12.5.1 Monterey / x86_64  OK    OK    OK    OK  UNNEEDED, same version is already published
Package 25/111HostnameOS / ArchINSTALLBUILDCHECKBUILD BIN
CNEr 1.34.0  (landing page)
Ge Tan
git_last_commit: 878de98
git_last_commit_date: 2022-11-01 11:09:13 -0500
nebbiolo2Linux (Ubuntu 20.04.5 LTS) / x86_64  OK    OK    OK  UNNEEDED, same version is already published
palomino4Windows Server 2022 Datacenter / x64  OK    OK    WARNINGS    OK  UNNEEDED, same version is already published
lconwaymacOS 12.5.1 Monterey / x86_64  OK    OK    OK    OK  UNNEEDED, same version is already published
Package 26/111HostnameOS / ArchINSTALLBUILDCHECKBUILD BIN
consensusDE 1.16.0  (landing page)
Ashley J. Waardenberg
git_last_commit: 4b085f5
git_last_commit_date: 2022-11-01 11:18:46 -0500
nebbiolo2Linux (Ubuntu 20.04.5 LTS) / x86_64  OK    OK    OK  UNNEEDED, same version is already published
palomino4Windows Server 2022 Datacenter / x64  OK    OK    OK    OK  UNNEEDED, same version is already published
lconwaymacOS 12.5.1 Monterey / x86_64  OK    OK    OK    OK  UNNEEDED, same version is already published
Package 27/111HostnameOS / ArchINSTALLBUILDCHECKBUILD BIN
contiBAIT 1.26.0  (landing page)
Kieran O'Neill
git_last_commit: e8a94bc
git_last_commit_date: 2022-11-01 11:12:55 -0500
nebbiolo2Linux (Ubuntu 20.04.5 LTS) / x86_64  OK    OK    WARNINGS  UNNEEDED, same version is already published
palomino4Windows Server 2022 Datacenter / x64  OK    OK    WARNINGS    OK  UNNEEDED, same version is already published
lconwaymacOS 12.5.1 Monterey / x86_64  OK    OK    WARNINGS    OK  UNNEEDED, same version is already published
Package 28/111HostnameOS / ArchINSTALLBUILDCHECKBUILD BIN
CopywriteR 2.30.0  (landing page)
Oscar Krijgsman
git_last_commit: ce2281e
git_last_commit_date: 2022-11-01 11:11:29 -0500
nebbiolo2Linux (Ubuntu 20.04.5 LTS) / x86_64  OK    OK    ERROR  
palomino4Windows Server 2022 Datacenter / x64  OK    OK    OK    OK  UNNEEDED, same version is already published
lconwaymacOS 12.5.1 Monterey / x86_64  OK    OK    OK    OK  UNNEEDED, same version is already published
Package 29/111HostnameOS / ArchINSTALLBUILDCHECKBUILD BIN
CoverageView 1.36.0  (landing page)
Ernesto Lowy
git_last_commit: 76c28ab
git_last_commit_date: 2022-11-01 11:09:32 -0500
nebbiolo2Linux (Ubuntu 20.04.5 LTS) / x86_64  OK    OK    WARNINGS  UNNEEDED, same version is already published
palomino4Windows Server 2022 Datacenter / x64... NOT SUPPORTED ...
lconwaymacOS 12.5.1 Monterey / x86_64  OK    OK    WARNINGS    OK  UNNEEDED, same version is already published
Package 30/111HostnameOS / ArchINSTALLBUILDCHECKBUILD BIN
CrispRVariants 1.26.0  (landing page)
Helen Lindsay
git_last_commit: f5240e3
git_last_commit_date: 2022-11-01 11:12:41 -0500
nebbiolo2Linux (Ubuntu 20.04.5 LTS) / x86_64  OK    OK    WARNINGS  UNNEEDED, same version is already published
palomino4Windows Server 2022 Datacenter / x64  OK    OK    WARNINGS    OK  UNNEEDED, same version is already published
lconwaymacOS 12.5.1 Monterey / x86_64  OK    OK    WARNINGS    OK  UNNEEDED, same version is already published
Package 31/111HostnameOS / ArchINSTALLBUILDCHECKBUILD BIN
CSSQ 1.10.0  (landing page)
Fan Lab at Georgia Institute of Technology
git_last_commit: cd559b3
git_last_commit_date: 2022-11-01 11:21:05 -0500
nebbiolo2Linux (Ubuntu 20.04.5 LTS) / x86_64  OK    OK    OK  UNNEEDED, same version is already published
palomino4Windows Server 2022 Datacenter / x64  OK    OK    OK    OK  UNNEEDED, same version is already published
lconwaymacOS 12.5.1 Monterey / x86_64  OK    OK    OK    OK  UNNEEDED, same version is already published
Package 32/111HostnameOS / ArchINSTALLBUILDCHECKBUILD BIN
customProDB 1.38.0  (landing page)
Xiaojing Wang
git_last_commit: cfe95f1
git_last_commit_date: 2022-11-01 11:08:20 -0500
nebbiolo2Linux (Ubuntu 20.04.5 LTS) / x86_64  OK    OK    OK  UNNEEDED, same version is already published
palomino4Windows Server 2022 Datacenter / x64  OK    OK    OK    OK  UNNEEDED, same version is already published
lconwaymacOS 12.5.1 Monterey / x86_64  OK    OK    OK    OK  UNNEEDED, same version is already published
Package 33/111HostnameOS / ArchINSTALLBUILDCHECKBUILD BIN
DAMEfinder 1.10.1  (landing page)
Stephany Orjuela
git_last_commit: 731e855
git_last_commit_date: 2022-12-06 08:47:57 -0500
nebbiolo2Linux (Ubuntu 20.04.5 LTS) / x86_64  OK    OK    OK  UNNEEDED, same version is already published
palomino4Windows Server 2022 Datacenter / x64  OK    OK    OK    OK  UNNEEDED, same version is already published
lconwaymacOS 12.5.1 Monterey / x86_64  OK    OK    OK    OK  UNNEEDED, same version is already published
Package 34/111HostnameOS / ArchINSTALLBUILDCHECKBUILD BIN
DegNorm 1.8.2  (landing page)
Ji-Ping Wang
git_last_commit: cfa5bdd
git_last_commit_date: 2023-01-19 11:15:53 -0500
nebbiolo2Linux (Ubuntu 20.04.5 LTS) / x86_64  OK    OK    OK  UNNEEDED, same version is already published
palomino4Windows Server 2022 Datacenter / x64  OK    OK    OK    OK  UNNEEDED, same version is already published
lconwaymacOS 12.5.1 Monterey / x86_64  OK    OK    OK    OK  UNNEEDED, same version is already published
Package 35/111HostnameOS / ArchINSTALLBUILDCHECKBUILD BIN
derfinder 1.32.0  (landing page)
Leonardo Collado-Torres
git_last_commit: d837971
git_last_commit_date: 2022-11-01 11:10:24 -0500
nebbiolo2Linux (Ubuntu 20.04.5 LTS) / x86_64  OK    OK    OK  UNNEEDED, same version is already published
palomino4Windows Server 2022 Datacenter / x64  OK    OK    OK    OK  UNNEEDED, same version is already published
lconwaymacOS 12.5.1 Monterey / x86_64  OK    OK    OK    OK  UNNEEDED, same version is already published
Package 36/111HostnameOS / ArchINSTALLBUILDCHECKBUILD BIN
DEScan2 1.18.2  (landing page)
Dario Righelli
git_last_commit: e0e40a5
git_last_commit_date: 2023-01-19 11:16:08 -0500
nebbiolo2Linux (Ubuntu 20.04.5 LTS) / x86_64  OK    OK    OK  UNNEEDED, same version is already published
palomino4Windows Server 2022 Datacenter / x64  OK    OK    OK    OK  UNNEEDED, same version is already published
lconwaymacOS 12.5.1 Monterey / x86_64  OK    OK    OK    OK  UNNEEDED, same version is already published
Package 37/111HostnameOS / ArchINSTALLBUILDCHECKBUILD BIN
DiffBind 3.8.4  (landing page)
Rory Stark
git_last_commit: 846ee10
git_last_commit_date: 2023-01-12 07:26:55 -0500
nebbiolo2Linux (Ubuntu 20.04.5 LTS) / x86_64  OK    OK    OK  UNNEEDED, same version is already published
palomino4Windows Server 2022 Datacenter / x64  OK    OK    OK    OK  UNNEEDED, same version is already published
lconwaymacOS 12.5.1 Monterey / x86_64  OK    OK    OK    OK  UNNEEDED, same version is already published
Package 38/111HostnameOS / ArchINSTALLBUILDCHECKBUILD BIN
DNAfusion 1.0.0  (landing page)
Christoffer Trier Maansson
git_last_commit: 163dcf2
git_last_commit_date: 2022-11-01 11:27:49 -0500
nebbiolo2Linux (Ubuntu 20.04.5 LTS) / x86_64  OK    OK    OK  UNNEEDED, same version is already published
palomino4Windows Server 2022 Datacenter / x64  OK    OK    OK    OK  UNNEEDED, same version is already published
lconwaymacOS 12.5.1 Monterey / x86_64  OK    OK    OK    OK  UNNEEDED, same version is already published
Package 39/111HostnameOS / ArchINSTALLBUILDCHECKBUILD BIN
easyRNASeq 2.34.0  (landing page)
Nicolas Delhomme
git_last_commit: 37ce549
git_last_commit_date: 2022-11-01 11:06:37 -0500
nebbiolo2Linux (Ubuntu 20.04.5 LTS) / x86_64  OK    OK    OK  UNNEEDED, same version is already published
palomino4Windows Server 2022 Datacenter / x64  OK    OK    OK    OK  UNNEEDED, same version is already published
lconwaymacOS 12.5.1 Monterey / x86_64  OK    OK    OK    OK  UNNEEDED, same version is already published
Package 40/111HostnameOS / ArchINSTALLBUILDCHECKBUILD BIN
esATAC 1.20.0  (landing page)
Zheng Wei
git_last_commit: 6c9fe81
git_last_commit_date: 2022-11-01 11:16:47 -0500
nebbiolo2Linux (Ubuntu 20.04.5 LTS) / x86_64  OK    OK    WARNINGS  UNNEEDED, same version is already published
palomino4Windows Server 2022 Datacenter / x64  OK    OK    WARNINGS    OK  UNNEEDED, same version is already published
lconwaymacOS 12.5.1 Monterey / x86_64  OK    OK    WARNINGS    OK  UNNEEDED, same version is already published
Package 41/111HostnameOS / ArchINSTALLBUILDCHECKBUILD BIN
exomePeak2 1.10.0  (landing page)
Zhen Wei
git_last_commit: ca31d66
git_last_commit_date: 2022-11-01 11:21:28 -0500
nebbiolo2Linux (Ubuntu 20.04.5 LTS) / x86_64  OK    OK    OK  UNNEEDED, same version is already published
palomino4Windows Server 2022 Datacenter / x64  OK    OK    OK    OK  UNNEEDED, same version is already published
lconwaymacOS 12.5.1 Monterey / x86_64  OK    OK    OK    OK  UNNEEDED, same version is already published
Package 42/111HostnameOS / ArchINSTALLBUILDCHECKBUILD BIN
FRASER 1.10.2  (landing page)
Christian Mertes
git_last_commit: 411304e
git_last_commit_date: 2023-01-19 11:17:01 -0500
nebbiolo2Linux (Ubuntu 20.04.5 LTS) / x86_64  OK    OK    OK  UNNEEDED, same version is already published
palomino4Windows Server 2022 Datacenter / x64  OK    OK    OK    OK  UNNEEDED, same version is already published
lconwaymacOS 12.5.1 Monterey / x86_64  OK    OK    OK    OK  UNNEEDED, same version is already published
Package 43/111HostnameOS / ArchINSTALLBUILDCHECKBUILD BIN
FunChIP 1.24.0  (landing page)
Alice Parodi
git_last_commit: 88132da
git_last_commit_date: 2022-11-01 11:13:49 -0500
nebbiolo2Linux (Ubuntu 20.04.5 LTS) / x86_64  OK    OK    WARNINGS  UNNEEDED, same version is already published
palomino4Windows Server 2022 Datacenter / x64  OK    OK    WARNINGS    OK  UNNEEDED, same version is already published
lconwaymacOS 12.5.1 Monterey / x86_64  OK    OK    OK    OK  UNNEEDED, same version is already published
Package 44/111HostnameOS / ArchINSTALLBUILDCHECKBUILD BIN
gcapc 1.22.0  (landing page)
Mingxiang Teng
git_last_commit: 968eb62
git_last_commit_date: 2022-11-01 11:14:56 -0500
nebbiolo2Linux (Ubuntu 20.04.5 LTS) / x86_64  OK    OK    OK  UNNEEDED, same version is already published
palomino4Windows Server 2022 Datacenter / x64  OK    OK    OK    OK  UNNEEDED, same version is already published
lconwaymacOS 12.5.1 Monterey / x86_64  OK    OK    OK    OK  UNNEEDED, same version is already published
Package 45/111HostnameOS / ArchINSTALLBUILDCHECKBUILD BIN
genomation 1.30.0  (landing page)
Altuna Akalin , Vedran Franke
git_last_commit: 99239c1
git_last_commit_date: 2022-11-01 11:10:49 -0500
nebbiolo2Linux (Ubuntu 20.04.5 LTS) / x86_64  OK    OK    WARNINGS  UNNEEDED, same version is already published
palomino4Windows Server 2022 Datacenter / x64  OK    OK    WARNINGS    OK  UNNEEDED, same version is already published
lconwaymacOS 12.5.1 Monterey / x86_64  OK    OK    WARNINGS    OK  UNNEEDED, same version is already published
Package 46/111HostnameOS / ArchINSTALLBUILDCHECKBUILD BIN
GenomicFiles 1.34.0  (landing page)
Bioconductor Package Maintainer
git_last_commit: 65f9a64
git_last_commit_date: 2022-11-01 11:09:37 -0500
nebbiolo2Linux (Ubuntu 20.04.5 LTS) / x86_64  OK    OK    OK  UNNEEDED, same version is already published
palomino4Windows Server 2022 Datacenter / x64  OK    OK    OK    OK  UNNEEDED, same version is already published
lconwaymacOS 12.5.1 Monterey / x86_64  OK    OK    OK    OK  UNNEEDED, same version is already published
Package 47/111HostnameOS / ArchINSTALLBUILDCHECKBUILD BIN
ggbio 1.46.0  (landing page)
Michael Lawrence
git_last_commit: d9c6cb4
git_last_commit_date: 2022-11-01 11:06:25 -0500
nebbiolo2Linux (Ubuntu 20.04.5 LTS) / x86_64  OK    OK    WARNINGS  UNNEEDED, same version is already published
palomino4Windows Server 2022 Datacenter / x64  OK    OK    WARNINGS    OK  UNNEEDED, same version is already published
lconwaymacOS 12.5.1 Monterey / x86_64  OK    OK    WARNINGS    OK  UNNEEDED, same version is already published
Package 48/111HostnameOS / ArchINSTALLBUILDCHECKBUILD BIN
gmapR 1.40.0  (landing page)
Michael Lawrence
git_last_commit: ba9a187
git_last_commit_date: 2022-11-01 11:07:10 -0500
nebbiolo2Linux (Ubuntu 20.04.5 LTS) / x86_64  OK    OK    WARNINGS  UNNEEDED, same version is already published
palomino4Windows Server 2022 Datacenter / x64... NOT SUPPORTED ...
lconwaymacOS 12.5.1 Monterey / x86_64  ERROR    ERROR  skippedskipped
Package 49/111HostnameOS / ArchINSTALLBUILDCHECKBUILD BIN
gmoviz 1.10.0  (landing page)
Kathleen Zeglinski
git_last_commit: 52ebafb
git_last_commit_date: 2022-11-01 11:21:38 -0500
nebbiolo2Linux (Ubuntu 20.04.5 LTS) / x86_64  OK    OK    OK  UNNEEDED, same version is already published
palomino4Windows Server 2022 Datacenter / x64  OK    OK    OK    OK  UNNEEDED, same version is already published
lconwaymacOS 12.5.1 Monterey / x86_64  OK    OK    OK    OK  UNNEEDED, same version is already published
Package 50/111HostnameOS / ArchINSTALLBUILDCHECKBUILD BIN
GreyListChIP 1.30.0  (landing page)
Rory Stark
git_last_commit: 9d65d34
git_last_commit_date: 2022-11-01 11:11:03 -0500
nebbiolo2Linux (Ubuntu 20.04.5 LTS) / x86_64  OK    OK    OK  UNNEEDED, same version is already published
palomino4Windows Server 2022 Datacenter / x64  OK    OK    OK    OK  UNNEEDED, same version is already published
lconwaymacOS 12.5.1 Monterey / x86_64  OK    OK    OK    OK  UNNEEDED, same version is already published
Package 51/111HostnameOS / ArchINSTALLBUILDCHECKBUILD BIN
groHMM 1.32.0  (landing page)
Tulip Nandu , W. Lee Kraus
git_last_commit: 6db18b7
git_last_commit_date: 2022-11-01 11:10:38 -0500
nebbiolo2Linux (Ubuntu 20.04.5 LTS) / x86_64  OK    OK    OK  UNNEEDED, same version is already published
palomino4Windows Server 2022 Datacenter / x64  OK    OK    OK    OK  UNNEEDED, same version is already published
lconwaymacOS 12.5.1 Monterey / x86_64  OK    OK    OK    OK  UNNEEDED, same version is already published
Package 52/111HostnameOS / ArchINSTALLBUILDCHECKBUILD BIN
GUIDEseq 1.28.0  (landing page)
Lihua Julie Zhu
git_last_commit: e29dcac
git_last_commit_date: 2022-11-01 11:12:23 -0500
nebbiolo2Linux (Ubuntu 20.04.5 LTS) / x86_64  OK    OK    OK  UNNEEDED, same version is already published
palomino4Windows Server 2022 Datacenter / x64  OK    OK    OK    OK  UNNEEDED, same version is already published
lconwaymacOS 12.5.1 Monterey / x86_64  OK    OK    OK    OK  UNNEEDED, same version is already published
Package 53/111HostnameOS / ArchINSTALLBUILDCHECKBUILD BIN
Gviz 1.42.0  (landing page)
Robert Ivanek
git_last_commit: 4eddb68
git_last_commit_date: 2022-11-01 11:06:41 -0500
nebbiolo2Linux (Ubuntu 20.04.5 LTS) / x86_64  OK    OK    OK  UNNEEDED, same version is already published
palomino4Windows Server 2022 Datacenter / x64  OK    OK    OK    OK  UNNEEDED, same version is already published
lconwaymacOS 12.5.1 Monterey / x86_64  OK    ERROR  skippedskipped
Package 54/111HostnameOS / ArchINSTALLBUILDCHECKBUILD BIN
HelloRanges 1.24.0  (landing page)
Michael Lawrence
git_last_commit: b43be74
git_last_commit_date: 2022-11-01 11:14:42 -0500
nebbiolo2Linux (Ubuntu 20.04.5 LTS) / x86_64  OK    OK    OK  UNNEEDED, same version is already published
palomino4Windows Server 2022 Datacenter / x64  OK    OK    OK    OK  UNNEEDED, same version is already published
lconwaymacOS 12.5.1 Monterey / x86_64  OK    OK    OK    OK  UNNEEDED, same version is already published
Package 55/111HostnameOS / ArchINSTALLBUILDCHECKBUILD BIN
hiReadsProcessor 1.34.0  (landing page)
Nirav V Malani
git_last_commit: 07376e6
git_last_commit_date: 2022-11-01 11:10:10 -0500
nebbiolo2Linux (Ubuntu 20.04.5 LTS) / x86_64  OK    OK    OK  UNNEEDED, same version is already published
palomino4Windows Server 2022 Datacenter / x64... NOT SUPPORTED ...
lconwaymacOS 12.5.1 Monterey / x86_64  OK    OK    OK    OK  UNNEEDED, same version is already published
Package 56/111HostnameOS / ArchINSTALLBUILDCHECKBUILD BIN
HTSeqGenie 4.28.1  (landing page)
Jens Reeder
git_last_commit: fb9d357
git_last_commit_date: 2023-01-20 12:44:04 -0500
nebbiolo2Linux (Ubuntu 20.04.5 LTS) / x86_64  OK    OK    OK  UNNEEDED, same version is already published
palomino4Windows Server 2022 Datacenter / x64... NOT SUPPORTED ...
lconwaymacOS 12.5.1 Monterey / x86_64... NOT SUPPORTED ...
Package 57/111HostnameOS / ArchINSTALLBUILDCHECKBUILD BIN
icetea 1.16.0  (landing page)
Vivek Bhardwaj
git_last_commit: d148550
git_last_commit_date: 2022-11-01 11:18:00 -0500
nebbiolo2Linux (Ubuntu 20.04.5 LTS) / x86_64  OK    OK    OK  UNNEEDED, same version is already published
palomino4Windows Server 2022 Datacenter / x64  OK    OK    OK    OK  UNNEEDED, same version is already published
lconwaymacOS 12.5.1 Monterey / x86_64  OK    OK    OK    OK  UNNEEDED, same version is already published
Package 58/111HostnameOS / ArchINSTALLBUILDCHECKBUILD BIN
igvR 1.18.0  (landing page)
Paul Shannon
git_last_commit: 90ee657
git_last_commit_date: 2022-11-01 11:17:43 -0500
nebbiolo2Linux (Ubuntu 20.04.5 LTS) / x86_64  OK    OK    WARNINGS  UNNEEDED, same version is already published
palomino4Windows Server 2022 Datacenter / x64  OK    OK    WARNINGS    OK  UNNEEDED, same version is already published
lconwaymacOS 12.5.1 Monterey / x86_64  OK    OK    WARNINGS    OK  UNNEEDED, same version is already published
Package 59/111HostnameOS / ArchINSTALLBUILDCHECKBUILD BIN
IMAS 1.22.0  (landing page)
Seonggyun Han
git_last_commit: 662ff82
git_last_commit_date: 2022-11-01 11:15:33 -0500
nebbiolo2Linux (Ubuntu 20.04.5 LTS) / x86_64  OK    OK    OK  UNNEEDED, same version is already published
palomino4Windows Server 2022 Datacenter / x64  OK    OK    OK    OK  UNNEEDED, same version is already published
lconwaymacOS 12.5.1 Monterey / x86_64  OK    OK    OK    OK  UNNEEDED, same version is already published
Package 60/111HostnameOS / ArchINSTALLBUILDCHECKBUILD BIN
INSPEcT 1.28.0  (landing page)
Stefano de Pretis
git_last_commit: aff3971
git_last_commit_date: 2022-11-01 11:11:51 -0500
nebbiolo2Linux (Ubuntu 20.04.5 LTS) / x86_64  OK    OK    OK  UNNEEDED, same version is already published
palomino4Windows Server 2022 Datacenter / x64  OK    OK    OK    OK  UNNEEDED, same version is already published
lconwaymacOS 12.5.1 Monterey / x86_64  OK    OK    OK    OK  UNNEEDED, same version is already published
Package 61/111HostnameOS / ArchINSTALLBUILDCHECKBUILD BIN
IntEREst 1.22.2  (landing page)
Ali Oghabian , Mikko Frilander
git_last_commit: 4c44b57
git_last_commit_date: 2022-11-07 08:34:48 -0500
nebbiolo2Linux (Ubuntu 20.04.5 LTS) / x86_64  OK    OK    OK  UNNEEDED, same version is already published
palomino4Windows Server 2022 Datacenter / x64  OK    OK    OK    OK  UNNEEDED, same version is already published
lconwaymacOS 12.5.1 Monterey / x86_64  OK    OK    OK    OK  UNNEEDED, same version is already published
Package 62/111HostnameOS / ArchINSTALLBUILDCHECKBUILD BIN
MACPET 1.18.0  (landing page)
Ioannis Vardaxis
git_last_commit: e36a36d
git_last_commit_date: 2022-11-01 11:17:11 -0500
nebbiolo2Linux (Ubuntu 20.04.5 LTS) / x86_64  ERROR    ERROR  skipped
palomino4Windows Server 2022 Datacenter / x64  ERROR    ERROR  skippedskipped
lconwaymacOS 12.5.1 Monterey / x86_64  ERROR    ERROR  skippedskipped
Package 63/111HostnameOS / ArchINSTALLBUILDCHECKBUILD BIN
MADSEQ 1.24.0  (landing page)
Yu Kong
git_last_commit: 698f059
git_last_commit_date: 2022-11-01 11:13:50 -0500
nebbiolo2Linux (Ubuntu 20.04.5 LTS) / x86_64  OK    OK    OK  UNNEEDED, same version is already published
palomino4Windows Server 2022 Datacenter / x64  OK    OK    OK    OK  UNNEEDED, same version is already published
lconwaymacOS 12.5.1 Monterey / x86_64  OK    OK    OK    OK  UNNEEDED, same version is already published
Package 64/111HostnameOS / ArchINSTALLBUILDCHECKBUILD BIN
MDTS 1.18.0  (landing page)
Jack M.. Fu
git_last_commit: c9870c5
git_last_commit_date: 2022-11-01 11:17:17 -0500
nebbiolo2Linux (Ubuntu 20.04.5 LTS) / x86_64  OK    OK    OK  UNNEEDED, same version is already published
palomino4Windows Server 2022 Datacenter / x64  OK    OK    OK    OK  UNNEEDED, same version is already published
lconwaymacOS 12.5.1 Monterey / x86_64  OK    OK    OK    OK  UNNEEDED, same version is already published
Package 65/111HostnameOS / ArchINSTALLBUILDCHECKBUILD BIN
metagene 2.30.0  (landing page)
Charles Joly Beauparlant
git_last_commit: 3dc7c03
git_last_commit_date: 2022-11-01 11:10:04 -0500
nebbiolo2Linux (Ubuntu 20.04.5 LTS) / x86_64  OK    OK    OK  UNNEEDED, same version is already published
palomino4Windows Server 2022 Datacenter / x64  OK    OK    OK    OK  UNNEEDED, same version is already published
lconwaymacOS 12.5.1 Monterey / x86_64  OK    OK    OK    OK  UNNEEDED, same version is already published
Package 66/111HostnameOS / ArchINSTALLBUILDCHECKBUILD BIN
metagene2 1.14.0  (landing page)
Eric Fournier
git_last_commit: 1b39327
git_last_commit_date: 2022-11-01 11:19:52 -0500
nebbiolo2Linux (Ubuntu 20.04.5 LTS) / x86_64  OK    OK    OK  UNNEEDED, same version is already published
palomino4Windows Server 2022 Datacenter / x64  OK    OK    OK    OK  UNNEEDED, same version is already published
lconwaymacOS 12.5.1 Monterey / x86_64  OK    OK    OK    OK  UNNEEDED, same version is already published
Package 67/111HostnameOS / ArchINSTALLBUILDCHECKBUILD BIN
metaseqR2 1.10.0  (landing page)
Panagiotis Moulos
git_last_commit: 73e2738
git_last_commit_date: 2022-11-01 11:22:03 -0500
nebbiolo2Linux (Ubuntu 20.04.5 LTS) / x86_64  OK    OK    WARNINGS  UNNEEDED, same version is already published
palomino4Windows Server 2022 Datacenter / x64  OK    OK    WARNINGS    OK  UNNEEDED, same version is already published
lconwaymacOS 12.5.1 Monterey / x86_64  OK    OK    WARNINGS    OK  UNNEEDED, same version is already published
Package 68/111HostnameOS / ArchINSTALLBUILDCHECKBUILD BIN
methylPipe 1.32.0  (landing page)
Kamal Kishore
git_last_commit: 954da5d
git_last_commit_date: 2022-11-01 11:10:11 -0500
nebbiolo2Linux (Ubuntu 20.04.5 LTS) / x86_64  OK    OK    WARNINGS  UNNEEDED, same version is already published
palomino4Windows Server 2022 Datacenter / x64  OK    OK    WARNINGS    OK  UNNEEDED, same version is already published
lconwaymacOS 12.5.1 Monterey / x86_64  OK    OK    WARNINGS    OK  UNNEEDED, same version is already published
Package 69/111HostnameOS / ArchINSTALLBUILDCHECKBUILD BIN
mosaics 2.36.0  (landing page)
Dongjun Chung
git_last_commit: 3166c3a
git_last_commit_date: 2022-11-01 11:05:34 -0500
nebbiolo2Linux (Ubuntu 20.04.5 LTS) / x86_64  OK    OK    OK  UNNEEDED, same version is already published
palomino4Windows Server 2022 Datacenter / x64  OK    OK    OK    OK  UNNEEDED, same version is already published
lconwaymacOS 12.5.1 Monterey / x86_64  OK    OK    OK    OK  UNNEEDED, same version is already published
Package 70/111HostnameOS / ArchINSTALLBUILDCHECKBUILD BIN
Motif2Site 1.2.0  (landing page)
Peyman Zarrineh
git_last_commit: 6015b74
git_last_commit_date: 2022-11-01 11:26:28 -0500
nebbiolo2Linux (Ubuntu 20.04.5 LTS) / x86_64  OK    OK    OK  UNNEEDED, same version is already published
palomino4Windows Server 2022 Datacenter / x64  OK    OK    OK    OK  UNNEEDED, same version is already published
lconwaymacOS 12.5.1 Monterey / x86_64  OK    OK    OK    OK  UNNEEDED, same version is already published
Package 71/111HostnameOS / ArchINSTALLBUILDCHECKBUILD BIN
msgbsR 1.22.0  (landing page)
Benjamin Mayne
git_last_commit: a480eaf
git_last_commit_date: 2022-11-01 11:15:43 -0500
nebbiolo2Linux (Ubuntu 20.04.5 LTS) / x86_64  OK    OK    OK  UNNEEDED, same version is already published
palomino4Windows Server 2022 Datacenter / x64  OK    OK    OK    OK  UNNEEDED, same version is already published
lconwaymacOS 12.5.1 Monterey / x86_64  OK    OK    OK    OK  UNNEEDED, same version is already published
Package 72/111HostnameOS / ArchINSTALLBUILDCHECKBUILD BIN
NADfinder 1.22.0  (landing page)
Jianhong Ou
git_last_commit: 067b49b
git_last_commit_date: 2022-11-01 11:15:27 -0500
nebbiolo2Linux (Ubuntu 20.04.5 LTS) / x86_64  OK    OK    OK  UNNEEDED, same version is already published
palomino4Windows Server 2022 Datacenter / x64  OK    OK    OK    OK  UNNEEDED, same version is already published
lconwaymacOS 12.5.1 Monterey / x86_64  OK    OK    OK    OK  UNNEEDED, same version is already published
Package 73/111HostnameOS / ArchINSTALLBUILDCHECKBUILD BIN
ORFik 1.18.2  (landing page)
Haakon Tjeldnes
git_last_commit: 4ab60c3
git_last_commit_date: 2023-01-13 19:50:22 -0500
nebbiolo2Linux (Ubuntu 20.04.5 LTS) / x86_64  OK    OK    OK  UNNEEDED, same version is already published
palomino4Windows Server 2022 Datacenter / x64  OK    OK    OK    OK  UNNEEDED, same version is already published
lconwaymacOS 12.5.1 Monterey / x86_64  OK    OK    OK    OK  UNNEEDED, same version is already published
Package 74/111HostnameOS / ArchINSTALLBUILDCHECKBUILD BIN
PICS 2.42.0  (landing page)
Renan Sauteraud
git_last_commit: 135440e
git_last_commit_date: 2022-11-01 11:05:01 -0500
nebbiolo2Linux (Ubuntu 20.04.5 LTS) / x86_64  OK    OK    OK  UNNEEDED, same version is already published
palomino4Windows Server 2022 Datacenter / x64  OK    OK    OK    OK  UNNEEDED, same version is already published
lconwaymacOS 12.5.1 Monterey / x86_64  OK    OK    OK    OK  UNNEEDED, same version is already published
Package 75/111HostnameOS / ArchINSTALLBUILDCHECKBUILD BIN
plyranges 1.18.0  (landing page)
Stuart Lee
git_last_commit: 580a5e1
git_last_commit_date: 2022-11-01 11:17:28 -0500
nebbiolo2Linux (Ubuntu 20.04.5 LTS) / x86_64  OK    OK    WARNINGS  UNNEEDED, same version is already published
palomino4Windows Server 2022 Datacenter / x64  OK    OK    WARNINGS    OK  UNNEEDED, same version is already published
lconwaymacOS 12.5.1 Monterey / x86_64  OK    OK    WARNINGS    OK  UNNEEDED, same version is already published
Package 76/111HostnameOS / ArchINSTALLBUILDCHECKBUILD BIN
pram 1.14.0  (landing page)
Peng Liu
git_last_commit: 5eb27f7
git_last_commit_date: 2022-11-01 11:19:24 -0500
nebbiolo2Linux (Ubuntu 20.04.5 LTS) / x86_64  OK    OK    OK  UNNEEDED, same version is already published
palomino4Windows Server 2022 Datacenter / x64  OK    OK    OK    OK  UNNEEDED, same version is already published
lconwaymacOS 12.5.1 Monterey / x86_64  OK    OK    OK    OK  UNNEEDED, same version is already published
Package 77/111HostnameOS / ArchINSTALLBUILDCHECKBUILD BIN
prebs 1.38.0  (landing page)
Karolis Uziela
git_last_commit: 542ffb3
git_last_commit_date: 2022-11-01 11:08:10 -0500
nebbiolo2Linux (Ubuntu 20.04.5 LTS) / x86_64  OK    OK    OK  UNNEEDED, same version is already published
palomino4Windows Server 2022 Datacenter / x64  OK    OK    OK    OK  UNNEEDED, same version is already published
lconwaymacOS 12.5.1 Monterey / x86_64  OK    OK    OK    OK  NO, package depends on 'RPA' which is not available
Package 78/111HostnameOS / ArchINSTALLBUILDCHECKBUILD BIN
proActiv 1.8.0  (landing page)
Joseph Lee
git_last_commit: dc9233c
git_last_commit_date: 2022-11-01 11:22:49 -0500
nebbiolo2Linux (Ubuntu 20.04.5 LTS) / x86_64  OK    OK    OK  UNNEEDED, same version is already published
palomino4Windows Server 2022 Datacenter / x64  OK    OK    OK    OK  UNNEEDED, same version is already published
lconwaymacOS 12.5.1 Monterey / x86_64  OK    OK    OK    OK  UNNEEDED, same version is already published
Package 79/111HostnameOS / ArchINSTALLBUILDCHECKBUILD BIN
ramwas 1.22.0  (landing page)
Andrey A Shabalin
git_last_commit: 012c3d4
git_last_commit_date: 2022-11-01 11:14:58 -0500
nebbiolo2Linux (Ubuntu 20.04.5 LTS) / x86_64  OK    OK    OK  UNNEEDED, same version is already published
palomino4Windows Server 2022 Datacenter / x64  OK    OK    OK    OK  UNNEEDED, same version is already published
lconwaymacOS 12.5.1 Monterey / x86_64  OK    OK    OK    OK  UNNEEDED, same version is already published
Package 80/111HostnameOS / ArchINSTALLBUILDCHECKBUILD BIN
Rcade 1.40.0  (landing page)
Jonathan Cairns
git_last_commit: 2290b0f
git_last_commit_date: 2022-11-01 11:07:31 -0500
nebbiolo2Linux (Ubuntu 20.04.5 LTS) / x86_64  OK    OK    ERROR  
palomino4Windows Server 2022 Datacenter / x64  OK    OK    ERROR    OK  
lconwaymacOS 12.5.1 Monterey / x86_64  OK    OK    ERROR    OK  
Package 81/111HostnameOS / ArchINSTALLBUILDCHECKBUILD BIN
recoup 1.26.0  (landing page)
Panagiotis Moulos
git_last_commit: c384eae
git_last_commit_date: 2022-11-01 11:13:20 -0500
nebbiolo2Linux (Ubuntu 20.04.5 LTS) / x86_64  OK    OK    OK  UNNEEDED, same version is already published
palomino4Windows Server 2022 Datacenter / x64  OK    OK    OK    OK  UNNEEDED, same version is already published
lconwaymacOS 12.5.1 Monterey / x86_64  OK    OK    OK    OK  UNNEEDED, same version is already published
Package 82/111HostnameOS / ArchINSTALLBUILDCHECKBUILD BIN
Repitools 1.44.0  (landing page)
Mark Robinson
git_last_commit: 5f359d2
git_last_commit_date: 2022-11-01 11:06:01 -0500
nebbiolo2Linux (Ubuntu 20.04.5 LTS) / x86_64  OK    OK    OK  UNNEEDED, same version is already published
palomino4Windows Server 2022 Datacenter / x64  OK    OK    OK    OK  UNNEEDED, same version is already published
lconwaymacOS 12.5.1 Monterey / x86_64  OK    OK    OK    OK  UNNEEDED, same version is already published
Package 83/111HostnameOS / ArchINSTALLBUILDCHECKBUILD BIN
RiboDiPA 1.6.0  (landing page)
Ji-Ping Wang
git_last_commit: eeafa07
git_last_commit_date: 2022-11-01 11:23:51 -0500
nebbiolo2Linux (Ubuntu 20.04.5 LTS) / x86_64  OK    OK    OK  UNNEEDED, same version is already published
palomino4Windows Server 2022 Datacenter / x64  OK    OK    OK    OK  UNNEEDED, same version is already published
lconwaymacOS 12.5.1 Monterey / x86_64  OK    OK    OK    OK  UNNEEDED, same version is already published
Package 84/111HostnameOS / ArchINSTALLBUILDCHECKBUILD BIN
RiboProfiling 1.28.0  (landing page)
A. Popa
git_last_commit: 0553477
git_last_commit_date: 2022-11-01 11:12:25 -0500
nebbiolo2Linux (Ubuntu 20.04.5 LTS) / x86_64  OK    OK    WARNINGS  UNNEEDED, same version is already published
palomino4Windows Server 2022 Datacenter / x64  OK    OK    WARNINGS    OK  UNNEEDED, same version is already published
lconwaymacOS 12.5.1 Monterey / x86_64  OK    OK    WARNINGS    OK  UNNEEDED, same version is already published
Package 85/111HostnameOS / ArchINSTALLBUILDCHECKBUILD BIN
ribosomeProfilingQC 1.10.0  (landing page)
Jianhong Ou
git_last_commit: 1fb3d93
git_last_commit_date: 2022-11-01 11:21:25 -0500
nebbiolo2Linux (Ubuntu 20.04.5 LTS) / x86_64  OK    OK    OK  UNNEEDED, same version is already published
palomino4Windows Server 2022 Datacenter / x64  OK    OK    OK    OK  UNNEEDED, same version is already published
lconwaymacOS 12.5.1 Monterey / x86_64  OK    OK    OK    OK  UNNEEDED, same version is already published
Package 86/111HostnameOS / ArchINSTALLBUILDCHECKBUILD BIN
RNAmodR 1.12.0  (landing page)
Felix G.M. Ernst
git_last_commit: 6cf3f83
git_last_commit_date: 2022-11-01 11:20:02 -0500
nebbiolo2Linux (Ubuntu 20.04.5 LTS) / x86_64  OK    OK    OK  UNNEEDED, same version is already published
palomino4Windows Server 2022 Datacenter / x64  OK    OK    OK    OK  UNNEEDED, same version is already published
lconwaymacOS 12.5.1 Monterey / x86_64  OK    OK    OK    OK  UNNEEDED, same version is already published
Package 87/111HostnameOS / ArchINSTALLBUILDCHECKBUILD BIN
roar 1.34.0  (landing page)
Elena Grassi
git_last_commit: 6a464d0
git_last_commit_date: 2022-11-01 11:09:03 -0500
nebbiolo2Linux (Ubuntu 20.04.5 LTS) / x86_64  OK    OK    OK  UNNEEDED, same version is already published
palomino4Windows Server 2022 Datacenter / x64  OK    OK    OK    OK  UNNEEDED, same version is already published
lconwaymacOS 12.5.1 Monterey / x86_64  OK    OK    OK    OK  UNNEEDED, same version is already published
Package 88/111HostnameOS / ArchINSTALLBUILDCHECKBUILD BIN
Rqc 1.32.0  (landing page)
Welliton Souza
git_last_commit: 1691219
git_last_commit_date: 2022-11-01 11:10:42 -0500
nebbiolo2Linux (Ubuntu 20.04.5 LTS) / x86_64  OK    OK    OK  UNNEEDED, same version is already published
palomino4Windows Server 2022 Datacenter / x64  OK    OK    OK    OK  UNNEEDED, same version is already published
lconwaymacOS 12.5.1 Monterey / x86_64  OK    OK    OK    OK  UNNEEDED, same version is already published
Package 89/111HostnameOS / ArchINSTALLBUILDCHECKBUILD BIN
rtracklayer 1.58.0  (landing page)
Michael Lawrence
git_last_commit: 54a7497
git_last_commit_date: 2022-11-01 11:03:49 -0500
nebbiolo2Linux (Ubuntu 20.04.5 LTS) / x86_64  OK    OK    ERROR  
palomino4Windows Server 2022 Datacenter / x64  OK    OK    ERROR    OK  
lconwaymacOS 12.5.1 Monterey / x86_64  OK    OK    ERROR    OK  
Package 90/111HostnameOS / ArchINSTALLBUILDCHECKBUILD BIN
SCATE 1.8.0  (landing page)
Wenpin Hou
git_last_commit: 6864cc6
git_last_commit_date: 2022-11-01 11:22:41 -0500
nebbiolo2Linux (Ubuntu 20.04.5 LTS) / x86_64  OK    OK    OK  UNNEEDED, same version is already published
palomino4Windows Server 2022 Datacenter / x64  OK    OK    OK    OK  UNNEEDED, same version is already published
lconwaymacOS 12.5.1 Monterey / x86_64  OK    OK    OK    OK  UNNEEDED, same version is already published
Package 91/111HostnameOS / ArchINSTALLBUILDCHECKBUILD BIN
scPipe 1.20.4  (landing page)
Shian Su
git_last_commit: 4c9fd89
git_last_commit_date: 2023-01-08 23:30:05 -0500
nebbiolo2Linux (Ubuntu 20.04.5 LTS) / x86_64  OK    OK    OK  UNNEEDED, same version is already published
palomino4Windows Server 2022 Datacenter / x64  OK    ERROR  skippedskipped
lconwaymacOS 12.5.1 Monterey / x86_64  OK    OK    OK    OK  UNNEEDED, same version is already published
Package 92/111HostnameOS / ArchINSTALLBUILDCHECKBUILD BIN
scruff 1.16.0  (landing page)
Zhe Wang
git_last_commit: 6d4b87c
git_last_commit_date: 2022-11-01 11:18:08 -0500
nebbiolo2Linux (Ubuntu 20.04.5 LTS) / x86_64  OK    OK    OK  UNNEEDED, same version is already published
palomino4Windows Server 2022 Datacenter / x64  OK    OK    OK    OK  UNNEEDED, same version is already published
lconwaymacOS 12.5.1 Monterey / x86_64  OK    OK    OK    OK  UNNEEDED, same version is already published
Package 93/111HostnameOS / ArchINSTALLBUILDCHECKBUILD BIN
seqsetvis 1.18.0  (landing page)
Joseph R Boyd
git_last_commit: 0e5b650
git_last_commit_date: 2022-11-01 11:17:27 -0500
nebbiolo2Linux (Ubuntu 20.04.5 LTS) / x86_64  OK    OK    OK  UNNEEDED, same version is already published
palomino4Windows Server 2022 Datacenter / x64  OK    OK    OK    OK  UNNEEDED, same version is already published
lconwaymacOS 12.5.1 Monterey / x86_64  OK    OK    OK    OK  UNNEEDED, same version is already published
Package 94/111HostnameOS / ArchINSTALLBUILDCHECKBUILD BIN
SGSeq 1.32.0  (landing page)
Leonard Goldstein
git_last_commit: dfa228e
git_last_commit_date: 2022-11-01 11:10:36 -0500
nebbiolo2Linux (Ubuntu 20.04.5 LTS) / x86_64  OK    OK    OK  UNNEEDED, same version is already published
palomino4Windows Server 2022 Datacenter / x64  OK    OK    OK    OK  UNNEEDED, same version is already published
lconwaymacOS 12.5.1 Monterey / x86_64  OK    OK    OK    OK  UNNEEDED, same version is already published
Package 95/111HostnameOS / ArchINSTALLBUILDCHECKBUILD BIN
ShortRead 1.56.1  (landing page)
Bioconductor Package Maintainer
git_last_commit: e5758ff
git_last_commit_date: 2022-11-16 07:57:29 -0500
nebbiolo2Linux (Ubuntu 20.04.5 LTS) / x86_64  OK    OK    WARNINGS  UNNEEDED, same version is already published
palomino4Windows Server 2022 Datacenter / x64  OK    OK    OK    OK  UNNEEDED, same version is already published
lconwaymacOS 12.5.1 Monterey / x86_64  OK    OK    OK    OK  UNNEEDED, same version is already published
Package 96/111HostnameOS / ArchINSTALLBUILDCHECKBUILD BIN
single 1.2.0  (landing page)
Rocio Espada
git_last_commit: 30e7ba3
git_last_commit_date: 2022-11-01 11:26:45 -0500
nebbiolo2Linux (Ubuntu 20.04.5 LTS) / x86_64  OK    ERROR  skipped
palomino4Windows Server 2022 Datacenter / x64  OK    ERROR  skippedskipped
lconwaymacOS 12.5.1 Monterey / x86_64  OK    ERROR  skippedskipped
Package 97/111HostnameOS / ArchINSTALLBUILDCHECKBUILD BIN
soGGi 1.30.0  (landing page)
Tom Carroll
git_last_commit: 81e9ccd
git_last_commit_date: 2022-11-01 11:11:34 -0500
nebbiolo2Linux (Ubuntu 20.04.5 LTS) / x86_64  OK    OK    OK  UNNEEDED, same version is already published
palomino4Windows Server 2022 Datacenter / x64  OK    OK    OK    OK  UNNEEDED, same version is already published
lconwaymacOS 12.5.1 Monterey / x86_64  OK    OK    OK    OK  UNNEEDED, same version is already published
Package 98/111HostnameOS / ArchINSTALLBUILDCHECKBUILD BIN
spiky 1.4.0  (landing page)
Tim Triche
git_last_commit: ca789a4
git_last_commit_date: 2022-11-01 11:25:11 -0500
nebbiolo2Linux (Ubuntu 20.04.5 LTS) / x86_64  OK    OK    OK  UNNEEDED, same version is already published
palomino4Windows Server 2022 Datacenter / x64  OK    OK    OK    OK  UNNEEDED, same version is already published
lconwaymacOS 12.5.1 Monterey / x86_64  OK    OK    OK    OK  UNNEEDED, same version is already published
Package 99/111HostnameOS / ArchINSTALLBUILDCHECKBUILD BIN
SplicingGraphs 1.38.0  (landing page)
H. Pagès
git_last_commit: 37dc46c
git_last_commit_date: 2022-11-01 11:08:13 -0500
nebbiolo2Linux (Ubuntu 20.04.5 LTS) / x86_64  OK    OK    WARNINGS  UNNEEDED, same version is already published
palomino4Windows Server 2022 Datacenter / x64  OK    OK    WARNINGS    OK  UNNEEDED, same version is already published
lconwaymacOS 12.5.1 Monterey / x86_64  OK    OK    WARNINGS    OK  UNNEEDED, same version is already published
Package 100/111HostnameOS / ArchINSTALLBUILDCHECKBUILD BIN
SPLINTER 1.24.0  (landing page)
Diana Low
git_last_commit: 34a4110
git_last_commit_date: 2022-11-01 11:14:31 -0500
nebbiolo2Linux (Ubuntu 20.04.5 LTS) / x86_64  OK    OK    OK  UNNEEDED, same version is already published
palomino4Windows Server 2022 Datacenter / x64  OK    OK    WARNINGS    OK  UNNEEDED, same version is already published
lconwaymacOS 12.5.1 Monterey / x86_64  OK    ERROR  skippedskipped
Package 101/111HostnameOS / ArchINSTALLBUILDCHECKBUILD BIN
srnadiff 1.18.0  (landing page)
Zytnicki Matthias
git_last_commit: 169c662
git_last_commit_date: 2022-11-01 11:17:03 -0500
nebbiolo2Linux (Ubuntu 20.04.5 LTS) / x86_64  OK    OK    WARNINGS  UNNEEDED, same version is already published
palomino4Windows Server 2022 Datacenter / x64  OK    OK    WARNINGS    OK  UNNEEDED, same version is already published
lconwaymacOS 12.5.1 Monterey / x86_64  OK    OK    WARNINGS    OK  UNNEEDED, same version is already published
Package 102/111HostnameOS / ArchINSTALLBUILDCHECKBUILD BIN
strandCheckR 1.16.0  (landing page)
Thu-Hien To
git_last_commit: fda7dad
git_last_commit_date: 2022-11-01 11:18:10 -0500
nebbiolo2Linux (Ubuntu 20.04.5 LTS) / x86_64  OK    OK    OK  UNNEEDED, same version is already published
palomino4Windows Server 2022 Datacenter / x64  OK    OK    OK    OK  UNNEEDED, same version is already published
lconwaymacOS 12.5.1 Monterey / x86_64  OK    OK    OK    OK  UNNEEDED, same version is already published
Package 103/111HostnameOS / ArchINSTALLBUILDCHECKBUILD BIN
TAPseq 1.10.0  (landing page)
Andreas R. Gschwind
git_last_commit: 9a1ac4c
git_last_commit_date: 2022-11-01 11:21:30 -0500
nebbiolo2Linux (Ubuntu 20.04.5 LTS) / x86_64  OK    OK    WARNINGS  UNNEEDED, same version is already published
palomino4Windows Server 2022 Datacenter / x64  OK    OK    WARNINGS    OK  UNNEEDED, same version is already published
lconwaymacOS 12.5.1 Monterey / x86_64  OK    OK    WARNINGS    OK  UNNEEDED, same version is already published
Package 104/111HostnameOS / ArchINSTALLBUILDCHECKBUILD BIN
TarSeqQC 1.28.0  (landing page)
Gabriela Merino
git_last_commit: ef4f4fc
git_last_commit_date: 2022-11-01 11:12:16 -0500
nebbiolo2Linux (Ubuntu 20.04.5 LTS) / x86_64  OK    OK    ERROR  
palomino4Windows Server 2022 Datacenter / x64  OK    OK    ERROR    OK  
lconwaymacOS 12.5.1 Monterey / x86_64  OK    OK    ERROR    OK  
Package 105/111HostnameOS / ArchINSTALLBUILDCHECKBUILD BIN
TCseq 1.22.6  (landing page)
Mengjun Wu
git_last_commit: 768d487
git_last_commit_date: 2023-01-30 12:53:26 -0500
nebbiolo2Linux (Ubuntu 20.04.5 LTS) / x86_64  OK    OK    WARNINGS  YES
palomino4Windows Server 2022 Datacenter / x64  OK    OK    WARNINGS    OK  YES
lconwaymacOS 12.5.1 Monterey / x86_64  OK    OK    WARNINGS    OK  YES
Package 106/111HostnameOS / ArchINSTALLBUILDCHECKBUILD BIN
trackViewer 1.34.0  (landing page)
Jianhong Ou
git_last_commit: 9daa482
git_last_commit_date: 2022-11-01 11:09:09 -0500
nebbiolo2Linux (Ubuntu 20.04.5 LTS) / x86_64  OK    OK    OK  UNNEEDED, same version is already published
palomino4Windows Server 2022 Datacenter / x64  OK    OK    OK    OK  UNNEEDED, same version is already published
lconwaymacOS 12.5.1 Monterey / x86_64  OK    OK    OK    OK  UNNEEDED, same version is already published
Package 107/111HostnameOS / ArchINSTALLBUILDCHECKBUILD BIN
transcriptR 1.26.0  (landing page)
Armen R. Karapetyan
git_last_commit: 0789312
git_last_commit_date: 2022-11-01 11:12:38 -0500
nebbiolo2Linux (Ubuntu 20.04.5 LTS) / x86_64  OK    OK    OK  UNNEEDED, same version is already published
palomino4Windows Server 2022 Datacenter / x64  OK    OK    OK    OK  UNNEEDED, same version is already published
lconwaymacOS 12.5.1 Monterey / x86_64  OK    OK    OK    OK  UNNEEDED, same version is already published
Package 108/111HostnameOS / ArchINSTALLBUILDCHECKBUILD BIN
Ularcirc 1.16.0  (landing page)
David Humphreys
git_last_commit: c4f780d
git_last_commit_date: 2022-11-01 11:17:58 -0500
nebbiolo2Linux (Ubuntu 20.04.5 LTS) / x86_64  OK    OK    WARNINGS  UNNEEDED, same version is already published
palomino4Windows Server 2022 Datacenter / x64  OK    OK    WARNINGS    OK  UNNEEDED, same version is already published
lconwaymacOS 12.5.1 Monterey / x86_64  OK    OK    WARNINGS    OK  UNNEEDED, same version is already published
Package 109/111HostnameOS / ArchINSTALLBUILDCHECKBUILD BIN
UMI4Cats 1.8.1  (landing page)
Mireia Ramos-Rodriguez
git_last_commit: 9626832
git_last_commit_date: 2022-12-15 08:12:00 -0500
nebbiolo2Linux (Ubuntu 20.04.5 LTS) / x86_64  OK    OK    OK  UNNEEDED, same version is already published
palomino4Windows Server 2022 Datacenter / x64  OK    OK    OK    OK  UNNEEDED, same version is already published
lconwaymacOS 12.5.1 Monterey / x86_64  OK    OK    OK    OK  UNNEEDED, same version is already published
Package 110/111HostnameOS / ArchINSTALLBUILDCHECKBUILD BIN
VaSP 1.10.0  (landing page)
Huihui Yu
git_last_commit: 5b08a6b
git_last_commit_date: 2022-11-01 11:21:25 -0500
nebbiolo2Linux (Ubuntu 20.04.5 LTS) / x86_64  OK    OK    OK  UNNEEDED, same version is already published
palomino4Windows Server 2022 Datacenter / x64  OK    OK    OK    OK  UNNEEDED, same version is already published
lconwaymacOS 12.5.1 Monterey / x86_64  OK    OK    OK    OK  UNNEEDED, same version is already published
Package 111/111HostnameOS / ArchINSTALLBUILDCHECKBUILD BIN
VplotR 1.8.0  (landing page)
Jacques Serizay
git_last_commit: ec8d656
git_last_commit_date: 2022-11-01 11:22:38 -0500
nebbiolo2Linux (Ubuntu 20.04.5 LTS) / x86_64  OK    OK    WARNINGS  UNNEEDED, same version is already published
palomino4Windows Server 2022 Datacenter / x64  OK    OK    WARNINGS    OK  UNNEEDED, same version is already published
lconwaymacOS 12.5.1 Monterey / x86_64  OK    OK    WARNINGS    OK  UNNEEDED, same version is already published