Back to Multiple platform build/check report for BioC 3.16:   simplified   long
ABCDEFGHIJKLMNOPQR[S]TUVWXYZ

This page was generated on 2023-03-24 11:05:43 -0400 (Fri, 24 Mar 2023).

HostnameOSArch (*)R versionInstalled pkgs
nebbiolo2Linux (Ubuntu 20.04.5 LTS)x86_644.2.3 (2023-03-15) -- "Shortstop Beagle" 4286
palomino4Windows Server 2022 Datacenterx644.2.3 (2023-03-15 ucrt) -- "Shortstop Beagle" 4276
lconwaymacOS 12.5.1 Montereyx86_644.2.3 (2023-03-15) -- "Shortstop Beagle" 4303
Click on any hostname to see more info about the system (e.g. compilers)      (*) as reported by 'uname -p', except on Windows and Mac OS X

CHECK results for signatureSearch on nebbiolo2


To the developers/maintainers of the signatureSearch package:
- Please allow up to 24 hours (and sometimes 48 hours) for your latest push to git@git.bioconductor.org:packages/signatureSearch.git to
reflect on this report. See How and When does the builder pull? When will my changes propagate? for more information.
- Make sure to use the following settings in order to reproduce any error or warning you see on this page.

raw results

Package 1869/2183HostnameOS / ArchINSTALLBUILDCHECKBUILD BIN
signatureSearch 1.12.0  (landing page)
Brendan Gongol
Snapshot Date: 2023-03-22 14:00:04 -0400 (Wed, 22 Mar 2023)
git_url: https://git.bioconductor.org/packages/signatureSearch
git_branch: RELEASE_3_16
git_last_commit: b007162
git_last_commit_date: 2022-11-01 11:20:59 -0400 (Tue, 01 Nov 2022)
nebbiolo2Linux (Ubuntu 20.04.5 LTS) / x86_64  OK    OK    OK  UNNEEDED, same version is already published
palomino4Windows Server 2022 Datacenter / x64  OK    OK    OK    OK  UNNEEDED, same version is already published
lconwaymacOS 12.5.1 Monterey / x86_64  OK    OK    OK    OK  UNNEEDED, same version is already published

Summary

Package: signatureSearch
Version: 1.12.0
Command: /home/biocbuild/bbs-3.16-bioc/R/bin/R CMD check --install=check:signatureSearch.install-out.txt --library=/home/biocbuild/bbs-3.16-bioc/R/site-library --timings signatureSearch_1.12.0.tar.gz
StartedAt: 2023-03-23 00:14:46 -0400 (Thu, 23 Mar 2023)
EndedAt: 2023-03-23 00:27:16 -0400 (Thu, 23 Mar 2023)
EllapsedTime: 750.3 seconds
RetCode: 0
Status:   OK  
CheckDir: signatureSearch.Rcheck
Warnings: 0

Command output

##############################################################################
##############################################################################
###
### Running command:
###
###   /home/biocbuild/bbs-3.16-bioc/R/bin/R CMD check --install=check:signatureSearch.install-out.txt --library=/home/biocbuild/bbs-3.16-bioc/R/site-library --timings signatureSearch_1.12.0.tar.gz
###
##############################################################################
##############################################################################


* using log directory ‘/home/biocbuild/bbs-3.16-bioc/meat/signatureSearch.Rcheck’
* using R version 4.2.3 (2023-03-15)
* using platform: x86_64-pc-linux-gnu (64-bit)
* using session charset: UTF-8
* checking for file ‘signatureSearch/DESCRIPTION’ ... OK
* this is package ‘signatureSearch’ version ‘1.12.0’
* package encoding: UTF-8
* checking package namespace information ... OK
* checking package dependencies ... OK
* checking if this is a source package ... OK
* checking if there is a namespace ... OK
* checking for hidden files and directories ... NOTE
Found the following hidden files and directories:
  inst/extdata/.batchtools.conf.R
These were most likely included in error. See section ‘Package
structure’ in the ‘Writing R Extensions’ manual.
* checking for portable file names ... OK
* checking for sufficient/correct file permissions ... OK
* checking whether package ‘signatureSearch’ can be installed ... OK
* checking installed package size ... NOTE
  installed size is 89.5Mb
  sub-directories of 1Mb or more:
    R        82.8Mb
    data      2.9Mb
    extdata   1.5Mb
    libs      2.1Mb
* checking package directory ... OK
* checking ‘build’ directory ... OK
* checking DESCRIPTION meta-information ... OK
* checking top-level files ... OK
* checking for left-over files ... OK
* checking index information ... OK
* checking package subdirectories ... OK
* checking R files for non-ASCII characters ... OK
* checking R files for syntax errors ... OK
* checking whether the package can be loaded ... OK
* checking whether the package can be loaded with stated dependencies ... OK
* checking whether the package can be unloaded cleanly ... OK
* checking whether the namespace can be loaded with stated dependencies ... OK
* checking whether the namespace can be unloaded cleanly ... OK
* checking loading without being on the library search path ... OK
* checking dependencies in R code ... OK
* checking S3 generic/method consistency ... OK
* checking replacement functions ... OK
* checking foreign function calls ... OK
* checking R code for possible problems ... OK
* checking Rd files ... OK
* checking Rd metadata ... OK
* checking Rd cross-references ... OK
* checking for missing documentation entries ... OK
* checking for code/documentation mismatches ... OK
* checking Rd \usage sections ... OK
* checking Rd contents ... OK
* checking for unstated dependencies in examples ... OK
* checking contents of ‘data’ directory ... OK
* checking data for non-ASCII characters ... NOTE
  Note: found 147 marked UTF-8 strings
* checking LazyData ... OK
* checking data for ASCII and uncompressed saves ... OK
* checking R/sysdata.rda ... OK
* checking line endings in C/C++/Fortran sources/headers ... OK
* checking compiled code ... NOTE
Note: information on .o files is not available
* checking files in ‘vignettes’ ... OK
* checking examples ... OK
Examples with CPU (user + system) or elapsed time > 5s
                user system elapsed
set_readable  34.299  1.627  36.245
runWF         27.714  3.178  47.565
rand_query_ES  6.254  4.057  12.138
addGESSannot   4.332  0.579   5.448
* checking for unstated dependencies in ‘tests’ ... OK
* checking tests ...
  Running ‘testthat.R’
 OK
* checking for unstated dependencies in vignettes ... OK
* checking package vignettes in ‘inst/doc’ ... OK
* checking running R code from vignettes ...
  ‘signatureSearch.Rmd’ using ‘UTF-8’... OK
 NONE
* checking re-building of vignette outputs ... OK
* checking PDF version of manual ... OK
* DONE

Status: 4 NOTEs
See
  ‘/home/biocbuild/bbs-3.16-bioc/meat/signatureSearch.Rcheck/00check.log’
for details.



Installation output

signatureSearch.Rcheck/00install.out

##############################################################################
##############################################################################
###
### Running command:
###
###   /home/biocbuild/bbs-3.16-bioc/R/bin/R CMD INSTALL signatureSearch
###
##############################################################################
##############################################################################


* installing to library ‘/home/biocbuild/bbs-3.16-bioc/R/site-library’
* installing *source* package ‘signatureSearch’ ...
** using staged installation
** libs
g++ -std=gnu++11 -I"/home/biocbuild/bbs-3.16-bioc/R/include" -DNDEBUG  -I'/home/biocbuild/bbs-3.16-bioc/R/site-library/Rcpp/include' -I/usr/local/include   -fpic  -g -O2  -Wall -c RcppExports.cpp -o RcppExports.o
g++ -std=gnu++11 -I"/home/biocbuild/bbs-3.16-bioc/R/include" -DNDEBUG  -I'/home/biocbuild/bbs-3.16-bioc/R/site-library/Rcpp/include' -I/usr/local/include   -fpic  -g -O2  -Wall -c fastGSEA.cpp -o fastGSEA.o
fastGSEA.cpp: In function ‘Rcpp::NumericVector calcGseaStatBatchCpp(const NumericVector&, const List&, const IntegerVector&)’:
fastGSEA.cpp:444:27: warning: comparison of integer expressions of different signedness: ‘int’ and ‘std::vector<int>::size_type’ {aka ‘long unsigned int’} [-Wsign-compare]
  444 |         for (int j = 0; j < S.size(); ++j) {
      |                         ~~^~~~~~~~~~
gcc -I"/home/biocbuild/bbs-3.16-bioc/R/include" -DNDEBUG  -I'/home/biocbuild/bbs-3.16-bioc/R/site-library/Rcpp/include' -I/usr/local/include   -fpic  -g -O2  -Wall -c fgsea_init.c -o fgsea_init.o
g++ -std=gnu++11 -shared -L/home/biocbuild/bbs-3.16-bioc/R/lib -L/usr/local/lib -o signatureSearch.so RcppExports.o fastGSEA.o fgsea_init.o -L/home/biocbuild/bbs-3.16-bioc/R/lib -lR
installing to /home/biocbuild/bbs-3.16-bioc/R/site-library/00LOCK-signatureSearch/00new/signatureSearch/libs
** R
** data
*** moving datasets to lazyload DB
** inst
** byte-compile and prepare package for lazy loading
** help
*** installing help indices
** building package indices
** installing vignettes
** testing if installed package can be loaded from temporary location
** checking absolute paths in shared objects and dynamic libraries
** testing if installed package can be loaded from final location
** testing if installed package keeps a record of temporary installation path
* DONE (signatureSearch)

Tests output

signatureSearch.Rcheck/tests/testthat.Rout


R version 4.2.3 (2023-03-15) -- "Shortstop Beagle"
Copyright (C) 2023 The R Foundation for Statistical Computing
Platform: x86_64-pc-linux-gnu (64-bit)

R is free software and comes with ABSOLUTELY NO WARRANTY.
You are welcome to redistribute it under certain conditions.
Type 'license()' or 'licence()' for distribution details.

R is a collaborative project with many contributors.
Type 'contributors()' for more information and
'citation()' on how to cite R or R packages in publications.

Type 'demo()' for some demos, 'help()' for on-line help, or
'help.start()' for an HTML browser interface to help.
Type 'q()' to quit R.

> # library(testthat)
> # library(signatureSearch)
> # 
> # test_check("signatureSearch")
> 
> proc.time()
   user  system elapsed 
  0.242   0.031   0.258 

Example timings

signatureSearch.Rcheck/signatureSearch-Ex.timings

nameusersystemelapsed
addGESSannot4.3320.5795.448
addMOA0.1670.0120.179
add_pcid0.0010.0000.001
append2H50.0690.0000.069
build_custom_db0.2150.0160.231
cellNtestPlot0.6980.0560.945
cell_info0.0190.0000.019
cell_info20.0290.0000.029
chembl_moa_list0.0040.0000.004
clue_moa_list0.0040.0000.003
comp_fea_res0.1570.0200.176
create_empty_h50.020.000.02
dim-methods0.0050.0030.008
drug_cell_ranks0.0080.0000.009
drugs-methods0.0020.0000.002
drugs100.0020.0000.001
dtnetplot1.9210.1682.368
enrichGO2000
enrichKEGG2000
enrichMOA0.0320.0040.037
enrichReactome000
fea0.0030.0000.002
feaResult0.0020.0000.001
gctx2h50.4160.0750.492
gess0.0010.0000.000
gessResult0.0000.0010.002
gess_res_vis0.2420.0060.248
getSig1.4610.1111.960
getTreats0.5940.0680.850
get_targets2.0710.2082.658
gmt2h50.0770.0160.093
gseGO20.0010.0000.001
gseKEGG20.0090.0000.009
gseReactome0.0090.0000.008
head-methods0.0060.0000.005
lincs_expr_inst_info0.0280.0040.032
lincs_pert_info1.2000.2321.432
lincs_pert_info20.2540.0440.297
lincs_sig_info0.0350.0040.039
list2df0.0020.0000.003
list_rev0.0010.0000.002
mabsGO0.0010.0000.001
mabsKEGG0.0080.0040.012
mabsReactome0.0110.0000.010
matrix2h50.0440.0080.052
meanExpr2h50.4200.0520.472
moa_conn0.0180.0040.022
parse_gctx0.0700.0000.071
qSig1.0690.1281.683
rand_query_ES 6.254 4.05712.138
read_gmt0.0010.0030.003
result-methods1.3330.9560.056
runWF27.714 3.17847.565
set_readable34.299 1.62736.245
show-methods0.0280.0000.029
sim_score_grp0.0090.0000.009
tail-methods0.0060.0000.005
tarReduce000
targetList0.0020.0000.003
vec_char_redu0.0000.0000.001