Back to Multiple platform build/check report for BioC 3.16: simplified long |
|
This page was generated on 2023-03-29 11:05:16 -0400 (Wed, 29 Mar 2023).
Hostname | OS | Arch (*) | R version | Installed pkgs |
---|---|---|---|---|
nebbiolo2 | Linux (Ubuntu 20.04.5 LTS) | x86_64 | 4.2.3 (2023-03-15) -- "Shortstop Beagle" | 4482 |
palomino4 | Windows Server 2022 Datacenter | x64 | 4.2.3 (2023-03-15 ucrt) -- "Shortstop Beagle" | 4278 |
lconway | macOS 12.5.1 Monterey | x86_64 | 4.2.3 (2023-03-15) -- "Shortstop Beagle" | 4306 |
Click on any hostname to see more info about the system (e.g. compilers) (*) as reported by 'uname -p', except on Windows and Mac OS X |
To the developers/maintainers of the RiboDiPA package: - Please allow up to 24 hours (and sometimes 48 hours) for your latest push to git@git.bioconductor.org:packages/RiboDiPA.git to reflect on this report. See How and When does the builder pull? When will my changes propagate? for more information. - Make sure to use the following settings in order to reproduce any error or warning you see on this page. |
Package 1677/2183 | Hostname | OS / Arch | INSTALL | BUILD | CHECK | BUILD BIN | ||||||||
RiboDiPA 1.6.0 (landing page) Ji-Ping Wang
| nebbiolo2 | Linux (Ubuntu 20.04.5 LTS) / x86_64 | OK | OK | OK | ![]() | ||||||||
palomino4 | Windows Server 2022 Datacenter / x64 | OK | OK | OK | OK | ![]() | ||||||||
lconway | macOS 12.5.1 Monterey / x86_64 | OK | OK | OK | OK | ![]() | ||||||||
Package: RiboDiPA |
Version: 1.6.0 |
Command: /home/biocbuild/bbs-3.16-bioc/R/bin/R CMD check --install=check:RiboDiPA.install-out.txt --library=/home/biocbuild/bbs-3.16-bioc/R/site-library --timings RiboDiPA_1.6.0.tar.gz |
StartedAt: 2023-03-27 23:33:00 -0400 (Mon, 27 Mar 2023) |
EndedAt: 2023-03-27 23:49:40 -0400 (Mon, 27 Mar 2023) |
EllapsedTime: 999.9 seconds |
RetCode: 0 |
Status: OK |
CheckDir: RiboDiPA.Rcheck |
Warnings: 0 |
############################################################################## ############################################################################## ### ### Running command: ### ### /home/biocbuild/bbs-3.16-bioc/R/bin/R CMD check --install=check:RiboDiPA.install-out.txt --library=/home/biocbuild/bbs-3.16-bioc/R/site-library --timings RiboDiPA_1.6.0.tar.gz ### ############################################################################## ############################################################################## * using log directory ‘/home/biocbuild/bbs-3.16-bioc/meat/RiboDiPA.Rcheck’ * using R version 4.2.3 (2023-03-15) * using platform: x86_64-pc-linux-gnu (64-bit) * using session charset: UTF-8 * checking for file ‘RiboDiPA/DESCRIPTION’ ... OK * checking extension type ... Package * this is package ‘RiboDiPA’ version ‘1.6.0’ * package encoding: UTF-8 * checking package namespace information ... OK * checking package dependencies ... OK * checking if this is a source package ... OK * checking if there is a namespace ... OK * checking for hidden files and directories ... OK * checking for portable file names ... OK * checking for sufficient/correct file permissions ... OK * checking whether package ‘RiboDiPA’ can be installed ... OK * checking installed package size ... OK * checking package directory ... OK * checking ‘build’ directory ... OK * checking DESCRIPTION meta-information ... OK * checking top-level files ... OK * checking for left-over files ... OK * checking index information ... OK * checking package subdirectories ... OK * checking R files for non-ASCII characters ... OK * checking R files for syntax errors ... OK * checking whether the package can be loaded ... OK * checking whether the package can be loaded with stated dependencies ... OK * checking whether the package can be unloaded cleanly ... OK * checking whether the namespace can be loaded with stated dependencies ... OK * checking whether the namespace can be unloaded cleanly ... OK * checking loading without being on the library search path ... OK * checking dependencies in R code ... OK * checking S3 generic/method consistency ... OK * checking replacement functions ... OK * checking foreign function calls ... OK * checking R code for possible problems ... OK * checking Rd files ... OK * checking Rd metadata ... OK * checking Rd cross-references ... OK * checking for missing documentation entries ... OK * checking for code/documentation mismatches ... OK * checking Rd \usage sections ... OK * checking Rd contents ... OK * checking for unstated dependencies in examples ... OK * checking contents of ‘data’ directory ... OK * checking data for non-ASCII characters ... OK * checking LazyData ... OK * checking data for ASCII and uncompressed saves ... OK * checking line endings in C/C++/Fortran sources/headers ... OK * checking compiled code ... OK * checking files in ‘vignettes’ ... OK * checking examples ... OK Examples with CPU (user + system) or elapsed time > 5s user system elapsed PsiteMapping 28.364 1.147 103.456 binTrack 28.489 0.758 29.248 diffPatternTestExon 5.823 0.368 6.191 DataBinning 3.002 0.275 173.216 data.psite 0.897 0.158 95.752 * checking for unstated dependencies in vignettes ... OK * checking package vignettes in ‘inst/doc’ ... OK * checking running R code from vignettes ... ‘RiboDiPA.Rmd’ using ‘UTF-8’... OK NONE * checking re-building of vignette outputs ... OK * checking PDF version of manual ... OK * DONE Status: OK
RiboDiPA.Rcheck/00install.out
############################################################################## ############################################################################## ### ### Running command: ### ### /home/biocbuild/bbs-3.16-bioc/R/bin/R CMD INSTALL RiboDiPA ### ############################################################################## ############################################################################## * installing to library ‘/home/biocbuild/bbs-3.16-bioc/R/site-library’ * installing *source* package ‘RiboDiPA’ ... ** using staged installation ** libs g++ -std=gnu++14 -I"/home/biocbuild/bbs-3.16-bioc/R/include" -DNDEBUG -I'/home/biocbuild/bbs-3.16-bioc/R/site-library/Rcpp/include' -I/usr/local/include -fpic -g -O2 -Wall -c RcppExports.cpp -o RcppExports.o g++ -std=gnu++14 -I"/home/biocbuild/bbs-3.16-bioc/R/include" -DNDEBUG -I'/home/biocbuild/bbs-3.16-bioc/R/site-library/Rcpp/include' -I/usr/local/include -fpic -g -O2 -Wall -c centerCPP.cpp -o centerCPP.o g++ -std=gnu++14 -shared -L/home/biocbuild/bbs-3.16-bioc/R/lib -L/usr/local/lib -o RiboDiPA.so RcppExports.o centerCPP.o -L/home/biocbuild/bbs-3.16-bioc/R/lib -lR installing to /home/biocbuild/bbs-3.16-bioc/R/site-library/00LOCK-RiboDiPA/00new/RiboDiPA/libs ** R ** data *** moving datasets to lazyload DB ** inst ** byte-compile and prepare package for lazy loading ** help *** installing help indices ** building package indices ** installing vignettes ** testing if installed package can be loaded from temporary location ** checking absolute paths in shared objects and dynamic libraries ** testing if installed package can be loaded from final location ** testing if installed package keeps a record of temporary installation path * DONE (RiboDiPA)
RiboDiPA.Rcheck/RiboDiPA-Ex.timings
name | user | system | elapsed | |
DataBinning | 3.002 | 0.275 | 173.216 | |
PsiteMapping | 28.364 | 1.147 | 103.456 | |
RiboDiPA | 0.000 | 0.000 | 0.001 | |
binTrack | 28.489 | 0.758 | 29.248 | |
bpTrack | 0.479 | 0.016 | 0.495 | |
data.binned | 2.951 | 0.051 | 3.003 | |
data.psite | 0.897 | 0.158 | 95.752 | |
diffPatternTest | 3.471 | 0.365 | 3.837 | |
diffPatternTestExon | 5.823 | 0.368 | 6.191 | |
exonTrack | 0.065 | 0.008 | 0.072 | |
normFactor | 0.005 | 0.000 | 0.005 | |
plotTest | 0.940 | 0.032 | 0.972 | |
plotTrack | 1.616 | 0.068 | 1.684 | |
psitecal | 0 | 0 | 0 | |
result.exon | 0.071 | 0.008 | 0.080 | |
result.pst | 1.565 | 0.052 | 1.617 | |