Back to Multiple platform build/check report for BioC 3.16
ABCDEFGHIJKL[M]NOPQRSTUVWXYZ

This page was generated on 2022-07-06 11:04:34 -0400 (Wed, 06 Jul 2022).

HostnameOSArch (*)R versionInstalled pkgs
nebbiolo2Linux (Ubuntu 20.04.4 LTS)x86_644.2.0 Patched (2022-06-02 r82447) -- "Vigorous Calisthenics" 4343
palomino4Windows Server 2022 Datacenterx644.2.0 Patched (2022-06-02 r82447 ucrt) -- "Vigorous Calisthenics" 4148
lconwaymacOS 12.2.1 Montereyx86_644.2.0 Patched (2022-05-29 r82424) -- "Vigorous Calisthenics" 4160
kjohnsonmacOS 12.4 Montereyarm644.2.0 Patched (2022-06-09 r82473) -- "Vigorous Calisthenics" 3115
Click on any hostname to see more info about the system (e.g. compilers)      (*) as reported by 'uname -p', except on Windows and Mac OS X

All results for package MSstatsQC


To the developers/maintainers of the MSstatsQC package:
- Please allow up to 24 hours (and sometimes 48 hours) for your latest push to git@git.bioconductor.org:packages/MSstatsQC.git to
reflect on this report. See How and When does the builder pull? When will my changes propagate? for more information.
- Make sure to use the following settings in order to reproduce any error or warning you see on this page.

raw results

Package 1256/2124HostnameOS / ArchINSTALLBUILDCHECKBUILD BIN
MSstatsQC 2.15.0  (landing page)
Eralp Dogu
Snapshot Date: 2022-07-05 14:00:05 -0400 (Tue, 05 Jul 2022)
git_url: https://git.bioconductor.org/packages/MSstatsQC
git_branch: master
git_last_commit: 242a355
git_last_commit_date: 2022-04-26 11:43:34 -0400 (Tue, 26 Apr 2022)
nebbiolo2Linux (Ubuntu 20.04.4 LTS) / x86_64  OK    OK    OK  UNNEEDED, same version is already published
palomino4Windows Server 2022 Datacenter / x64  OK    OK    ERROR    OK  
lconwaymacOS 12.2.1 Monterey / x86_64  OK    OK    ERROR    OK  
kjohnsonmacOS 12.4 Monterey / arm64  ERROR    ERROR  skippedskipped

Results for Bioconductor software packages that depend directly on package MSstatsQC

QUICK STATSOS / ArchINSTALLBUILDCHECKBUILD BIN
nebbiolo2Linux (Ubuntu 20.04.4 LTS) / x86_64
001
001
0001
palomino4Windows Server 2022 Datacenter / x64
001
001
0001
001
lconwaymacOS 12.2.1 Monterey / x86_64
001
001
0001
001
kjohnsonmacOS 12.4 Monterey / arm64
010
010
0000
000
Package 1/1HostnameOS / ArchINSTALLBUILDCHECKBUILD BIN
MSstatsQCgui 1.17.0  (landing page)
Eralp Dogu
git_last_commit: 7d2b1bf
git_last_commit_date: 2022-04-26 11:49:08 -0400
nebbiolo2Linux (Ubuntu 20.04.4 LTS) / x86_64  OK    OK    OK  UNNEEDED, same version is already published
palomino4Windows Server 2022 Datacenter / x64  OK    OK    OK    OK  NO, package depends on 'MSstatsQC' which is not available
lconwaymacOS 12.2.1 Monterey / x86_64  OK    OK    OK    OK  NO, package depends on 'MSstatsQC' which is not available
kjohnsonmacOS 12.4 Monterey / arm64  ERROR    ERROR  skippedskipped