Back to Multiple platform build/check report for BioC 3.16:   simplified   long
A[B]CDEFGHIJKLMNOPQRSTUVWXYZ

This page was generated on 2023-04-12 11:04:23 -0400 (Wed, 12 Apr 2023).

HostnameOSArch (*)R versionInstalled pkgs
nebbiolo2Linux (Ubuntu 20.04.5 LTS)x86_644.2.3 (2023-03-15) -- "Shortstop Beagle" 4502
palomino4Windows Server 2022 Datacenterx644.2.3 (2023-03-15 ucrt) -- "Shortstop Beagle" 4282
lconwaymacOS 12.5.1 Montereyx86_644.2.3 (2023-03-15) -- "Shortstop Beagle" 4310
Click on any hostname to see more info about the system (e.g. compilers)      (*) as reported by 'uname -p', except on Windows and Mac OS X

All results for package Biobase


To the developers/maintainers of the Biobase package:
- Please allow up to 24 hours (and sometimes 48 hours) for your latest push to git@git.bioconductor.org:packages/Biobase.git to
reflect on this report. See How and When does the builder pull? When will my changes propagate? for more information.
- Make sure to use the following settings in order to reproduce any error or warning you see on this page.

raw results

Package 154/2183HostnameOS / ArchINSTALLBUILDCHECKBUILD BIN
Biobase 2.58.0  (landing page)
Bioconductor Package Maintainer
Snapshot Date: 2023-04-10 14:00:05 -0400 (Mon, 10 Apr 2023)
git_url: https://git.bioconductor.org/packages/Biobase
git_branch: RELEASE_3_16
git_last_commit: 767f2f3
git_last_commit_date: 2022-11-01 10:34:43 -0400 (Tue, 01 Nov 2022)
nebbiolo2Linux (Ubuntu 20.04.5 LTS) / x86_64  OK    OK    OK  UNNEEDED, same version is already published
palomino4Windows Server 2022 Datacenter / x64  OK    OK    OK    OK  UNNEEDED, same version is already published
lconwaymacOS 12.5.1 Monterey / x86_64  OK    OK    OK    OK  UNNEEDED, same version is already published

Results for Bioconductor software packages that depend directly on package Biobase

QUICK STATSOS / ArchINSTALLBUILDCHECKBUILD BIN
nebbiolo2Linux (Ubuntu 20.04.5 LTS) / x86_64
04458
020442
1883350
palomino4Windows Server 2022 Datacenter / x64
03454
017440
0977354
00440
lconwaymacOS 12.5.1 Monterey / x86_64
06455
021440
0678356
00440
Package 1/462HostnameOS / ArchINSTALLBUILDCHECKBUILD BIN
a4Base 1.46.0  (landing page)
Laure Cougnaud
git_last_commit: be70ae7
git_last_commit_date: 2022-11-01 11:05:49 -0400
nebbiolo2Linux (Ubuntu 20.04.5 LTS) / x86_64  OK    OK    OK  UNNEEDED, same version is already published
palomino4Windows Server 2022 Datacenter / x64  OK    OK    OK    OK  UNNEEDED, same version is already published
lconwaymacOS 12.5.1 Monterey / x86_64  OK    OK    OK    OK  UNNEEDED, same version is already published
Package 2/462HostnameOS / ArchINSTALLBUILDCHECKBUILD BIN
a4Classif 1.46.0  (landing page)
Laure Cougnaud
git_last_commit: 9679418
git_last_commit_date: 2022-11-01 11:05:50 -0400
nebbiolo2Linux (Ubuntu 20.04.5 LTS) / x86_64  OK    OK    OK  UNNEEDED, same version is already published
palomino4Windows Server 2022 Datacenter / x64  OK    OK    OK    OK  UNNEEDED, same version is already published
lconwaymacOS 12.5.1 Monterey / x86_64  OK    OK    OK    OK  UNNEEDED, same version is already published
Package 3/462HostnameOS / ArchINSTALLBUILDCHECKBUILD BIN
a4Core 1.46.0  (landing page)
Laure Cougnaud
git_last_commit: 8999fe1
git_last_commit_date: 2022-11-01 11:05:51 -0400
nebbiolo2Linux (Ubuntu 20.04.5 LTS) / x86_64  OK    OK    OK  UNNEEDED, same version is already published
palomino4Windows Server 2022 Datacenter / x64  OK    OK    OK    OK  UNNEEDED, same version is already published
lconwaymacOS 12.5.1 Monterey / x86_64  OK    OK    OK    OK  UNNEEDED, same version is already published
Package 4/462HostnameOS / ArchINSTALLBUILDCHECKBUILD BIN
a4Preproc 1.46.0  (landing page)
Laure Cougnaud
git_last_commit: 8463958
git_last_commit_date: 2022-11-01 11:05:49 -0400
nebbiolo2Linux (Ubuntu 20.04.5 LTS) / x86_64  OK    OK    OK  UNNEEDED, same version is already published
palomino4Windows Server 2022 Datacenter / x64  OK    OK    OK    OK  UNNEEDED, same version is already published
lconwaymacOS 12.5.1 Monterey / x86_64  OK    OK    OK    OK  UNNEEDED, same version is already published
Package 5/462HostnameOS / ArchINSTALLBUILDCHECKBUILD BIN
ABarray 1.66.0  (landing page)
Yongming Andrew Sun
git_last_commit: 9625fe2
git_last_commit_date: 2022-11-01 10:41:39 -0400
nebbiolo2Linux (Ubuntu 20.04.5 LTS) / x86_64  OK    OK    OK  UNNEEDED, same version is already published
palomino4Windows Server 2022 Datacenter / x64  OK    OK    OK    OK  UNNEEDED, same version is already published
lconwaymacOS 12.5.1 Monterey / x86_64  OK    OK    OK    OK  UNNEEDED, same version is already published
Package 6/462HostnameOS / ArchINSTALLBUILDCHECKBUILD BIN
ACE 1.16.0  (landing page)
Jos B Poell
git_last_commit: 44fa7a7
git_last_commit_date: 2022-11-01 11:18:08 -0400
nebbiolo2Linux (Ubuntu 20.04.5 LTS) / x86_64  OK    OK    OK  UNNEEDED, same version is already published
palomino4Windows Server 2022 Datacenter / x64  OK    OK    OK    OK  UNNEEDED, same version is already published
lconwaymacOS 12.5.1 Monterey / x86_64  OK    OK    OK    OK  UNNEEDED, same version is already published
Package 7/462HostnameOS / ArchINSTALLBUILDCHECKBUILD BIN
aCGH 1.76.0  (landing page)
Peter Dimitrov
git_last_commit: c606852
git_last_commit_date: 2022-11-01 10:37:29 -0400
nebbiolo2Linux (Ubuntu 20.04.5 LTS) / x86_64  OK    OK    OK  UNNEEDED, same version is already published
palomino4Windows Server 2022 Datacenter / x64  OK    OK    OK    OK  UNNEEDED, same version is already published
lconwaymacOS 12.5.1 Monterey / x86_64  OK    OK    OK    OK  UNNEEDED, same version is already published
Package 8/462HostnameOS / ArchINSTALLBUILDCHECKBUILD BIN
ACME 2.54.0  (landing page)
Sean Davis
git_last_commit: 8d39d9d
git_last_commit_date: 2022-11-01 11:03:24 -0400
nebbiolo2Linux (Ubuntu 20.04.5 LTS) / x86_64  OK    OK    WARNINGS  UNNEEDED, same version is already published
palomino4Windows Server 2022 Datacenter / x64  OK    OK    WARNINGS    OK  UNNEEDED, same version is already published
lconwaymacOS 12.5.1 Monterey / x86_64  OK    OK    OK    OK  UNNEEDED, same version is already published
Package 9/462HostnameOS / ArchINSTALLBUILDCHECKBUILD BIN
adSplit 1.68.0  (landing page)
Claudio Lottaz
git_last_commit: 705977b
git_last_commit_date: 2022-11-01 10:40:46 -0400
nebbiolo2Linux (Ubuntu 20.04.5 LTS) / x86_64  OK    OK    OK  UNNEEDED, same version is already published
palomino4Windows Server 2022 Datacenter / x64  OK    OK    OK    OK  UNNEEDED, same version is already published
lconwaymacOS 12.5.1 Monterey / x86_64  OK    OK    OK    OK  UNNEEDED, same version is already published
Package 10/462HostnameOS / ArchINSTALLBUILDCHECKBUILD BIN
affy 1.76.0  (landing page)
Rafael A. Irizarry
git_last_commit: 3bb3093
git_last_commit_date: 2022-11-01 10:35:21 -0400
nebbiolo2Linux (Ubuntu 20.04.5 LTS) / x86_64  OK    OK    WARNINGS  UNNEEDED, same version is already published
palomino4Windows Server 2022 Datacenter / x64  OK    OK    WARNINGS    OK  UNNEEDED, same version is already published
lconwaymacOS 12.5.1 Monterey / x86_64  OK    OK    WARNINGS    OK  UNNEEDED, same version is already published
Package 11/462HostnameOS / ArchINSTALLBUILDCHECKBUILD BIN
affycomp 1.74.0  (landing page)
Rafael A. Irizarry
git_last_commit: 1160d63
git_last_commit_date: 2022-11-01 10:35:39 -0400
nebbiolo2Linux (Ubuntu 20.04.5 LTS) / x86_64  OK    OK    OK  UNNEEDED, same version is already published
palomino4Windows Server 2022 Datacenter / x64  OK    OK    OK    OK  UNNEEDED, same version is already published
lconwaymacOS 12.5.1 Monterey / x86_64  OK    OK    OK    OK  UNNEEDED, same version is already published
Package 12/462HostnameOS / ArchINSTALLBUILDCHECKBUILD BIN
affyContam 1.56.0  (landing page)
V. Carey
git_last_commit: e2b8a4f
git_last_commit_date: 2022-11-01 11:04:10 -0400
nebbiolo2Linux (Ubuntu 20.04.5 LTS) / x86_64  OK    OK    OK  UNNEEDED, same version is already published
palomino4Windows Server 2022 Datacenter / x64  OK    OK    OK    OK  UNNEEDED, same version is already published
lconwaymacOS 12.5.1 Monterey / x86_64  OK    OK    OK    OK  UNNEEDED, same version is already published
Package 13/462HostnameOS / ArchINSTALLBUILDCHECKBUILD BIN
affycoretools 1.70.0  (landing page)
James W. MacDonald
git_last_commit: f09a788
git_last_commit_date: 2022-11-01 10:40:10 -0400
nebbiolo2Linux (Ubuntu 20.04.5 LTS) / x86_64  OK    OK    OK  UNNEEDED, same version is already published
palomino4Windows Server 2022 Datacenter / x64  OK    OK    OK    OK  UNNEEDED, same version is already published
lconwaymacOS 12.5.1 Monterey / x86_64  OK    OK    OK    OK  UNNEEDED, same version is already published
Package 14/462HostnameOS / ArchINSTALLBUILDCHECKBUILD BIN
affyILM 1.50.0  (landing page)
Myriam Kroll and Fabrice Berger
git_last_commit: 185cd8e
git_last_commit_date: 2022-11-01 11:05:06 -0400
nebbiolo2Linux (Ubuntu 20.04.5 LTS) / x86_64  OK    OK    OK  UNNEEDED, same version is already published
palomino4Windows Server 2022 Datacenter / x64  OK    OK    OK    OK  UNNEEDED, same version is already published
lconwaymacOS 12.5.1 Monterey / x86_64  OK    OK    OK    OK  UNNEEDED, same version is already published
Package 15/462HostnameOS / ArchINSTALLBUILDCHECKBUILD BIN
affyPLM 1.74.2  (landing page)
Ben Bolstad
git_last_commit: 429ed7b
git_last_commit_date: 2023-01-19 11:13:30 -0400
nebbiolo2Linux (Ubuntu 20.04.5 LTS) / x86_64  OK    OK    WARNINGS  UNNEEDED, same version is already published
palomino4Windows Server 2022 Datacenter / x64  OK    OK    ERROR    OK  
lconwaymacOS 12.5.1 Monterey / x86_64  OK    OK    OK    OK  UNNEEDED, same version is already published
Package 16/462HostnameOS / ArchINSTALLBUILDCHECKBUILD BIN
AGDEX 1.46.0  (landing page)
Cuilan lani Gao
git_last_commit: d7c38e8
git_last_commit_date: 2022-11-01 11:06:18 -0400
nebbiolo2Linux (Ubuntu 20.04.5 LTS) / x86_64  OK    OK    OK  UNNEEDED, same version is already published
palomino4Windows Server 2022 Datacenter / x64  OK    OK    OK    OK  UNNEEDED, same version is already published
lconwaymacOS 12.5.1 Monterey / x86_64  OK    OK    OK    OK  UNNEEDED, same version is already published
Package 17/462HostnameOS / ArchINSTALLBUILDCHECKBUILD BIN
AgiMicroRna 2.48.0  (landing page)
Pedro Lopez-Romero
git_last_commit: 4c163b1
git_last_commit_date: 2022-11-01 11:04:37 -0400
nebbiolo2Linux (Ubuntu 20.04.5 LTS) / x86_64  OK    OK    OK  UNNEEDED, same version is already published
palomino4Windows Server 2022 Datacenter / x64  OK    OK    OK    OK  UNNEEDED, same version is already published
lconwaymacOS 12.5.1 Monterey / x86_64  OK    OK    OK    OK  UNNEEDED, same version is already published
Package 18/462HostnameOS / ArchINSTALLBUILDCHECKBUILD BIN
AIMS 1.30.0  (landing page)
Eric R Paquet
git_last_commit: 2ab6115
git_last_commit_date: 2022-11-01 11:10:48 -0400
nebbiolo2Linux (Ubuntu 20.04.5 LTS) / x86_64  OK    OK    OK  UNNEEDED, same version is already published
palomino4Windows Server 2022 Datacenter / x64  OK    OK    OK    OK  UNNEEDED, same version is already published
lconwaymacOS 12.5.1 Monterey / x86_64  OK    OK    OK    OK  UNNEEDED, same version is already published
Package 19/462HostnameOS / ArchINSTALLBUILDCHECKBUILD BIN
altcdfenvs 2.60.0  (landing page)
Laurent Gautier
git_last_commit: 0bc0b44
git_last_commit_date: 2022-11-01 10:36:55 -0400
nebbiolo2Linux (Ubuntu 20.04.5 LTS) / x86_64  OK    OK    OK  UNNEEDED, same version is already published
palomino4Windows Server 2022 Datacenter / x64  OK    OK    OK    OK  UNNEEDED, same version is already published
lconwaymacOS 12.5.1 Monterey / x86_64  OK    OK    OK    OK  UNNEEDED, same version is already published
Package 20/462HostnameOS / ArchINSTALLBUILDCHECKBUILD BIN
ANF 1.20.0  (landing page)
Tianle Ma
git_last_commit: 91157e7
git_last_commit_date: 2022-11-01 11:16:30 -0400
nebbiolo2Linux (Ubuntu 20.04.5 LTS) / x86_64  OK    OK    OK  UNNEEDED, same version is already published
palomino4Windows Server 2022 Datacenter / x64  OK    OK    OK    OK  UNNEEDED, same version is already published
lconwaymacOS 12.5.1 Monterey / x86_64  OK    OK    OK    OK  UNNEEDED, same version is already published
Package 21/462HostnameOS / ArchINSTALLBUILDCHECKBUILD BIN
annaffy 1.70.0  (landing page)
Colin A. Smith
git_last_commit: c99e812
git_last_commit_date: 2022-11-01 10:35:52 -0400
nebbiolo2Linux (Ubuntu 20.04.5 LTS) / x86_64  OK    OK    WARNINGS  UNNEEDED, same version is already published
palomino4Windows Server 2022 Datacenter / x64  OK    OK    WARNINGS    OK  UNNEEDED, same version is already published
lconwaymacOS 12.5.1 Monterey / x86_64  OK    OK    WARNINGS    OK  UNNEEDED, same version is already published
Package 22/462HostnameOS / ArchINSTALLBUILDCHECKBUILD BIN
annmap 1.40.0  (landing page)
Chris Wirth
git_last_commit: 02e02b1
git_last_commit_date: 2022-11-01 11:07:03 -0400
nebbiolo2Linux (Ubuntu 20.04.5 LTS) / x86_64  OK    OK    WARNINGS  UNNEEDED, same version is already published
palomino4Windows Server 2022 Datacenter / x64... NOT SUPPORTED ...
lconwaymacOS 12.5.1 Monterey / x86_64  OK    OK    WARNINGS    OK  UNNEEDED, same version is already published
Package 23/462HostnameOS / ArchINSTALLBUILDCHECKBUILD BIN
annotate 1.76.0  (landing page)
Bioconductor Package Maintainer
git_last_commit: 0181d5c
git_last_commit_date: 2022-11-01 10:34:51 -0400
nebbiolo2Linux (Ubuntu 20.04.5 LTS) / x86_64  OK    OK    OK  UNNEEDED, same version is already published
palomino4Windows Server 2022 Datacenter / x64  OK    OK    ERROR    OK  
lconwaymacOS 12.5.1 Monterey / x86_64  OK    OK    OK    OK  UNNEEDED, same version is already published
Package 24/462HostnameOS / ArchINSTALLBUILDCHECKBUILD BIN
AnnotationDbi 1.60.2  (landing page)
Bioconductor Package Maintainer
git_last_commit: eebebb2
git_last_commit_date: 2023-03-09 16:47:17 -0400
nebbiolo2Linux (Ubuntu 20.04.5 LTS) / x86_64  OK    OK    OK  UNNEEDED, same version is already published
palomino4Windows Server 2022 Datacenter / x64  OK    OK    OK    OK  UNNEEDED, same version is already published
lconwaymacOS 12.5.1 Monterey / x86_64  OK    OK    OK    OK  UNNEEDED, same version is already published
Package 25/462HostnameOS / ArchINSTALLBUILDCHECKBUILD BIN
AnnotationForge 1.40.2  (landing page)
Bioconductor Package Maintainer
git_last_commit: 17653c7
git_last_commit_date: 2023-03-25 16:39:02 -0400
nebbiolo2Linux (Ubuntu 20.04.5 LTS) / x86_64  OK    OK    OK  UNNEEDED, same version is already published
palomino4Windows Server 2022 Datacenter / x64  OK    OK    OK    OK  UNNEEDED, same version is already published
lconwaymacOS 12.5.1 Monterey / x86_64  OK    OK    OK    OK  UNNEEDED, same version is already published
Package 26/462HostnameOS / ArchINSTALLBUILDCHECKBUILD BIN
AnnotationHubData 1.28.0  (landing page)
Bioconductor Package Maintainer
git_last_commit: 37f43f7
git_last_commit_date: 2022-11-01 11:12:08 -0400
nebbiolo2Linux (Ubuntu 20.04.5 LTS) / x86_64  OK    OK    WARNINGS  UNNEEDED, same version is already published
palomino4Windows Server 2022 Datacenter / x64  OK    OK    WARNINGS    OK  UNNEEDED, same version is already published
lconwaymacOS 12.5.1 Monterey / x86_64  OK    OK    WARNINGS    OK  UNNEEDED, same version is already published
Package 27/462HostnameOS / ArchINSTALLBUILDCHECKBUILD BIN
annotationTools 1.72.0  (landing page)
Alexandre Kuhn
git_last_commit: 62cafbb
git_last_commit_date: 2022-11-01 11:03:20 -0400
nebbiolo2Linux (Ubuntu 20.04.5 LTS) / x86_64  OK    OK    OK  UNNEEDED, same version is already published
palomino4Windows Server 2022 Datacenter / x64  OK    OK    OK    OK  UNNEEDED, same version is already published
lconwaymacOS 12.5.1 Monterey / x86_64  OK    OK    OK    OK  UNNEEDED, same version is already published
Package 28/462HostnameOS / ArchINSTALLBUILDCHECKBUILD BIN
ArrayExpress 1.58.0  (landing page)
Suhaib Mohammed
git_last_commit: 7e73b1a
git_last_commit_date: 2022-11-01 11:04:06 -0400
nebbiolo2Linux (Ubuntu 20.04.5 LTS) / x86_64  OK    ERROR  skipped
palomino4Windows Server 2022 Datacenter / x64  OK    ERROR  skippedskipped
lconwaymacOS 12.5.1 Monterey / x86_64  OK    ERROR  skippedskipped
Package 29/462HostnameOS / ArchINSTALLBUILDCHECKBUILD BIN
ArrayExpressHTS 1.48.0  (landing page)
Angela Goncalves , Andrew Tikhonov
git_last_commit: 3dbd3e8
git_last_commit_date: 2022-11-01 11:05:54 -0400
nebbiolo2Linux (Ubuntu 20.04.5 LTS) / x86_64  ERROR    ERROR  skipped
palomino4Windows Server 2022 Datacenter / x64... NOT SUPPORTED ...
lconwaymacOS 12.5.1 Monterey / x86_64  ERROR    ERROR  skippedskipped
Package 30/462HostnameOS / ArchINSTALLBUILDCHECKBUILD BIN
arrayMvout 1.56.0  (landing page)
V. Carey
git_last_commit: 252dbe6
git_last_commit_date: 2022-11-01 11:04:11 -0400
nebbiolo2Linux (Ubuntu 20.04.5 LTS) / x86_64  OK    OK    OK  UNNEEDED, same version is already published
palomino4Windows Server 2022 Datacenter / x64  OK    OK    OK    OK  UNNEEDED, same version is already published
lconwaymacOS 12.5.1 Monterey / x86_64  OK    OK    OK    OK  UNNEEDED, same version is already published
Package 31/462HostnameOS / ArchINSTALLBUILDCHECKBUILD BIN
arrayQualityMetrics 3.54.0  (landing page)
Mike Smith
git_last_commit: 8dfb5dd
git_last_commit_date: 2022-11-01 11:03:33 -0400
nebbiolo2Linux (Ubuntu 20.04.5 LTS) / x86_64  OK    OK    OK  UNNEEDED, same version is already published
palomino4Windows Server 2022 Datacenter / x64  OK    OK    OK    OK  UNNEEDED, same version is already published
lconwaymacOS 12.5.1 Monterey / x86_64  OK    OK    OK    OK  UNNEEDED, same version is already published
Package 32/462HostnameOS / ArchINSTALLBUILDCHECKBUILD BIN
attract 1.50.0  (landing page)
Samuel Zimmerman
git_last_commit: 2df810f
git_last_commit_date: 2022-11-01 11:05:07 -0400
nebbiolo2Linux (Ubuntu 20.04.5 LTS) / x86_64  OK    OK    OK  UNNEEDED, same version is already published
palomino4Windows Server 2022 Datacenter / x64  OK    OK    OK    OK  UNNEEDED, same version is already published
lconwaymacOS 12.5.1 Monterey / x86_64  OK    OK    OK    OK  UNNEEDED, same version is already published
Package 33/462HostnameOS / ArchINSTALLBUILDCHECKBUILD BIN
BAGS 2.38.0  (landing page)
Alejandro Quiroz-Zarate
git_last_commit: c50fe0d
git_last_commit_date: 2022-11-01 11:06:38 -0400
nebbiolo2Linux (Ubuntu 20.04.5 LTS) / x86_64  OK    OK    OK  UNNEEDED, same version is already published
palomino4Windows Server 2022 Datacenter / x64  OK    OK    OK    OK  UNNEEDED, same version is already published
lconwaymacOS 12.5.1 Monterey / x86_64  OK    OK    OK    OK  UNNEEDED, same version is already published
Package 34/462HostnameOS / ArchINSTALLBUILDCHECKBUILD BIN
ballgown 2.30.0  (landing page)
Jack Fu
git_last_commit: 70655cf
git_last_commit_date: 2022-11-01 11:10:01 -0400
nebbiolo2Linux (Ubuntu 20.04.5 LTS) / x86_64  OK    OK    OK  UNNEEDED, same version is already published
palomino4Windows Server 2022 Datacenter / x64  OK    OK    OK    OK  UNNEEDED, same version is already published
lconwaymacOS 12.5.1 Monterey / x86_64  OK    OK    OK    OK  UNNEEDED, same version is already published
Package 35/462HostnameOS / ArchINSTALLBUILDCHECKBUILD BIN
bandle 1.2.2  (landing page)
Oliver M. Crook
git_last_commit: 8ab251f
git_last_commit_date: 2023-01-19 11:14:11 -0400
nebbiolo2Linux (Ubuntu 20.04.5 LTS) / x86_64  OK    OK    OK  UNNEEDED, same version is already published
palomino4Windows Server 2022 Datacenter / x64  OK    OK    OK    OK  UNNEEDED, same version is already published
lconwaymacOS 12.5.1 Monterey / x86_64  OK    OK    OK    OK  UNNEEDED, same version is already published
Package 36/462HostnameOS / ArchINSTALLBUILDCHECKBUILD BIN
BASiCS 2.10.5  (landing page)
Catalina Vallejos
git_last_commit: 6de1264
git_last_commit_date: 2023-01-19 11:14:20 -0400
nebbiolo2Linux (Ubuntu 20.04.5 LTS) / x86_64  OK    OK    OK  UNNEEDED, same version is already published
palomino4Windows Server 2022 Datacenter / x64  OK    OK    OK    OK  UNNEEDED, same version is already published
lconwaymacOS 12.5.1 Monterey / x86_64  OK    OK    OK    OK  UNNEEDED, same version is already published
Package 37/462HostnameOS / ArchINSTALLBUILDCHECKBUILD BIN
BayesKnockdown 1.24.0  (landing page)
William Chad Young
git_last_commit: eb337ab
git_last_commit_date: 2022-11-01 11:14:12 -0400
nebbiolo2Linux (Ubuntu 20.04.5 LTS) / x86_64  OK    OK    OK  UNNEEDED, same version is already published
palomino4Windows Server 2022 Datacenter / x64  OK    OK    OK    OK  UNNEEDED, same version is already published
lconwaymacOS 12.5.1 Monterey / x86_64  OK    OK    OK    OK  UNNEEDED, same version is already published
Package 38/462HostnameOS / ArchINSTALLBUILDCHECKBUILD BIN
beadarray 2.48.0  (landing page)
Mark Dunning
git_last_commit: 3db0e75
git_last_commit_date: 2022-11-01 10:40:39 -0400
nebbiolo2Linux (Ubuntu 20.04.5 LTS) / x86_64  OK    OK    OK  UNNEEDED, same version is already published
palomino4Windows Server 2022 Datacenter / x64  OK    OK    OK    OK  UNNEEDED, same version is already published
lconwaymacOS 12.5.1 Monterey / x86_64  OK    OK    OK    OK  UNNEEDED, same version is already published
Package 39/462HostnameOS / ArchINSTALLBUILDCHECKBUILD BIN
beadarraySNP 1.64.0  (landing page)
Jan Oosting
git_last_commit: e629daa
git_last_commit_date: 2022-11-01 10:42:02 -0400
nebbiolo2Linux (Ubuntu 20.04.5 LTS) / x86_64  OK    OK    OK  UNNEEDED, same version is already published
palomino4Windows Server 2022 Datacenter / x64  OK    OK    OK    OK  UNNEEDED, same version is already published
lconwaymacOS 12.5.1 Monterey / x86_64  OK    OK    OK    OK  UNNEEDED, same version is already published
Package 40/462HostnameOS / ArchINSTALLBUILDCHECKBUILD BIN
BgeeDB 2.24.0  (landing page)
Julien Wollbrett , Julien Roux , Andrea Komljenovic , Frederic Bastian
git_last_commit: cfca314
git_last_commit_date: 2022-11-01 11:13:33 -0400
nebbiolo2Linux (Ubuntu 20.04.5 LTS) / x86_64  OK    OK    OK  UNNEEDED, same version is already published
palomino4Windows Server 2022 Datacenter / x64  OK    OK    OK    OK  UNNEEDED, same version is already published
lconwaymacOS 12.5.1 Monterey / x86_64  OK    OK    OK    OK  UNNEEDED, same version is already published
Package 41/462HostnameOS / ArchINSTALLBUILDCHECKBUILD BIN
bgx 1.64.0  (landing page)
Ernest Turro
git_last_commit: 9390093
git_last_commit_date: 2022-11-01 11:03:27 -0400
nebbiolo2Linux (Ubuntu 20.04.5 LTS) / x86_64  OK    OK    OK  UNNEEDED, same version is already published
palomino4Windows Server 2022 Datacenter / x64  OK    OK    OK    OK  UNNEEDED, same version is already published
lconwaymacOS 12.5.1 Monterey / x86_64  OK    OK    WARNINGS    OK  UNNEEDED, same version is already published
Package 42/462HostnameOS / ArchINSTALLBUILDCHECKBUILD BIN
BicARE 1.56.0  (landing page)
Pierre Gestraud
git_last_commit: 7ee27f5
git_last_commit_date: 2022-11-01 11:04:12 -0400
nebbiolo2Linux (Ubuntu 20.04.5 LTS) / x86_64  OK    OK    OK  UNNEEDED, same version is already published
palomino4Windows Server 2022 Datacenter / x64  OK    OK    OK    OK  UNNEEDED, same version is already published
lconwaymacOS 12.5.1 Monterey / x86_64  OK    OK    OK    OK  UNNEEDED, same version is already published
Package 43/462HostnameOS / ArchINSTALLBUILDCHECKBUILD BIN
bigmelon 1.24.0  (landing page)
Tyler J. Gorrie-Stone
git_last_commit: 77478bf
git_last_commit_date: 2022-11-01 11:14:27 -0400
nebbiolo2Linux (Ubuntu 20.04.5 LTS) / x86_64  OK    OK    WARNINGS  UNNEEDED, same version is already published
palomino4Windows Server 2022 Datacenter / x64  OK    OK    WARNINGS    OK  UNNEEDED, same version is already published
lconwaymacOS 12.5.1 Monterey / x86_64  OK    OK    WARNINGS    OK  UNNEEDED, same version is already published
Package 44/462HostnameOS / ArchINSTALLBUILDCHECKBUILD BIN
biobroom 1.30.0  (landing page)
John D. Storey and Andrew J. Bass
git_last_commit: 35b5a6d
git_last_commit_date: 2022-11-20 15:34:36 -0400
nebbiolo2Linux (Ubuntu 20.04.5 LTS) / x86_64  OK    OK    WARNINGS  UNNEEDED, same version is already published
palomino4Windows Server 2022 Datacenter / x64  OK    OK    WARNINGS    OK  UNNEEDED, same version is already published
lconwaymacOS 12.5.1 Monterey / x86_64  OK    OK    WARNINGS    OK  UNNEEDED, same version is already published
Package 45/462HostnameOS / ArchINSTALLBUILDCHECKBUILD BIN
bioCancer 1.26.04  (landing page)
Karim Mezhoud
git_last_commit: 6c0335a
git_last_commit_date: 2023-02-03 09:19:32 -0400
nebbiolo2Linux (Ubuntu 20.04.5 LTS) / x86_64  OK    OK    OK  UNNEEDED, same version is already published
palomino4Windows Server 2022 Datacenter / x64  OK    OK    OK    OK  UNNEEDED, same version is already published
lconwaymacOS 12.5.1 Monterey / x86_64  OK    OK    OK    OK  UNNEEDED, same version is already published
Package 46/462HostnameOS / ArchINSTALLBUILDCHECKBUILD BIN
biocViews 1.66.3  (landing page)
Bioconductor Package Maintainer
git_last_commit: b6995ff
git_last_commit_date: 2023-03-06 08:37:15 -0400
nebbiolo2Linux (Ubuntu 20.04.5 LTS) / x86_64  OK    OK    OK  UNNEEDED, same version is already published
palomino4Windows Server 2022 Datacenter / x64  OK    OK    OK    OK  UNNEEDED, same version is already published
lconwaymacOS 12.5.1 Monterey / x86_64  OK    OK    OK    OK  UNNEEDED, same version is already published
Package 47/462HostnameOS / ArchINSTALLBUILDCHECKBUILD BIN
bioDist 1.70.0  (landing page)
Bioconductor Package Maintainer
git_last_commit: 78dc18e
git_last_commit_date: 2022-11-01 10:38:26 -0400
nebbiolo2Linux (Ubuntu 20.04.5 LTS) / x86_64  OK    OK    OK  UNNEEDED, same version is already published
palomino4Windows Server 2022 Datacenter / x64  OK    OK    OK    OK  UNNEEDED, same version is already published
lconwaymacOS 12.5.1 Monterey / x86_64  OK    OK    OK    OK  UNNEEDED, same version is already published
Package 48/462HostnameOS / ArchINSTALLBUILDCHECKBUILD BIN
BioMVCClass 1.66.0  (landing page)
Elizabeth Whalen
git_last_commit: 964bec3
git_last_commit_date: 2022-11-01 10:41:56 -0400
nebbiolo2Linux (Ubuntu 20.04.5 LTS) / x86_64  OK    OK    OK  UNNEEDED, same version is already published
palomino4Windows Server 2022 Datacenter / x64  OK    OK    OK    OK  UNNEEDED, same version is already published
lconwaymacOS 12.5.1 Monterey / x86_64  OK    OK    OK    OK  UNNEEDED, same version is already published
Package 49/462HostnameOS / ArchINSTALLBUILDCHECKBUILD BIN
BioNet 1.58.0  (landing page)
Marcus Dittrich
git_last_commit: 462aa3b
git_last_commit_date: 2022-11-01 11:05:12 -0400
nebbiolo2Linux (Ubuntu 20.04.5 LTS) / x86_64  OK    OK    OK  UNNEEDED, same version is already published
palomino4Windows Server 2022 Datacenter / x64  OK    OK    OK    OK  UNNEEDED, same version is already published
lconwaymacOS 12.5.1 Monterey / x86_64  OK    OK    OK    OK  UNNEEDED, same version is already published
Package 50/462HostnameOS / ArchINSTALLBUILDCHECKBUILD BIN
BioQC 1.26.0  (landing page)
Jitao David Zhang
git_last_commit: c4cfa15
git_last_commit_date: 2022-11-01 11:12:35 -0400
nebbiolo2Linux (Ubuntu 20.04.5 LTS) / x86_64  OK    OK    OK  UNNEEDED, same version is already published
palomino4Windows Server 2022 Datacenter / x64  OK    OK    OK    OK  UNNEEDED, same version is already published
lconwaymacOS 12.5.1 Monterey / x86_64  OK    OK    OK    OK  UNNEEDED, same version is already published
Package 51/462HostnameOS / ArchINSTALLBUILDCHECKBUILD BIN
biosigner 1.26.0  (landing page)
Etienne A. Thevenot
git_last_commit: 17c649e
git_last_commit_date: 2022-11-01 11:13:04 -0400
nebbiolo2Linux (Ubuntu 20.04.5 LTS) / x86_64  OK    OK    OK  UNNEEDED, same version is already published
palomino4Windows Server 2022 Datacenter / x64  OK    OK    OK    OK  UNNEEDED, same version is already published
lconwaymacOS 12.5.1 Monterey / x86_64  OK    OK    OK    OK  UNNEEDED, same version is already published
Package 52/462HostnameOS / ArchINSTALLBUILDCHECKBUILD BIN
biscuiteer 1.12.0  (landing page)
Jacob Morrison
git_last_commit: 236bbc1
git_last_commit_date: 2022-11-01 11:20:50 -0400
nebbiolo2Linux (Ubuntu 20.04.5 LTS) / x86_64  OK    OK    WARNINGS  UNNEEDED, same version is already published
palomino4Windows Server 2022 Datacenter / x64  OK    OK    WARNINGS    OK  UNNEEDED, same version is already published
lconwaymacOS 12.5.1 Monterey / x86_64  OK    OK    WARNINGS    OK  UNNEEDED, same version is already published
Package 53/462HostnameOS / ArchINSTALLBUILDCHECKBUILD BIN
BiSeq 1.38.0  (landing page)
Katja Hebestreit
git_last_commit: 2291602
git_last_commit_date: 2022-11-01 11:08:12 -0400
nebbiolo2Linux (Ubuntu 20.04.5 LTS) / x86_64  OK    OK    OK  UNNEEDED, same version is already published
palomino4Windows Server 2022 Datacenter / x64  OK    OK    OK    OK  UNNEEDED, same version is already published
lconwaymacOS 12.5.1 Monterey / x86_64  OK    OK    OK    OK  UNNEEDED, same version is already published
Package 54/462HostnameOS / ArchINSTALLBUILDCHECKBUILD BIN
blima 1.32.0  (landing page)
Vojtěch Kulvait
git_last_commit: c31ee22
git_last_commit_date: 2022-11-01 11:09:43 -0400
nebbiolo2Linux (Ubuntu 20.04.5 LTS) / x86_64  OK    OK    WARNINGS  UNNEEDED, same version is already published
palomino4Windows Server 2022 Datacenter / x64  OK    OK    WARNINGS    OK  UNNEEDED, same version is already published
lconwaymacOS 12.5.1 Monterey / x86_64  OK    OK    WARNINGS    OK  UNNEEDED, same version is already published
Package 55/462HostnameOS / ArchINSTALLBUILDCHECKBUILD BIN
BLMA 1.22.0  (landing page)
Hung Nguyen
git_last_commit: af85045
git_last_commit_date: 2022-11-01 11:15:36 -0400
nebbiolo2Linux (Ubuntu 20.04.5 LTS) / x86_64  OK    OK    OK  UNNEEDED, same version is already published
palomino4Windows Server 2022 Datacenter / x64  OK    OK    OK    OK  UNNEEDED, same version is already published
lconwaymacOS 12.5.1 Monterey / x86_64  OK    OK    OK    OK  UNNEEDED, same version is already published
Package 56/462HostnameOS / ArchINSTALLBUILDCHECKBUILD BIN
bnem 1.6.0  (landing page)
Martin Pirkl
git_last_commit: 150583c
git_last_commit_date: 2022-11-01 11:23:33 -0400
nebbiolo2Linux (Ubuntu 20.04.5 LTS) / x86_64  OK    OK    OK  UNNEEDED, same version is already published
palomino4Windows Server 2022 Datacenter / x64  OK    OK    OK    OK  UNNEEDED, same version is already published
lconwaymacOS 12.5.1 Monterey / x86_64  OK    OK    OK    OK  UNNEEDED, same version is already published
Package 57/462HostnameOS / ArchINSTALLBUILDCHECKBUILD BIN
borealis 1.2.2  (landing page)
Garrett Jenkinson
git_last_commit: 3993da3
git_last_commit_date: 2022-12-30 13:25:50 -0400
nebbiolo2Linux (Ubuntu 20.04.5 LTS) / x86_64  OK    OK    OK  UNNEEDED, same version is already published
palomino4Windows Server 2022 Datacenter / x64  OK    OK    OK    OK  UNNEEDED, same version is already published
lconwaymacOS 12.5.1 Monterey / x86_64  OK    OK    OK    OK  UNNEEDED, same version is already published
Package 58/462HostnameOS / ArchINSTALLBUILDCHECKBUILD BIN
bsseq 1.34.0  (landing page)
Kasper Daniel Hansen
git_last_commit: 98239c0
git_last_commit_date: 2022-11-01 11:07:09 -0400
nebbiolo2Linux (Ubuntu 20.04.5 LTS) / x86_64  OK    OK    OK  UNNEEDED, same version is already published
palomino4Windows Server 2022 Datacenter / x64  OK    OK    OK    OK  UNNEEDED, same version is already published
lconwaymacOS 12.5.1 Monterey / x86_64  OK    OK    OK    OK  UNNEEDED, same version is already published
Package 59/462HostnameOS / ArchINSTALLBUILDCHECKBUILD BIN
BubbleTree 2.28.0  (landing page)
Todd Creasy , Wei Zhu
git_last_commit: a9640da
git_last_commit_date: 2022-11-01 11:11:07 -0400
nebbiolo2Linux (Ubuntu 20.04.5 LTS) / x86_64  OK    OK    OK  UNNEEDED, same version is already published
palomino4Windows Server 2022 Datacenter / x64  OK    OK    OK    OK  UNNEEDED, same version is already published
lconwaymacOS 12.5.1 Monterey / x86_64  OK    OK    OK    OK  UNNEEDED, same version is already published
Package 60/462HostnameOS / ArchINSTALLBUILDCHECKBUILD BIN
CAFE 1.34.0  (landing page)
Sander Bollen
git_last_commit: 61e9936
git_last_commit_date: 2022-11-01 11:09:18 -0400
nebbiolo2Linux (Ubuntu 20.04.5 LTS) / x86_64  OK    OK    WARNINGS  UNNEEDED, same version is already published
palomino4Windows Server 2022 Datacenter / x64  OK    OK    WARNINGS    OK  UNNEEDED, same version is already published
lconwaymacOS 12.5.1 Monterey / x86_64  OK    OK    WARNINGS    OK  UNNEEDED, same version is already published
Package 61/462HostnameOS / ArchINSTALLBUILDCHECKBUILD BIN
CAMERA 1.54.0  (landing page)
Steffen Neumann
git_last_commit: 44fbac4
git_last_commit_date: 2022-11-01 11:04:20 -0400
nebbiolo2Linux (Ubuntu 20.04.5 LTS) / x86_64  OK    OK    OK  UNNEEDED, same version is already published
palomino4Windows Server 2022 Datacenter / x64  OK    OK    OK    OK  UNNEEDED, same version is already published
lconwaymacOS 12.5.1 Monterey / x86_64  OK    OK    OK    OK  UNNEEDED, same version is already published
Package 62/462HostnameOS / ArchINSTALLBUILDCHECKBUILD BIN
canceR 1.32.0  (landing page)
Karim Mezhoud
git_last_commit: febcd13
git_last_commit_date: 2022-11-01 11:11:13 -0400
nebbiolo2Linux (Ubuntu 20.04.5 LTS) / x86_64  OK    OK    OK  UNNEEDED, same version is already published
palomino4Windows Server 2022 Datacenter / x64  OK    OK    OK    OK  UNNEEDED, same version is already published
lconwaymacOS 12.5.1 Monterey / x86_64  OK    OK    OK    OK  UNNEEDED, same version is already published
Package 63/462HostnameOS / ArchINSTALLBUILDCHECKBUILD BIN
cancerclass 1.42.0  (landing page)
Daniel Kosztyla
git_last_commit: 550e5df
git_last_commit_date: 2022-11-01 11:06:59 -0400
nebbiolo2Linux (Ubuntu 20.04.5 LTS) / x86_64  OK    OK    OK  UNNEEDED, same version is already published
palomino4Windows Server 2022 Datacenter / x64  OK    OK    OK    OK  UNNEEDED, same version is already published
lconwaymacOS 12.5.1 Monterey / x86_64  OK    OK    WARNINGS    OK  UNNEEDED, same version is already published
Package 64/462HostnameOS / ArchINSTALLBUILDCHECKBUILD BIN
Cardinal 3.0.1  (landing page)
Kylie A. Bemis
git_last_commit: 9de5cdc
git_last_commit_date: 2022-11-14 15:07:54 -0400
nebbiolo2Linux (Ubuntu 20.04.5 LTS) / x86_64  OK    OK    OK  UNNEEDED, same version is already published
palomino4Windows Server 2022 Datacenter / x64  OK    OK    OK    OK  UNNEEDED, same version is already published
lconwaymacOS 12.5.1 Monterey / x86_64  OK    OK    OK    OK  UNNEEDED, same version is already published
Package 65/462HostnameOS / ArchINSTALLBUILDCHECKBUILD BIN
casper 2.32.0  (landing page)
David Rossell
git_last_commit: d0c72cf
git_last_commit_date: 2022-11-01 11:07:47 -0400
nebbiolo2Linux (Ubuntu 20.04.5 LTS) / x86_64  OK    OK    WARNINGS  UNNEEDED, same version is already published
palomino4Windows Server 2022 Datacenter / x64  OK    OK    WARNINGS    OK  UNNEEDED, same version is already published
lconwaymacOS 12.5.1 Monterey / x86_64  OK    ERROR  skippedskipped
Package 66/462HostnameOS / ArchINSTALLBUILDCHECKBUILD BIN
Category 2.64.0  (landing page)
Bioconductor Package Maintainer
git_last_commit: b512cbe
git_last_commit_date: 2022-11-01 10:39:25 -0400
nebbiolo2Linux (Ubuntu 20.04.5 LTS) / x86_64  OK    OK    OK  UNNEEDED, same version is already published
palomino4Windows Server 2022 Datacenter / x64  OK    OK    OK    OK  UNNEEDED, same version is already published
lconwaymacOS 12.5.1 Monterey / x86_64  OK    OK    OK    OK  UNNEEDED, same version is already published
Package 67/462HostnameOS / ArchINSTALLBUILDCHECKBUILD BIN
categoryCompare 1.42.0  (landing page)
Robert M. Flight
git_last_commit: a854c2a
git_last_commit_date: 2022-11-01 11:06:57 -0400
nebbiolo2Linux (Ubuntu 20.04.5 LTS) / x86_64  OK    OK    OK  UNNEEDED, same version is already published
palomino4Windows Server 2022 Datacenter / x64  OK    OK    OK    OK  UNNEEDED, same version is already published
lconwaymacOS 12.5.1 Monterey / x86_64  OK    OK    OK    OK  UNNEEDED, same version is already published
Package 68/462HostnameOS / ArchINSTALLBUILDCHECKBUILD BIN
CCPROMISE 1.24.0  (landing page)
Xueyuan Cao
git_last_commit: 75bf4c0
git_last_commit_date: 2022-11-01 11:14:48 -0400
nebbiolo2Linux (Ubuntu 20.04.5 LTS) / x86_64  OK    OK    WARNINGS  UNNEEDED, same version is already published
palomino4Windows Server 2022 Datacenter / x64  OK    OK    WARNINGS    OK  UNNEEDED, same version is already published
lconwaymacOS 12.5.1 Monterey / x86_64  OK    OK    WARNINGS    OK  UNNEEDED, same version is already published
Package 69/462HostnameOS / ArchINSTALLBUILDCHECKBUILD BIN
cellHTS2 2.62.0  (landing page)
Joseph Barry
git_last_commit: 02b3576
git_last_commit_date: 2022-11-01 11:03:30 -0400
nebbiolo2Linux (Ubuntu 20.04.5 LTS) / x86_64  OK    OK    OK  UNNEEDED, same version is already published
palomino4Windows Server 2022 Datacenter / x64  OK    OK    OK    OK  UNNEEDED, same version is already published
lconwaymacOS 12.5.1 Monterey / x86_64  OK    OK    OK    OK  UNNEEDED, same version is already published
Package 70/462HostnameOS / ArchINSTALLBUILDCHECKBUILD BIN
CellScore 1.18.0  (landing page)
Nancy Mah
git_last_commit: da4bc20
git_last_commit_date: 2022-11-01 11:17:10 -0400
nebbiolo2Linux (Ubuntu 20.04.5 LTS) / x86_64  OK    OK    OK  UNNEEDED, same version is already published
palomino4Windows Server 2022 Datacenter / x64  OK    OK    OK    OK  UNNEEDED, same version is already published
lconwaymacOS 12.5.1 Monterey / x86_64  OK    OK    OK    OK  UNNEEDED, same version is already published
Package 71/462HostnameOS / ArchINSTALLBUILDCHECKBUILD BIN
CellTrails 1.16.0  (landing page)
Daniel Ellwanger
git_last_commit: cfff969
git_last_commit_date: 2022-11-01 11:18:02 -0400
nebbiolo2Linux (Ubuntu 20.04.5 LTS) / x86_64  OK    OK    OK  UNNEEDED, same version is already published
palomino4Windows Server 2022 Datacenter / x64  OK    OK    OK    OK  UNNEEDED, same version is already published
lconwaymacOS 12.5.1 Monterey / x86_64  OK    OK    OK    OK  UNNEEDED, same version is already published
Package 72/462HostnameOS / ArchINSTALLBUILDCHECKBUILD BIN
CGHbase 1.58.0  (landing page)
Mark van de Wiel
git_last_commit: fd24024
git_last_commit_date: 2022-11-01 11:03:53 -0400
nebbiolo2Linux (Ubuntu 20.04.5 LTS) / x86_64  OK    OK    OK  UNNEEDED, same version is already published
palomino4Windows Server 2022 Datacenter / x64  OK    OK    OK    OK  UNNEEDED, same version is already published
lconwaymacOS 12.5.1 Monterey / x86_64  OK    OK    OK    OK  UNNEEDED, same version is already published
Package 73/462HostnameOS / ArchINSTALLBUILDCHECKBUILD BIN
CGHcall 2.60.0  (landing page)
Mark van de Wiel
git_last_commit: 3c4d2aa
git_last_commit_date: 2022-11-01 11:03:34 -0400
nebbiolo2Linux (Ubuntu 20.04.5 LTS) / x86_64  OK    OK    WARNINGS  UNNEEDED, same version is already published
palomino4Windows Server 2022 Datacenter / x64  OK    OK    WARNINGS    OK  UNNEEDED, same version is already published
lconwaymacOS 12.5.1 Monterey / x86_64  OK    OK    WARNINGS    OK  UNNEEDED, same version is already published
Package 74/462HostnameOS / ArchINSTALLBUILDCHECKBUILD BIN
CGHnormaliter 1.52.0  (landing page)
Bart P.P. van Houte
git_last_commit: 27c7682
git_last_commit_date: 2022-11-01 11:04:40 -0400
nebbiolo2Linux (Ubuntu 20.04.5 LTS) / x86_64  OK    OK    OK  UNNEEDED, same version is already published
palomino4Windows Server 2022 Datacenter / x64  OK    OK    OK    OK  UNNEEDED, same version is already published
lconwaymacOS 12.5.1 Monterey / x86_64  OK    OK    OK    OK  UNNEEDED, same version is already published
Package 75/462HostnameOS / ArchINSTALLBUILDCHECKBUILD BIN
CGHregions 1.56.0  (landing page)
Sjoerd Vosse
git_last_commit: 42276e8
git_last_commit_date: 2022-11-01 11:03:53 -0400
nebbiolo2Linux (Ubuntu 20.04.5 LTS) / x86_64  OK    OK    OK  UNNEEDED, same version is already published
palomino4Windows Server 2022 Datacenter / x64  OK    OK    OK    OK  UNNEEDED, same version is already published
lconwaymacOS 12.5.1 Monterey / x86_64  OK    OK    OK    OK  UNNEEDED, same version is already published
Package 76/462HostnameOS / ArchINSTALLBUILDCHECKBUILD BIN
ChIPQC 1.34.1  (landing page)
Tom Carroll , Rory Stark
git_last_commit: dabb39a
git_last_commit_date: 2023-01-10 07:39:10 -0400
nebbiolo2Linux (Ubuntu 20.04.5 LTS) / x86_64  OK    OK    WARNINGS  UNNEEDED, same version is already published
palomino4Windows Server 2022 Datacenter / x64  OK    OK    WARNINGS    OK  UNNEEDED, same version is already published
lconwaymacOS 12.5.1 Monterey / x86_64  OK    OK    WARNINGS    OK  UNNEEDED, same version is already published
Package 77/462HostnameOS / ArchINSTALLBUILDCHECKBUILD BIN
ChIPXpress 1.42.0  (landing page)
George Wu
git_last_commit: 845364a
git_last_commit_date: 2022-11-01 11:07:14 -0400
nebbiolo2Linux (Ubuntu 20.04.5 LTS) / x86_64  OK    OK    OK  UNNEEDED, same version is already published
palomino4Windows Server 2022 Datacenter / x64... NOT SUPPORTED ...
lconwaymacOS 12.5.1 Monterey / x86_64  OK    OK    OK    OK  UNNEEDED, same version is already published
Package 78/462HostnameOS / ArchINSTALLBUILDCHECKBUILD BIN
ChromHeatMap 1.52.0  (landing page)
Tim F. Rayner
git_last_commit: eebc617
git_last_commit_date: 2022-11-01 11:04:42 -0400
nebbiolo2Linux (Ubuntu 20.04.5 LTS) / x86_64  OK    OK    OK  UNNEEDED, same version is already published
palomino4Windows Server 2022 Datacenter / x64  OK    OK    OK    OK  UNNEEDED, same version is already published
lconwaymacOS 12.5.1 Monterey / x86_64  OK    OK    OK    OK  UNNEEDED, same version is already published
Package 79/462HostnameOS / ArchINSTALLBUILDCHECKBUILD BIN
chromswitch 1.20.0  (landing page)
Selin Jessa
git_last_commit: cc484bf
git_last_commit_date: 2022-11-01 11:16:44 -0400
nebbiolo2Linux (Ubuntu 20.04.5 LTS) / x86_64  OK    OK    OK  UNNEEDED, same version is already published
palomino4Windows Server 2022 Datacenter / x64  OK    OK    OK    OK  UNNEEDED, same version is already published
lconwaymacOS 12.5.1 Monterey / x86_64  OK    OK    OK    OK  UNNEEDED, same version is already published
Package 80/462HostnameOS / ArchINSTALLBUILDCHECKBUILD BIN
cicero 1.16.2  (landing page)
Hannah Pliner
git_last_commit: 11394fb
git_last_commit_date: 2023-02-25 16:10:49 -0400
nebbiolo2Linux (Ubuntu 20.04.5 LTS) / x86_64  OK    OK    OK  UNNEEDED, same version is already published
palomino4Windows Server 2022 Datacenter / x64  OK    OK    OK    OK  UNNEEDED, same version is already published
lconwaymacOS 12.5.1 Monterey / x86_64  OK    OK    OK    OK  UNNEEDED, same version is already published
Package 81/462HostnameOS / ArchINSTALLBUILDCHECKBUILD BIN
clippda 1.48.0  (landing page)
Stephen Nyangoma
git_last_commit: 45a4976
git_last_commit_date: 2022-11-01 11:04:36 -0400
nebbiolo2Linux (Ubuntu 20.04.5 LTS) / x86_64  OK    OK    WARNINGS  UNNEEDED, same version is already published
palomino4Windows Server 2022 Datacenter / x64  OK    OK    WARNINGS    OK  UNNEEDED, same version is already published
lconwaymacOS 12.5.1 Monterey / x86_64  OK    OK    WARNINGS    OK  UNNEEDED, same version is already published
Package 82/462HostnameOS / ArchINSTALLBUILDCHECKBUILD BIN
clipper 1.38.0  (landing page)
Paolo Martini
git_last_commit: 71cba9f
git_last_commit_date: 2022-11-01 11:07:47 -0400
nebbiolo2Linux (Ubuntu 20.04.5 LTS) / x86_64  OK    OK    OK  UNNEEDED, same version is already published
palomino4Windows Server 2022 Datacenter / x64  OK    OK    OK    OK  UNNEEDED, same version is already published
lconwaymacOS 12.5.1 Monterey / x86_64  OK    OK    OK    OK  UNNEEDED, same version is already published
Package 83/462HostnameOS / ArchINSTALLBUILDCHECKBUILD BIN
CluMSID 1.14.0  (landing page)
Tobias Depke
git_last_commit: 144ca3f
git_last_commit_date: 2022-11-01 11:19:02 -0400
nebbiolo2Linux (Ubuntu 20.04.5 LTS) / x86_64  OK    OK    WARNINGS  UNNEEDED, same version is already published
palomino4Windows Server 2022 Datacenter / x64  OK    OK    WARNINGS    OK  UNNEEDED, same version is already published
lconwaymacOS 12.5.1 Monterey / x86_64  OK    OK    WARNINGS    OK  UNNEEDED, same version is already published
Package 84/462HostnameOS / ArchINSTALLBUILDCHECKBUILD BIN
clusterStab 1.70.0  (landing page)
James W. MacDonald
git_last_commit: 7505ddf
git_last_commit_date: 2022-11-01 10:39:36 -0400
nebbiolo2Linux (Ubuntu 20.04.5 LTS) / x86_64  OK    OK    OK  UNNEEDED, same version is already published
palomino4Windows Server 2022 Datacenter / x64  OK    OK    OK    OK  UNNEEDED, same version is already published
lconwaymacOS 12.5.1 Monterey / x86_64  OK    OK    OK    OK  UNNEEDED, same version is already published
Package 85/462HostnameOS / ArchINSTALLBUILDCHECKBUILD BIN
CMA 1.56.0  (landing page)
Roman Hornung
git_last_commit: e1be385
git_last_commit_date: 2022-11-01 11:03:54 -0400
nebbiolo2Linux (Ubuntu 20.04.5 LTS) / x86_64  OK    OK    OK  UNNEEDED, same version is already published
palomino4Windows Server 2022 Datacenter / x64  OK    OK    OK    OK  UNNEEDED, same version is already published
lconwaymacOS 12.5.1 Monterey / x86_64  OK    OK    OK    OK  UNNEEDED, same version is already published
Package 86/462HostnameOS / ArchINSTALLBUILDCHECKBUILD BIN
cn.farms 1.46.0  (landing page)
Andreas Mitterecker
git_last_commit: 620aca1
git_last_commit_date: 2022-11-01 11:05:44 -0400
nebbiolo2Linux (Ubuntu 20.04.5 LTS) / x86_64  OK    OK    OK  UNNEEDED, same version is already published
palomino4Windows Server 2022 Datacenter / x64  OK    OK    OK    OK  UNNEEDED, same version is already published
lconwaymacOS 12.5.1 Monterey / x86_64  OK    OK    OK    OK  UNNEEDED, same version is already published
Package 87/462HostnameOS / ArchINSTALLBUILDCHECKBUILD BIN
cn.mops 1.44.0  (landing page)
Gundula Povysil
git_last_commit: 72945ca
git_last_commit_date: 2022-11-01 11:06:31 -0400
nebbiolo2Linux (Ubuntu 20.04.5 LTS) / x86_64  OK    OK    OK  UNNEEDED, same version is already published
palomino4Windows Server 2022 Datacenter / x64  OK    OK    OK    OK  UNNEEDED, same version is already published
lconwaymacOS 12.5.1 Monterey / x86_64  OK    OK    OK    OK  UNNEEDED, same version is already published
Package 88/462HostnameOS / ArchINSTALLBUILDCHECKBUILD BIN
COCOA 2.12.0  (landing page)
John Lawson
git_last_commit: 2460fac
git_last_commit_date: 2022-11-01 11:18:44 -0400
nebbiolo2Linux (Ubuntu 20.04.5 LTS) / x86_64  OK    OK    OK  UNNEEDED, same version is already published
palomino4Windows Server 2022 Datacenter / x64  OK    OK    OK    OK  UNNEEDED, same version is already published
lconwaymacOS 12.5.1 Monterey / x86_64  OK    OK    OK    OK  UNNEEDED, same version is already published
Package 89/462HostnameOS / ArchINSTALLBUILDCHECKBUILD BIN
codelink 1.66.0  (landing page)
Diego Diez
git_last_commit: 7f0679a
git_last_commit_date: 2022-11-01 10:40:29 -0400
nebbiolo2Linux (Ubuntu 20.04.5 LTS) / x86_64  OK    OK    OK  UNNEEDED, same version is already published
palomino4Windows Server 2022 Datacenter / x64  OK    OK    OK    OK  UNNEEDED, same version is already published
lconwaymacOS 12.5.1 Monterey / x86_64  OK    OK    OK    OK  UNNEEDED, same version is already published
Package 90/462HostnameOS / ArchINSTALLBUILDCHECKBUILD BIN
coexnet 1.20.0  (landing page)
Juan David Henao
git_last_commit: 32b2129
git_last_commit_date: 2022-11-01 11:15:51 -0400
nebbiolo2Linux (Ubuntu 20.04.5 LTS) / x86_64  OK    OK    ERROR  
palomino4Windows Server 2022 Datacenter / x64  OK    OK    ERROR    OK  
lconwaymacOS 12.5.1 Monterey / x86_64  OK    OK    ERROR    OK  
Package 91/462HostnameOS / ArchINSTALLBUILDCHECKBUILD BIN
cogena 1.32.0  (landing page)
Zhilong Jia
git_last_commit: 19a00f2
git_last_commit_date: 2022-11-01 11:11:29 -0400
nebbiolo2Linux (Ubuntu 20.04.5 LTS) / x86_64  OK    OK    WARNINGS  UNNEEDED, same version is already published
palomino4Windows Server 2022 Datacenter / x64  OK    OK    WARNINGS    OK  UNNEEDED, same version is already published
lconwaymacOS 12.5.1 Monterey / x86_64  OK    OK    WARNINGS    OK  UNNEEDED, same version is already published
Package 92/462HostnameOS / ArchINSTALLBUILDCHECKBUILD BIN
combi 1.10.0  (landing page)
Stijn Hawinkel
git_last_commit: fdf3235
git_last_commit_date: 2022-11-01 11:21:37 -0400
nebbiolo2Linux (Ubuntu 20.04.5 LTS) / x86_64  OK    OK    OK  UNNEEDED, same version is already published
palomino4Windows Server 2022 Datacenter / x64  OK    OK    OK    OK  UNNEEDED, same version is already published
lconwaymacOS 12.5.1 Monterey / x86_64  OK    OK    OK    OK  UNNEEDED, same version is already published
Package 93/462HostnameOS / ArchINSTALLBUILDCHECKBUILD BIN
CompoundDb 1.2.1  (landing page)
Johannes Rainer
git_last_commit: 119520b
git_last_commit_date: 2022-11-14 07:58:13 -0400
nebbiolo2Linux (Ubuntu 20.04.5 LTS) / x86_64  OK    OK    OK  UNNEEDED, same version is already published
palomino4Windows Server 2022 Datacenter / x64  OK    OK    OK    OK  UNNEEDED, same version is already published
lconwaymacOS 12.5.1 Monterey / x86_64  OK    OK    OK    OK  UNNEEDED, same version is already published
Package 94/462HostnameOS / ArchINSTALLBUILDCHECKBUILD BIN
conclus 1.6.0  (landing page)
Ilyess Rachedi
git_last_commit: 08522fb
git_last_commit_date: 2022-11-01 11:24:34 -0400
nebbiolo2Linux (Ubuntu 20.04.5 LTS) / x86_64  OK    ERROR  skipped
palomino4Windows Server 2022 Datacenter / x64  OK    ERROR  skippedskipped
lconwaymacOS 12.5.1 Monterey / x86_64  OK    ERROR  skippedskipped
Package 95/462HostnameOS / ArchINSTALLBUILDCHECKBUILD BIN
ConsensusClusterPlus 1.62.0  (landing page)
Matt Wilkerson
git_last_commit: eeab3eb
git_last_commit_date: 2022-11-01 11:04:50 -0400
nebbiolo2Linux (Ubuntu 20.04.5 LTS) / x86_64  OK    OK    OK  UNNEEDED, same version is already published
palomino4Windows Server 2022 Datacenter / x64  OK    OK    OK    OK  UNNEEDED, same version is already published
lconwaymacOS 12.5.1 Monterey / x86_64  OK    OK    OK    OK  UNNEEDED, same version is already published
Package 96/462HostnameOS / ArchINSTALLBUILDCHECKBUILD BIN
consensusDE 1.16.0  (landing page)
Ashley J. Waardenberg
git_last_commit: 4b085f5
git_last_commit_date: 2022-11-01 11:18:46 -0400
nebbiolo2Linux (Ubuntu 20.04.5 LTS) / x86_64  OK    OK    OK  UNNEEDED, same version is already published
palomino4Windows Server 2022 Datacenter / x64  OK    OK    OK    OK  UNNEEDED, same version is already published
lconwaymacOS 12.5.1 Monterey / x86_64  OK    OK    OK    OK  UNNEEDED, same version is already published
Package 97/462HostnameOS / ArchINSTALLBUILDCHECKBUILD BIN
consensusOV 1.20.0  (landing page)
Benjamin Haibe-Kains
git_last_commit: ae56121
git_last_commit_date: 2022-11-01 11:15:57 -0400
nebbiolo2Linux (Ubuntu 20.04.5 LTS) / x86_64  OK    OK    OK  UNNEEDED, same version is already published
palomino4Windows Server 2022 Datacenter / x64  OK    OK    OK    OK  UNNEEDED, same version is already published
lconwaymacOS 12.5.1 Monterey / x86_64  OK    OK    OK    OK  UNNEEDED, same version is already published
Package 98/462HostnameOS / ArchINSTALLBUILDCHECKBUILD BIN
convert 1.74.0  (landing page)
Yee Hwa (Jean) Yang
git_last_commit: ef81002
git_last_commit_date: 2022-11-01 10:37:15 -0400
nebbiolo2Linux (Ubuntu 20.04.5 LTS) / x86_64  OK    OK    OK  UNNEEDED, same version is already published
palomino4Windows Server 2022 Datacenter / x64  OK    OK    OK    OK  UNNEEDED, same version is already published
lconwaymacOS 12.5.1 Monterey / x86_64  OK    OK    OK    OK  UNNEEDED, same version is already published
Package 99/462HostnameOS / ArchINSTALLBUILDCHECKBUILD BIN
copa 1.66.0  (landing page)
James W. MacDonald
git_last_commit: 0e23335
git_last_commit_date: 2022-11-01 10:40:51 -0400
nebbiolo2Linux (Ubuntu 20.04.5 LTS) / x86_64  OK    OK    OK  UNNEEDED, same version is already published
palomino4Windows Server 2022 Datacenter / x64  OK    OK    OK    OK  UNNEEDED, same version is already published
lconwaymacOS 12.5.1 Monterey / x86_64  OK    OK    OK    OK  UNNEEDED, same version is already published
Package 100/462HostnameOS / ArchINSTALLBUILDCHECKBUILD BIN
coRdon 1.16.0  (landing page)
Anamaria Elek
git_last_commit: dfc0b04
git_last_commit_date: 2022-11-01 11:18:11 -0400
nebbiolo2Linux (Ubuntu 20.04.5 LTS) / x86_64  OK    OK    OK  UNNEEDED, same version is already published
palomino4Windows Server 2022 Datacenter / x64  OK    OK    OK    OK  UNNEEDED, same version is already published
lconwaymacOS 12.5.1 Monterey / x86_64  OK    OK    OK    OK  UNNEEDED, same version is already published
Package 101/462HostnameOS / ArchINSTALLBUILDCHECKBUILD BIN
CoreGx 2.2.0  (landing page)
Benjamin Haibe-Kains
git_last_commit: 681e43d
git_last_commit_date: 2022-11-01 11:22:04 -0400
nebbiolo2Linux (Ubuntu 20.04.5 LTS) / x86_64  OK    OK    OK  UNNEEDED, same version is already published
palomino4Windows Server 2022 Datacenter / x64  OK    OK    OK    OK  UNNEEDED, same version is already published
lconwaymacOS 12.5.1 Monterey / x86_64  OK    OK    OK    OK  UNNEEDED, same version is already published
Package 102/462HostnameOS / ArchINSTALLBUILDCHECKBUILD BIN
covEB 1.24.0  (landing page)
C. Pacini
git_last_commit: 3a41803
git_last_commit_date: 2022-11-01 11:13:51 -0400
nebbiolo2Linux (Ubuntu 20.04.5 LTS) / x86_64  OK    OK    OK  UNNEEDED, same version is already published
palomino4Windows Server 2022 Datacenter / x64  OK    OK    OK    OK  UNNEEDED, same version is already published
lconwaymacOS 12.5.1 Monterey / x86_64  OK    OK    OK    OK  UNNEEDED, same version is already published
Package 103/462HostnameOS / ArchINSTALLBUILDCHECKBUILD BIN
covRNA 1.24.0  (landing page)
Lara Urban
git_last_commit: 20a6848
git_last_commit_date: 2022-11-01 11:13:44 -0400
nebbiolo2Linux (Ubuntu 20.04.5 LTS) / x86_64  OK    OK    OK  UNNEEDED, same version is already published
palomino4Windows Server 2022 Datacenter / x64  OK    OK    OK    OK  UNNEEDED, same version is already published
lconwaymacOS 12.5.1 Monterey / x86_64  OK    OK    OK    OK  UNNEEDED, same version is already published
Package 104/462HostnameOS / ArchINSTALLBUILDCHECKBUILD BIN
crlmm 1.56.0  (landing page)
Benilton S Carvalho
git_last_commit: 90f1862
git_last_commit_date: 2022-11-01 11:04:22 -0400
nebbiolo2Linux (Ubuntu 20.04.5 LTS) / x86_64  OK    OK    OK  UNNEEDED, same version is already published
palomino4Windows Server 2022 Datacenter / x64  OK    OK    OK    OK  UNNEEDED, same version is already published
lconwaymacOS 12.5.1 Monterey / x86_64  OK    OK    OK    OK  UNNEEDED, same version is already published
Package 105/462HostnameOS / ArchINSTALLBUILDCHECKBUILD BIN
crossmeta 1.24.0  (landing page)
Alex Pickering
git_last_commit: 6c5c2d8
git_last_commit_date: 2022-11-01 11:13:53 -0400
nebbiolo2Linux (Ubuntu 20.04.5 LTS) / x86_64  OK    OK    OK  UNNEEDED, same version is already published
palomino4Windows Server 2022 Datacenter / x64  OK    OK    OK    OK  UNNEEDED, same version is already published
lconwaymacOS 12.5.1 Monterey / x86_64  OK    OK    OK    OK  UNNEEDED, same version is already published
Package 106/462HostnameOS / ArchINSTALLBUILDCHECKBUILD BIN
ctgGEM 1.10.0  (landing page)
USD Biomedical Engineering
git_last_commit: 4e46726
git_last_commit_date: 2022-11-01 11:21:23 -0400
nebbiolo2Linux (Ubuntu 20.04.5 LTS) / x86_64  ERROR    ERROR  skipped
palomino4Windows Server 2022 Datacenter / x64  ERROR    ERROR  skippedskipped
lconwaymacOS 12.5.1 Monterey / x86_64  ERROR    ERROR  skippedskipped
Package 107/462HostnameOS / ArchINSTALLBUILDCHECKBUILD BIN
cummeRbund 2.40.0  (landing page)
Loyal A. Goff
git_last_commit: 852ad0a
git_last_commit_date: 2022-11-01 11:06:20 -0400
nebbiolo2Linux (Ubuntu 20.04.5 LTS) / x86_64  OK    OK    WARNINGS  UNNEEDED, same version is already published
palomino4Windows Server 2022 Datacenter / x64  OK    OK    WARNINGS    OK  UNNEEDED, same version is already published
lconwaymacOS 12.5.1 Monterey / x86_64  OK    OK    WARNINGS    OK  UNNEEDED, same version is already published
Package 108/462HostnameOS / ArchINSTALLBUILDCHECKBUILD BIN
cyanoFilter 1.6.0  (landing page)
Oluwafemi Olusoji
git_last_commit: 58c5eae
git_last_commit_date: 2022-11-01 11:24:33 -0400
nebbiolo2Linux (Ubuntu 20.04.5 LTS) / x86_64  OK    OK    OK  UNNEEDED, same version is already published
palomino4Windows Server 2022 Datacenter / x64  OK    OK    OK    OK  UNNEEDED, same version is already published
lconwaymacOS 12.5.1 Monterey / x86_64  OK    OK    OK    OK  UNNEEDED, same version is already published
Package 109/462HostnameOS / ArchINSTALLBUILDCHECKBUILD BIN
cycle 1.52.0  (landing page)
Matthias Futschik
git_last_commit: 3699807
git_last_commit_date: 2022-11-01 11:04:41 -0400
nebbiolo2Linux (Ubuntu 20.04.5 LTS) / x86_64  OK    OK    OK  UNNEEDED, same version is already published
palomino4Windows Server 2022 Datacenter / x64  OK    OK    OK    OK  UNNEEDED, same version is already published
lconwaymacOS 12.5.1 Monterey / x86_64  OK    OK    OK    OK  UNNEEDED, same version is already published
Package 110/462HostnameOS / ArchINSTALLBUILDCHECKBUILD BIN
cydar 1.22.0  (landing page)
Aaron Lun
git_last_commit: 96c46a2
git_last_commit_date: 2022-11-01 11:15:23 -0400
nebbiolo2Linux (Ubuntu 20.04.5 LTS) / x86_64  OK    OK    OK  UNNEEDED, same version is already published
palomino4Windows Server 2022 Datacenter / x64  OK    OK    OK    OK  UNNEEDED, same version is already published
lconwaymacOS 12.5.1 Monterey / x86_64  OK    OK    OK    OK  UNNEEDED, same version is already published
Package 111/462HostnameOS / ArchINSTALLBUILDCHECKBUILD BIN
CytoML 2.10.0  (landing page)
Mike Jiang
git_last_commit: a073fe2
git_last_commit_date: 2022-11-01 11:14:00 -0400
nebbiolo2Linux (Ubuntu 20.04.5 LTS) / x86_64  OK    OK    WARNINGS  UNNEEDED, same version is already published
palomino4Windows Server 2022 Datacenter / x64  OK    OK    WARNINGS    OK  UNNEEDED, same version is already published
lconwaymacOS 12.5.1 Monterey / x86_64  OK    OK    WARNINGS    OK  NO, package depends on 'openCyto' which is not available
Package 112/462HostnameOS / ArchINSTALLBUILDCHECKBUILD BIN
CytoTree 1.8.0  (landing page)
Yuting Dai
git_last_commit: 1802ae8
git_last_commit_date: 2022-11-01 11:22:21 -0400
nebbiolo2Linux (Ubuntu 20.04.5 LTS) / x86_64  OK    OK    WARNINGS  NO, package depends on 'flowUtils' which is not available
palomino4Windows Server 2022 Datacenter / x64  OK    OK    WARNINGS    OK  NO, package depends on 'flowUtils' which is not available
lconwaymacOS 12.5.1 Monterey / x86_64  OK    OK    WARNINGS    OK  NO, package depends on 'flowUtils' which is not available
Package 113/462HostnameOS / ArchINSTALLBUILDCHECKBUILD BIN
DAPAR 1.30.6  (landing page)
Samuel Wieczorek
git_last_commit: 3984ff9
git_last_commit_date: 2023-02-23 05:52:45 -0400
nebbiolo2Linux (Ubuntu 20.04.5 LTS) / x86_64  OK    OK    OK  UNNEEDED, same version is already published
palomino4Windows Server 2022 Datacenter / x64  OK    OK    OK    OK  UNNEEDED, same version is already published
lconwaymacOS 12.5.1 Monterey / x86_64  OK    OK    OK    OK  UNNEEDED, same version is already published
Package 114/462HostnameOS / ArchINSTALLBUILDCHECKBUILD BIN
ddCt 1.54.0  (landing page)
Jitao David Zhang
git_last_commit: e634e75
git_last_commit_date: 2022-11-01 11:04:33 -0400
nebbiolo2Linux (Ubuntu 20.04.5 LTS) / x86_64  OK    OK    OK  UNNEEDED, same version is already published
palomino4Windows Server 2022 Datacenter / x64  OK    OK    OK    OK  UNNEEDED, same version is already published
lconwaymacOS 12.5.1 Monterey / x86_64  OK    OK    OK    OK  UNNEEDED, same version is already published
Package 115/462HostnameOS / ArchINSTALLBUILDCHECKBUILD BIN
debCAM 1.16.0  (landing page)
Lulu Chen
git_last_commit: f4ee89d
git_last_commit_date: 2022-11-01 11:20:31 -0400
nebbiolo2Linux (Ubuntu 20.04.5 LTS) / x86_64  OK    OK    OK  UNNEEDED, same version is already published
palomino4Windows Server 2022 Datacenter / x64  OK    OK    OK    OK  UNNEEDED, same version is already published
lconwaymacOS 12.5.1 Monterey / x86_64  OK    OK    OK    OK  UNNEEDED, same version is already published
Package 116/462HostnameOS / ArchINSTALLBUILDCHECKBUILD BIN
deco 1.14.0  (landing page)
Francisco Jose Campos Laborie
git_last_commit: f841d97
git_last_commit_date: 2022-11-01 11:19:01 -0400
nebbiolo2Linux (Ubuntu 20.04.5 LTS) / x86_64  OK    OK    ERROR  
palomino4Windows Server 2022 Datacenter / x64  OK    OK    OK    OK  UNNEEDED, same version is already published
lconwaymacOS 12.5.1 Monterey / x86_64  OK    OK    OK    OK  UNNEEDED, same version is already published
Package 117/462HostnameOS / ArchINSTALLBUILDCHECKBUILD BIN
DEGreport 1.34.0  (landing page)
Lorena Pantano
git_last_commit: 4b3a6ae
git_last_commit_date: 2022-11-01 11:09:50 -0400
nebbiolo2Linux (Ubuntu 20.04.5 LTS) / x86_64  OK    OK    OK  UNNEEDED, same version is already published
palomino4Windows Server 2022 Datacenter / x64  OK    OK    OK    OK  UNNEEDED, same version is already published
lconwaymacOS 12.5.1 Monterey / x86_64  OK    OK    OK    OK  UNNEEDED, same version is already published
Package 118/462HostnameOS / ArchINSTALLBUILDCHECKBUILD BIN
DESeq2 1.38.3  (landing page)
Michael Love
git_last_commit: c470955
git_last_commit_date: 2023-01-19 11:16:09 -0400
nebbiolo2Linux (Ubuntu 20.04.5 LTS) / x86_64  OK    OK    OK  UNNEEDED, same version is already published
palomino4Windows Server 2022 Datacenter / x64  OK    OK    OK    OK  UNNEEDED, same version is already published
lconwaymacOS 12.5.1 Monterey / x86_64  OK    OK    OK    OK  UNNEEDED, same version is already published
Package 119/462HostnameOS / ArchINSTALLBUILDCHECKBUILD BIN
destiny 3.12.0  (landing page)
Philipp Angerer
git_last_commit: bfeaf9e
git_last_commit_date: 2022-11-01 11:26:22 -0400
nebbiolo2Linux (Ubuntu 20.04.5 LTS) / x86_64  OK    OK    WARNINGS  UNNEEDED, same version is already published
palomino4Windows Server 2022 Datacenter / x64  OK    OK    WARNINGS    OK  UNNEEDED, same version is already published
lconwaymacOS 12.5.1 Monterey / x86_64  OK    OK    WARNINGS    OK  UNNEEDED, same version is already published
Package 120/462HostnameOS / ArchINSTALLBUILDCHECKBUILD BIN
DExMA 1.6.0  (landing page)
Juan Antonio Villatoro-García
git_last_commit: e54fbab
git_last_commit_date: 2022-11-01 11:24:52 -0400
nebbiolo2Linux (Ubuntu 20.04.5 LTS) / x86_64  OK    OK    OK  UNNEEDED, same version is already published
palomino4Windows Server 2022 Datacenter / x64  OK    OK    OK    OK  UNNEEDED, same version is already published
lconwaymacOS 12.5.1 Monterey / x86_64  OK    OK    OK    OK  UNNEEDED, same version is already published
Package 121/462HostnameOS / ArchINSTALLBUILDCHECKBUILD BIN
DEXSeq 1.44.0  (landing page)
Alejandro Reyes
git_last_commit: 9660d73
git_last_commit_date: 2022-11-01 11:05:59 -0400
nebbiolo2Linux (Ubuntu 20.04.5 LTS) / x86_64  OK    OK    OK  UNNEEDED, same version is already published
palomino4Windows Server 2022 Datacenter / x64  OK    OK    OK    OK  UNNEEDED, same version is already published
lconwaymacOS 12.5.1 Monterey / x86_64  OK    OK    OK    OK  UNNEEDED, same version is already published
Package 122/462HostnameOS / ArchINSTALLBUILDCHECKBUILD BIN
DFP 1.56.0  (landing page)
Rodrigo Alvarez-Glez
git_last_commit: ab6a5ae
git_last_commit_date: 2022-11-01 11:04:01 -0400
nebbiolo2Linux (Ubuntu 20.04.5 LTS) / x86_64  OK    OK    OK  UNNEEDED, same version is already published
palomino4Windows Server 2022 Datacenter / x64  OK    OK    OK    OK  UNNEEDED, same version is already published
lconwaymacOS 12.5.1 Monterey / x86_64  OK    OK    OK    OK  UNNEEDED, same version is already published
Package 123/462HostnameOS / ArchINSTALLBUILDCHECKBUILD BIN
diggit 1.30.0  (landing page)
Mariano J Alvarez
git_last_commit: 3f95e15
git_last_commit_date: 2022-11-01 11:11:14 -0400
nebbiolo2Linux (Ubuntu 20.04.5 LTS) / x86_64  OK    OK    WARNINGS  UNNEEDED, same version is already published
palomino4Windows Server 2022 Datacenter / x64  OK    OK    WARNINGS    OK  UNNEEDED, same version is already published
lconwaymacOS 12.5.1 Monterey / x86_64  OK    OK    WARNINGS    OK  UNNEEDED, same version is already published
Package 124/462HostnameOS / ArchINSTALLBUILDCHECKBUILD BIN
discordant 1.22.0  (landing page)
McGrath Max
git_last_commit: 2cf63ca
git_last_commit_date: 2022-11-01 11:15:08 -0400
nebbiolo2Linux (Ubuntu 20.04.5 LTS) / x86_64  OK    OK    OK  UNNEEDED, same version is already published
palomino4Windows Server 2022 Datacenter / x64  OK    OK    OK    OK  UNNEEDED, same version is already published
lconwaymacOS 12.5.1 Monterey / x86_64  OK    OK    OK    OK  UNNEEDED, same version is already published
Package 125/462HostnameOS / ArchINSTALLBUILDCHECKBUILD BIN
doppelgangR 1.26.0  (landing page)
Levi Waldron
git_last_commit: c899a8b
git_last_commit_date: 2022-11-01 11:13:08 -0400
nebbiolo2Linux (Ubuntu 20.04.5 LTS) / x86_64  OK    OK    OK  UNNEEDED, same version is already published
palomino4Windows Server 2022 Datacenter / x64  OK    OK    OK    OK  UNNEEDED, same version is already published
lconwaymacOS 12.5.1 Monterey / x86_64  OK    OK    OK    OK  UNNEEDED, same version is already published
Package 126/462HostnameOS / ArchINSTALLBUILDCHECKBUILD BIN
DSS 2.46.0  (landing page)
Hao Wu , Hao Feng
git_last_commit: 1b095bf
git_last_commit_date: 2022-12-22 20:59:37 -0400
nebbiolo2Linux (Ubuntu 20.04.5 LTS) / x86_64  OK    OK    OK  UNNEEDED, same version is already published
palomino4Windows Server 2022 Datacenter / x64  OK    OK    OK    OK  UNNEEDED, same version is already published
lconwaymacOS 12.5.1 Monterey / x86_64  OK    OK    OK    OK  UNNEEDED, same version is already published
Package 127/462HostnameOS / ArchINSTALLBUILDCHECKBUILD BIN
dyebias 1.58.0  (landing page)
Philip Lijnzaad
git_last_commit: 9f40c43
git_last_commit_date: 2022-11-01 11:04:23 -0400
nebbiolo2Linux (Ubuntu 20.04.5 LTS) / x86_64  OK    OK    OK  UNNEEDED, same version is already published
palomino4Windows Server 2022 Datacenter / x64  OK    OK    OK    OK  UNNEEDED, same version is already published
lconwaymacOS 12.5.1 Monterey / x86_64  OK    OK    OK    OK  UNNEEDED, same version is already published
Package 128/462HostnameOS / ArchINSTALLBUILDCHECKBUILD BIN
easyRNASeq 2.34.0  (landing page)
Nicolas Delhomme
git_last_commit: 37ce549
git_last_commit_date: 2022-11-01 11:06:37 -0400
nebbiolo2Linux (Ubuntu 20.04.5 LTS) / x86_64  OK    OK    OK  UNNEEDED, same version is already published
palomino4Windows Server 2022 Datacenter / x64  OK    OK    OK    OK  UNNEEDED, same version is already published
lconwaymacOS 12.5.1 Monterey / x86_64  OK    OK    OK    OK  UNNEEDED, same version is already published
Package 129/462HostnameOS / ArchINSTALLBUILDCHECKBUILD BIN
EBarrays 2.62.0  (landing page)
Ming Yuan
git_last_commit: 1d200d5
git_last_commit_date: 2022-11-01 10:36:49 -0400
nebbiolo2Linux (Ubuntu 20.04.5 LTS) / x86_64  OK    OK    OK  UNNEEDED, same version is already published
palomino4Windows Server 2022 Datacenter / x64  OK    OK    OK    OK  UNNEEDED, same version is already published
lconwaymacOS 12.5.1 Monterey / x86_64  OK    OK    OK    OK  UNNEEDED, same version is already published
Package 130/462HostnameOS / ArchINSTALLBUILDCHECKBUILD BIN
ecolitk 1.70.0  (landing page)
Laurent Gautier
git_last_commit: 5fe0e9e
git_last_commit_date: 2022-11-01 10:36:17 -0400
nebbiolo2Linux (Ubuntu 20.04.5 LTS) / x86_64  OK    OK    WARNINGS  UNNEEDED, same version is already published
palomino4Windows Server 2022 Datacenter / x64  OK    OK    WARNINGS    OK  UNNEEDED, same version is already published
lconwaymacOS 12.5.1 Monterey / x86_64  OK    OK    WARNINGS    OK  UNNEEDED, same version is already published
Package 131/462HostnameOS / ArchINSTALLBUILDCHECKBUILD BIN
EDASeq 2.32.0  (landing page)
Davide Risso
git_last_commit: 06df5a3
git_last_commit_date: 2022-11-01 11:06:16 -0400
nebbiolo2Linux (Ubuntu 20.04.5 LTS) / x86_64  OK    OK    OK  UNNEEDED, same version is already published
palomino4Windows Server 2022 Datacenter / x64  OK    OK    OK    OK  UNNEEDED, same version is already published
lconwaymacOS 12.5.1 Monterey / x86_64  OK    OK    OK    OK  UNNEEDED, same version is already published
Package 132/462HostnameOS / ArchINSTALLBUILDCHECKBUILD BIN
edge 2.30.0  (landing page)
John D. Storey , Andrew J. Bass
git_last_commit: e8b67e9
git_last_commit_date: 2022-11-20 15:30:22 -0400
nebbiolo2Linux (Ubuntu 20.04.5 LTS) / x86_64  OK    OK    WARNINGS  UNNEEDED, same version is already published
palomino4Windows Server 2022 Datacenter / x64  OK    OK    WARNINGS    OK  UNNEEDED, same version is already published
lconwaymacOS 12.5.1 Monterey / x86_64  OK    OK    WARNINGS    OK  UNNEEDED, same version is already published
Package 133/462HostnameOS / ArchINSTALLBUILDCHECKBUILD BIN
EGAD 1.26.0  (landing page)
Sara Ballouz
git_last_commit: f4695cc
git_last_commit_date: 2022-11-01 11:13:42 -0400
nebbiolo2Linux (Ubuntu 20.04.5 LTS) / x86_64  OK    OK    WARNINGS  UNNEEDED, same version is already published
palomino4Windows Server 2022 Datacenter / x64  OK    OK    WARNINGS    OK  UNNEEDED, same version is already published
lconwaymacOS 12.5.1 Monterey / x86_64  OK    OK    WARNINGS    OK  UNNEEDED, same version is already published
Package 134/462HostnameOS / ArchINSTALLBUILDCHECKBUILD BIN
EGSEA 1.26.0  (landing page)
Monther Alhamdoosh
git_last_commit: c3e5f41
git_last_commit_date: 2022-11-01 11:13:40 -0400
nebbiolo2Linux (Ubuntu 20.04.5 LTS) / x86_64  OK    OK    WARNINGS  UNNEEDED, same version is already published
palomino4Windows Server 2022 Datacenter / x64  OK    OK    WARNINGS    OK  UNNEEDED, same version is already published
lconwaymacOS 12.5.1 Monterey / x86_64  OK    OK    WARNINGS    OK  UNNEEDED, same version is already published
Package 135/462HostnameOS / ArchINSTALLBUILDCHECKBUILD BIN
ENmix 1.34.02  (landing page)
Zongli Xu
git_last_commit: faf0823
git_last_commit_date: 2023-03-07 15:26:14 -0400
nebbiolo2Linux (Ubuntu 20.04.5 LTS) / x86_64  OK    OK    OK  UNNEEDED, same version is already published
palomino4Windows Server 2022 Datacenter / x64  OK    OK    OK    OK  UNNEEDED, same version is already published
lconwaymacOS 12.5.1 Monterey / x86_64  OK    OK    OK    OK  UNNEEDED, same version is already published
Package 136/462HostnameOS / ArchINSTALLBUILDCHECKBUILD BIN
ensembldb 2.22.0  (landing page)
Johannes Rainer
git_last_commit: 4dda178
git_last_commit_date: 2022-11-01 11:11:20 -0400
nebbiolo2Linux (Ubuntu 20.04.5 LTS) / x86_64  OK    OK    OK  UNNEEDED, same version is already published
palomino4Windows Server 2022 Datacenter / x64  OK    OK    OK    OK  UNNEEDED, same version is already published
lconwaymacOS 12.5.1 Monterey / x86_64  OK    OK    OK    OK  UNNEEDED, same version is already published
Package 137/462HostnameOS / ArchINSTALLBUILDCHECKBUILD BIN
epigenomix 1.38.0  (landing page)
Hans-Ulrich Klein
git_last_commit: 3022714
git_last_commit_date: 2022-11-01 11:07:58 -0400
nebbiolo2Linux (Ubuntu 20.04.5 LTS) / x86_64  OK    OK    OK  UNNEEDED, same version is already published
palomino4Windows Server 2022 Datacenter / x64  OK    OK    OK    OK  UNNEEDED, same version is already published
lconwaymacOS 12.5.1 Monterey / x86_64  OK    OK    OK    OK  UNNEEDED, same version is already published
Package 138/462HostnameOS / ArchINSTALLBUILDCHECKBUILD BIN
EpiMix 1.0.2  (landing page)
Yuanning Zheng
git_last_commit: ceba443
git_last_commit_date: 2023-04-03 21:04:50 -0400
nebbiolo2Linux (Ubuntu 20.04.5 LTS) / x86_64  OK    ERROR  skipped
palomino4Windows Server 2022 Datacenter / x64  OK    ERROR  skippedskipped
lconwaymacOS 12.5.1 Monterey / x86_64  OK    ERROR  skippedskipped
Package 139/462HostnameOS / ArchINSTALLBUILDCHECKBUILD BIN
epivizrData 1.26.0  (landing page)
Hector Corrada Bravo
git_last_commit: 44f48d3
git_last_commit_date: 2022-11-01 11:13:39 -0400
nebbiolo2Linux (Ubuntu 20.04.5 LTS) / x86_64  OK    OK    OK  UNNEEDED, same version is already published
palomino4Windows Server 2022 Datacenter / x64  OK    OK    OK    OK  UNNEEDED, same version is already published
lconwaymacOS 12.5.1 Monterey / x86_64  OK    OK    OK    OK  UNNEEDED, same version is already published
Package 140/462HostnameOS / ArchINSTALLBUILDCHECKBUILD BIN
erma 1.14.0  (landing page)
VJ Carey
git_last_commit: b240e98
git_last_commit_date: 2022-11-01 11:11:49 -0400
nebbiolo2Linux (Ubuntu 20.04.5 LTS) / x86_64  OK    OK    OK  UNNEEDED, same version is already published
palomino4Windows Server 2022 Datacenter / x64  OK    OK    OK    OK  UNNEEDED, same version is already published
lconwaymacOS 12.5.1 Monterey / x86_64  OK    OK    OK    OK  UNNEEDED, same version is already published
Package 141/462HostnameOS / ArchINSTALLBUILDCHECKBUILD BIN
esetVis 1.24.0  (landing page)
Laure Cougnaud
git_last_commit: 188114a
git_last_commit_date: 2022-11-01 11:13:55 -0400
nebbiolo2Linux (Ubuntu 20.04.5 LTS) / x86_64  OK    OK    OK  UNNEEDED, same version is already published
palomino4Windows Server 2022 Datacenter / x64  OK    OK    OK    OK  UNNEEDED, same version is already published
lconwaymacOS 12.5.1 Monterey / x86_64  OK    OK    OK    OK  UNNEEDED, same version is already published
Package 142/462HostnameOS / ArchINSTALLBUILDCHECKBUILD BIN
ExiMiR 2.40.0  (landing page)
Sylvain Gubian
git_last_commit: 70d7270
git_last_commit_date: 2022-11-01 11:05:33 -0400
nebbiolo2Linux (Ubuntu 20.04.5 LTS) / x86_64  OK    OK    OK  UNNEEDED, same version is already published
palomino4Windows Server 2022 Datacenter / x64  OK    OK    OK    OK  UNNEEDED, same version is already published
lconwaymacOS 12.5.1 Monterey / x86_64  OK    OK    OK    OK  UNNEEDED, same version is already published
Package 143/462HostnameOS / ArchINSTALLBUILDCHECKBUILD BIN
ExpressionAtlas 1.26.0  (landing page)
Pedro Madrigal
git_last_commit: f57a05e
git_last_commit_date: 2022-11-01 11:12:57 -0400
nebbiolo2Linux (Ubuntu 20.04.5 LTS) / x86_64  OK    OK    OK  UNNEEDED, same version is already published
palomino4Windows Server 2022 Datacenter / x64  OK    OK    OK    OK  UNNEEDED, same version is already published
lconwaymacOS 12.5.1 Monterey / x86_64  OK    OK    OK    OK  UNNEEDED, same version is already published
Package 144/462HostnameOS / ArchINSTALLBUILDCHECKBUILD BIN
fabia 2.44.0  (landing page)
Andreas Mitterecker
git_last_commit: c777236
git_last_commit_date: 2022-11-01 11:05:08 -0400
nebbiolo2Linux (Ubuntu 20.04.5 LTS) / x86_64  OK    OK    OK  UNNEEDED, same version is already published
palomino4Windows Server 2022 Datacenter / x64  OK    OK    OK    OK  UNNEEDED, same version is already published
lconwaymacOS 12.5.1 Monterey / x86_64  OK    OK    OK    OK  UNNEEDED, same version is already published
Package 145/462HostnameOS / ArchINSTALLBUILDCHECKBUILD BIN
factDesign 1.74.0  (landing page)
Denise Scholtens
git_last_commit: 741cba6
git_last_commit_date: 2022-11-01 10:36:04 -0400
nebbiolo2Linux (Ubuntu 20.04.5 LTS) / x86_64  OK    OK    OK  UNNEEDED, same version is already published
palomino4Windows Server 2022 Datacenter / x64  OK    OK    OK    OK  UNNEEDED, same version is already published
lconwaymacOS 12.5.1 Monterey / x86_64  OK    OK    OK    OK  UNNEEDED, same version is already published
Package 146/462HostnameOS / ArchINSTALLBUILDCHECKBUILD BIN
farms 1.50.0  (landing page)
Djork-Arne Clevert
git_last_commit: a592c92
git_last_commit_date: 2022-11-01 11:05:15 -0400
nebbiolo2Linux (Ubuntu 20.04.5 LTS) / x86_64  OK    OK    OK  UNNEEDED, same version is already published
palomino4Windows Server 2022 Datacenter / x64  OK    OK    OK    OK  UNNEEDED, same version is already published
lconwaymacOS 12.5.1 Monterey / x86_64  OK    OK    OK    OK  UNNEEDED, same version is already published
Package 147/462HostnameOS / ArchINSTALLBUILDCHECKBUILD BIN
fastseg 1.44.0  (landing page)
Alexander Blume
git_last_commit: 96cf905
git_last_commit_date: 2022-11-01 11:06:32 -0400
nebbiolo2Linux (Ubuntu 20.04.5 LTS) / x86_64  OK    OK    OK  UNNEEDED, same version is already published
palomino4Windows Server 2022 Datacenter / x64  OK    OK    OK    OK  UNNEEDED, same version is already published
lconwaymacOS 12.5.1 Monterey / x86_64  OK    OK    OK    OK  UNNEEDED, same version is already published
Package 148/462HostnameOS / ArchINSTALLBUILDCHECKBUILD BIN
ffpe 1.42.0  (landing page)
Levi Waldron
git_last_commit: 980b951
git_last_commit_date: 2022-11-01 11:06:45 -0400
nebbiolo2Linux (Ubuntu 20.04.5 LTS) / x86_64  OK    OK    OK  UNNEEDED, same version is already published
palomino4Windows Server 2022 Datacenter / x64  OK    OK    OK    OK  UNNEEDED, same version is already published
lconwaymacOS 12.5.1 Monterey / x86_64  OK    OK    OK    OK  UNNEEDED, same version is already published
Package 149/462HostnameOS / ArchINSTALLBUILDCHECKBUILD BIN
flowBeads 1.36.0  (landing page)
Nikolas Pontikos
git_last_commit: 3efe223
git_last_commit_date: 2022-11-01 11:08:18 -0400
nebbiolo2Linux (Ubuntu 20.04.5 LTS) / x86_64  OK    OK    WARNINGS  UNNEEDED, same version is already published
palomino4Windows Server 2022 Datacenter / x64  OK    OK    WARNINGS    OK  UNNEEDED, same version is already published
lconwaymacOS 12.5.1 Monterey / x86_64  OK    OK    WARNINGS    OK  UNNEEDED, same version is already published
Package 150/462HostnameOS / ArchINSTALLBUILDCHECKBUILD BIN
flowClust 3.36.1  (landing page)
Greg Finak , Mike Jiang
git_last_commit: 6db19fb
git_last_commit_date: 2023-03-23 18:01:34 -0400
nebbiolo2Linux (Ubuntu 20.04.5 LTS) / x86_64  OK    OK    WARNINGS  UNNEEDED, same version is already published
palomino4Windows Server 2022 Datacenter / x64  OK    OK    WARNINGS    OK  UNNEEDED, same version is already published
lconwaymacOS 12.5.1 Monterey / x86_64  OK    OK    WARNINGS    OK  UNNEEDED, same version is already published
Package 151/462HostnameOS / ArchINSTALLBUILDCHECKBUILD BIN
flowCore 2.10.0  (landing page)
Mike Jiang
git_last_commit: 2bb3556
git_last_commit_date: 2022-11-01 10:42:20 -0400
nebbiolo2Linux (Ubuntu 20.04.5 LTS) / x86_64  OK    OK    WARNINGS  UNNEEDED, same version is already published
palomino4Windows Server 2022 Datacenter / x64  OK    OK    OK    OK  UNNEEDED, same version is already published
lconwaymacOS 12.5.1 Monterey / x86_64  OK    OK    OK    OK  UNNEEDED, same version is already published
Package 152/462HostnameOS / ArchINSTALLBUILDCHECKBUILD BIN
flowFP 1.56.3  (landing page)
Herb Holyst , Wade Rogers
git_last_commit: d49bc8b
git_last_commit_date: 2022-11-18 10:03:30 -0400
nebbiolo2Linux (Ubuntu 20.04.5 LTS) / x86_64  OK    OK    OK  UNNEEDED, same version is already published
palomino4Windows Server 2022 Datacenter / x64  OK    OK    OK    OK  UNNEEDED, same version is already published
lconwaymacOS 12.5.1 Monterey / x86_64  OK    OK    OK    OK  UNNEEDED, same version is already published
Package 153/462HostnameOS / ArchINSTALLBUILDCHECKBUILD BIN
flowMatch 1.34.0  (landing page)
Ariful Azad
git_last_commit: 294abce
git_last_commit_date: 2022-11-01 11:09:01 -0400
nebbiolo2Linux (Ubuntu 20.04.5 LTS) / x86_64  OK    OK    OK  UNNEEDED, same version is already published
palomino4Windows Server 2022 Datacenter / x64  OK    OK    OK    OK  UNNEEDED, same version is already published
lconwaymacOS 12.5.1 Monterey / x86_64  OK    OK    OK    OK  UNNEEDED, same version is already published
Package 154/462HostnameOS / ArchINSTALLBUILDCHECKBUILD BIN
flowMeans 1.58.0  (landing page)
Nima Aghaeepour
git_last_commit: a06d19b
git_last_commit_date: 2022-11-01 11:05:02 -0400
nebbiolo2Linux (Ubuntu 20.04.5 LTS) / x86_64  OK    OK    OK  UNNEEDED, same version is already published
palomino4Windows Server 2022 Datacenter / x64  OK    OK    OK    OK  UNNEEDED, same version is already published
lconwaymacOS 12.5.1 Monterey / x86_64  OK    OK    OK    OK  UNNEEDED, same version is already published
Package 155/462HostnameOS / ArchINSTALLBUILDCHECKBUILD BIN
flowSpecs 1.12.0  (landing page)
Jakob Theorell
git_last_commit: 29ad279
git_last_commit_date: 2022-11-01 11:20:33 -0400
nebbiolo2Linux (Ubuntu 20.04.5 LTS) / x86_64  OK    OK    OK  UNNEEDED, same version is already published
palomino4Windows Server 2022 Datacenter / x64  OK    OK    OK    OK  UNNEEDED, same version is already published
lconwaymacOS 12.5.1 Monterey / x86_64  OK    OK    OK    OK  UNNEEDED, same version is already published
Package 156/462HostnameOS / ArchINSTALLBUILDCHECKBUILD BIN
flowStats 4.10.0  (landing page)
Greg Finak , Mike Jiang
git_last_commit: 19e0ce5
git_last_commit_date: 2022-11-01 11:04:25 -0400
nebbiolo2Linux (Ubuntu 20.04.5 LTS) / x86_64  OK    OK    WARNINGS  UNNEEDED, same version is already published
palomino4Windows Server 2022 Datacenter / x64  OK    OK    WARNINGS    OK  UNNEEDED, same version is already published
lconwaymacOS 12.5.1 Monterey / x86_64  OK    OK    WARNINGS    OK  UNNEEDED, same version is already published
Package 157/462HostnameOS / ArchINSTALLBUILDCHECKBUILD BIN
flowUtils 1.62.0  (landing page)
Josef Spidlen
git_last_commit: 812865d
git_last_commit_date: 2022-11-01 10:42:23 -0400
nebbiolo2Linux (Ubuntu 20.04.5 LTS) / x86_64  OK    ERROR  skipped
palomino4Windows Server 2022 Datacenter / x64  OK    ERROR  skippedskipped
lconwaymacOS 12.5.1 Monterey / x86_64  OK    ERROR  skippedskipped
Package 158/462HostnameOS / ArchINSTALLBUILDCHECKBUILD BIN
flowViz 1.62.0  (landing page)
Mike Jiang
git_last_commit: 0ef368f
git_last_commit_date: 2022-11-01 10:42:26 -0400
nebbiolo2Linux (Ubuntu 20.04.5 LTS) / x86_64  OK    OK    OK  UNNEEDED, same version is already published
palomino4Windows Server 2022 Datacenter / x64  OK    OK    OK    OK  UNNEEDED, same version is already published
lconwaymacOS 12.5.1 Monterey / x86_64  OK    OK    OK    OK  UNNEEDED, same version is already published
Package 159/462HostnameOS / ArchINSTALLBUILDCHECKBUILD BIN
flowWorkspace 4.10.1  (landing page)
Greg Finak , Mike Jiang
git_last_commit: af121c6
git_last_commit_date: 2022-12-28 21:02:10 -0400
nebbiolo2Linux (Ubuntu 20.04.5 LTS) / x86_64  OK    OK    WARNINGS  UNNEEDED, same version is already published
palomino4Windows Server 2022 Datacenter / x64  OK    OK    WARNINGS    OK  UNNEEDED, same version is already published
lconwaymacOS 12.5.1 Monterey / x86_64  OK    OK    WARNINGS    OK  UNNEEDED, same version is already published
Package 160/462HostnameOS / ArchINSTALLBUILDCHECKBUILD BIN
FRASER 1.10.2  (landing page)
Christian Mertes
git_last_commit: 411304e
git_last_commit_date: 2023-01-19 11:17:01 -0400
nebbiolo2Linux (Ubuntu 20.04.5 LTS) / x86_64  OK    OK    OK  UNNEEDED, same version is already published
palomino4Windows Server 2022 Datacenter / x64  OK    OK    OK    OK  UNNEEDED, same version is already published
lconwaymacOS 12.5.1 Monterey / x86_64  OK    OK    OK    OK  UNNEEDED, same version is already published
Package 161/462HostnameOS / ArchINSTALLBUILDCHECKBUILD BIN
frma 1.50.0  (landing page)
Matthew N. McCall
git_last_commit: 82c112c
git_last_commit_date: 2022-11-01 11:04:47 -0400
nebbiolo2Linux (Ubuntu 20.04.5 LTS) / x86_64  OK    OK    OK  UNNEEDED, same version is already published
palomino4Windows Server 2022 Datacenter / x64  OK    OK    OK    OK  UNNEEDED, same version is already published
lconwaymacOS 12.5.1 Monterey / x86_64  OK    OK    OK    OK  UNNEEDED, same version is already published
Package 162/462HostnameOS / ArchINSTALLBUILDCHECKBUILD BIN
frmaTools 1.50.0  (landing page)
Matthew N. McCall
git_last_commit: 21593ae
git_last_commit_date: 2022-11-01 11:04:48 -0400
nebbiolo2Linux (Ubuntu 20.04.5 LTS) / x86_64  OK    OK    OK  UNNEEDED, same version is already published
palomino4Windows Server 2022 Datacenter / x64  OK    OK    OK    OK  UNNEEDED, same version is already published
lconwaymacOS 12.5.1 Monterey / x86_64  OK    OK    OK    OK  UNNEEDED, same version is already published
Package 163/462HostnameOS / ArchINSTALLBUILDCHECKBUILD BIN
gaga 2.44.0  (landing page)
David Rossell
git_last_commit: 1229b55
git_last_commit_date: 2022-11-01 11:03:40 -0400
nebbiolo2Linux (Ubuntu 20.04.5 LTS) / x86_64  OK    OK    OK  UNNEEDED, same version is already published
palomino4Windows Server 2022 Datacenter / x64  OK    OK    OK    OK  UNNEEDED, same version is already published
lconwaymacOS 12.5.1 Monterey / x86_64  OK    OK    WARNINGS    OK  UNNEEDED, same version is already published
Package 164/462HostnameOS / ArchINSTALLBUILDCHECKBUILD BIN
GAPGOM 1.14.0  (landing page)
Rezvan Ehsani
git_last_commit: 9a6404e
git_last_commit_date: 2022-11-01 11:19:11 -0400
nebbiolo2Linux (Ubuntu 20.04.5 LTS) / x86_64  OK    ERROR  skipped
palomino4Windows Server 2022 Datacenter / x64  OK    ERROR  skippedskipped
lconwaymacOS 12.5.1 Monterey / x86_64  OK    ERROR  skippedskipped
Package 165/462HostnameOS / ArchINSTALLBUILDCHECKBUILD BIN
gCrisprTools 2.4.0  (landing page)
Russell Bainer
git_last_commit: 154bc8e
git_last_commit_date: 2022-11-01 11:14:23 -0400
nebbiolo2Linux (Ubuntu 20.04.5 LTS) / x86_64  OK    OK    OK  UNNEEDED, same version is already published
palomino4Windows Server 2022 Datacenter / x64  OK    OK    OK    OK  UNNEEDED, same version is already published
lconwaymacOS 12.5.1 Monterey / x86_64  OK    OK    OK    OK  UNNEEDED, same version is already published
Package 166/462HostnameOS / ArchINSTALLBUILDCHECKBUILD BIN
gcrma 2.70.0  (landing page)
Z. Wu
git_last_commit: 095f389
git_last_commit_date: 2022-11-01 10:35:46 -0400
nebbiolo2Linux (Ubuntu 20.04.5 LTS) / x86_64  OK    OK    OK  UNNEEDED, same version is already published
palomino4Windows Server 2022 Datacenter / x64  OK    OK    OK    OK  UNNEEDED, same version is already published
lconwaymacOS 12.5.1 Monterey / x86_64  OK    OK    OK    OK  UNNEEDED, same version is already published
Package 167/462HostnameOS / ArchINSTALLBUILDCHECKBUILD BIN
GCSscore 1.12.0  (landing page)
Guy M. Harris
git_last_commit: 6836284
git_last_commit_date: 2022-11-01 11:20:55 -0400
nebbiolo2Linux (Ubuntu 20.04.5 LTS) / x86_64  OK    OK    OK  UNNEEDED, same version is already published
palomino4Windows Server 2022 Datacenter / x64  OK    OK    OK    OK  UNNEEDED, same version is already published
lconwaymacOS 12.5.1 Monterey / x86_64  OK    OK    OK    OK  UNNEEDED, same version is already published
Package 168/462HostnameOS / ArchINSTALLBUILDCHECKBUILD BIN
gemma.R 1.0.1  (landing page)
Ogan Mancarci
git_last_commit: 43adbd5
git_last_commit_date: 2023-01-24 16:44:40 -0400
nebbiolo2Linux (Ubuntu 20.04.5 LTS) / x86_64  OK    OK    OK  UNNEEDED, same version is already published
palomino4Windows Server 2022 Datacenter / x64  OK    OK    OK    OK  UNNEEDED, same version is already published
lconwaymacOS 12.5.1 Monterey / x86_64  OK    OK    OK    OK  UNNEEDED, same version is already published
Package 169/462HostnameOS / ArchINSTALLBUILDCHECKBUILD BIN
genbankr 1.26.0  (landing page)
Gabriel Becker
git_last_commit: e825650
git_last_commit_date: 2022-11-01 11:13:33 -0400
nebbiolo2Linux (Ubuntu 20.04.5 LTS) / x86_64  OK    OK    OK  UNNEEDED, same version is already published
palomino4Windows Server 2022 Datacenter / x64  OK    OK    OK    OK  UNNEEDED, same version is already published
lconwaymacOS 12.5.1 Monterey / x86_64  OK    OK    OK    OK  UNNEEDED, same version is already published
Package 170/462HostnameOS / ArchINSTALLBUILDCHECKBUILD BIN
geneClassifiers 1.22.0  (landing page)
R Kuiper
git_last_commit: 832b04b
git_last_commit_date: 2022-11-01 11:15:10 -0400
nebbiolo2Linux (Ubuntu 20.04.5 LTS) / x86_64  OK    OK    OK  UNNEEDED, same version is already published
palomino4Windows Server 2022 Datacenter / x64  OK    OK    OK    OK  UNNEEDED, same version is already published
lconwaymacOS 12.5.1 Monterey / x86_64  OK    OK    OK    OK  UNNEEDED, same version is already published
Package 171/462HostnameOS / ArchINSTALLBUILDCHECKBUILD BIN
GeneExpressionSignature 1.44.0  (landing page)
Yang Cao
git_last_commit: 5985d14
git_last_commit_date: 2022-11-01 11:06:11 -0400
nebbiolo2Linux (Ubuntu 20.04.5 LTS) / x86_64  OK    OK    OK  UNNEEDED, same version is already published
palomino4Windows Server 2022 Datacenter / x64  OK    OK    OK    OK  UNNEEDED, same version is already published
lconwaymacOS 12.5.1 Monterey / x86_64  OK    OK    OK    OK  UNNEEDED, same version is already published
Package 172/462HostnameOS / ArchINSTALLBUILDCHECKBUILD BIN
genefilter 1.80.3  (landing page)
Bioconductor Package Maintainer
git_last_commit: 2138dca
git_last_commit_date: 2023-01-19 11:17:04 -0400
nebbiolo2Linux (Ubuntu 20.04.5 LTS) / x86_64  OK    OK    WARNINGS  UNNEEDED, same version is already published
palomino4Windows Server 2022 Datacenter / x64  OK    OK    WARNINGS    OK  UNNEEDED, same version is already published
lconwaymacOS 12.5.1 Monterey / x86_64  OK    OK    OK    OK  UNNEEDED, same version is already published
Package 173/462HostnameOS / ArchINSTALLBUILDCHECKBUILD BIN
GeneMeta 1.70.0  (landing page)
Bioconductor Package Maintainer
git_last_commit: e5db82e
git_last_commit_date: 2022-11-01 10:39:28 -0400
nebbiolo2Linux (Ubuntu 20.04.5 LTS) / x86_64  OK    OK    OK  UNNEEDED, same version is already published
palomino4Windows Server 2022 Datacenter / x64  OK    OK    OK    OK  UNNEEDED, same version is already published
lconwaymacOS 12.5.1 Monterey / x86_64  OK    OK    OK    OK  UNNEEDED, same version is already published
Package 174/462HostnameOS / ArchINSTALLBUILDCHECKBUILD BIN
geneplotter 1.76.0  (landing page)
Bioconductor Package Maintainer
git_last_commit: 4eb6a78
git_last_commit_date: 2022-11-01 10:34:58 -0400
nebbiolo2Linux (Ubuntu 20.04.5 LTS) / x86_64  OK    OK    OK  UNNEEDED, same version is already published
palomino4Windows Server 2022 Datacenter / x64  OK    OK    OK    OK  UNNEEDED, same version is already published
lconwaymacOS 12.5.1 Monterey / x86_64  OK    OK    OK    OK  UNNEEDED, same version is already published
Package 175/462HostnameOS / ArchINSTALLBUILDCHECKBUILD BIN
geneRecommender 1.70.0  (landing page)
Greg Hather
git_last_commit: f96e510
git_last_commit_date: 2022-11-01 10:39:12 -0400
nebbiolo2Linux (Ubuntu 20.04.5 LTS) / x86_64  OK    OK    OK  UNNEEDED, same version is already published
palomino4Windows Server 2022 Datacenter / x64  OK    OK    OK    OK  UNNEEDED, same version is already published
lconwaymacOS 12.5.1 Monterey / x86_64  OK    OK    OK    OK  UNNEEDED, same version is already published
Package 176/462HostnameOS / ArchINSTALLBUILDCHECKBUILD BIN
GeneRegionScan 1.54.0  (landing page)
Lasse Folkersen
git_last_commit: 78207d7
git_last_commit_date: 2022-11-01 11:04:25 -0400
nebbiolo2Linux (Ubuntu 20.04.5 LTS) / x86_64  OK    OK    OK  UNNEEDED, same version is already published
palomino4Windows Server 2022 Datacenter / x64  OK    OK    OK    OK  UNNEEDED, same version is already published
lconwaymacOS 12.5.1 Monterey / x86_64  OK    OK    OK    OK  UNNEEDED, same version is already published
Package 177/462HostnameOS / ArchINSTALLBUILDCHECKBUILD BIN
GeneSelectMMD 2.42.3  (landing page)
Weiliang Qiu
git_last_commit: 70e2082
git_last_commit_date: 2023-01-19 11:17:05 -0400
nebbiolo2Linux (Ubuntu 20.04.5 LTS) / x86_64  OK    OK    WARNINGS  UNNEEDED, same version is already published
palomino4Windows Server 2022 Datacenter / x64  OK    OK    OK    OK  UNNEEDED, same version is already published
lconwaymacOS 12.5.1 Monterey / x86_64  OK    OK    WARNINGS    OK  UNNEEDED, same version is already published
Package 178/462HostnameOS / ArchINSTALLBUILDCHECKBUILD BIN
GENESIS 2.28.0  (landing page)
Stephanie M. Gogarten
git_last_commit: 5ed68a0
git_last_commit_date: 2022-11-01 11:11:18 -0400
nebbiolo2Linux (Ubuntu 20.04.5 LTS) / x86_64  OK    OK    OK  UNNEEDED, same version is already published
palomino4Windows Server 2022 Datacenter / x64  OK    OK    OK    OK  UNNEEDED, same version is already published
lconwaymacOS 12.5.1 Monterey / x86_64  OK    OK    OK    OK  UNNEEDED, same version is already published
Package 179/462HostnameOS / ArchINSTALLBUILDCHECKBUILD BIN
geNetClassifier 1.38.0  (landing page)
Sara Aibar
git_last_commit: 8722088
git_last_commit_date: 2022-11-01 11:08:07 -0400
nebbiolo2Linux (Ubuntu 20.04.5 LTS) / x86_64  OK    OK    OK  UNNEEDED, same version is already published
palomino4Windows Server 2022 Datacenter / x64  OK    OK    OK    OK  UNNEEDED, same version is already published
lconwaymacOS 12.5.1 Monterey / x86_64  OK    OK    OK    OK  UNNEEDED, same version is already published
Package 180/462HostnameOS / ArchINSTALLBUILDCHECKBUILD BIN
GenomicFeatures 1.50.4  (landing page)
H. Pagès
git_last_commit: 68bf6e1
git_last_commit_date: 2022-12-14 21:06:06 -0400
nebbiolo2Linux (Ubuntu 20.04.5 LTS) / x86_64  OK    OK    OK  UNNEEDED, same version is already published
palomino4Windows Server 2022 Datacenter / x64  OK    OK    OK    OK  UNNEEDED, same version is already published
lconwaymacOS 12.5.1 Monterey / x86_64  OK    OK    OK    OK  UNNEEDED, same version is already published
Package 181/462HostnameOS / ArchINSTALLBUILDCHECKBUILD BIN
GenomicInteractions 1.32.0  (landing page)
Liz Ing-Simmons
git_last_commit: bc2d152
git_last_commit_date: 2022-11-01 11:10:21 -0400
nebbiolo2Linux (Ubuntu 20.04.5 LTS) / x86_64  OK    OK    OK  UNNEEDED, same version is already published
palomino4Windows Server 2022 Datacenter / x64  OK    OK    OK    OK  UNNEEDED, same version is already published
lconwaymacOS 12.5.1 Monterey / x86_64  OK    OK    OK    OK  UNNEEDED, same version is already published
Package 182/462HostnameOS / ArchINSTALLBUILDCHECKBUILD BIN
GenomicScores 2.10.0  (landing page)
Robert Castelo
git_last_commit: c2e29da
git_last_commit_date: 2022-11-01 11:15:32 -0400
nebbiolo2Linux (Ubuntu 20.04.5 LTS) / x86_64  OK    OK    OK  UNNEEDED, same version is already published
palomino4Windows Server 2022 Datacenter / x64  OK    OK    OK    OK  UNNEEDED, same version is already published
lconwaymacOS 12.5.1 Monterey / x86_64  OK    OK    OK    OK  UNNEEDED, same version is already published
Package 183/462HostnameOS / ArchINSTALLBUILDCHECKBUILD BIN
GenomicSuperSignature 1.6.0  (landing page)
Sehyun Oh
git_last_commit: 6829058
git_last_commit_date: 2022-11-01 11:25:07 -0400
nebbiolo2Linux (Ubuntu 20.04.5 LTS) / x86_64  OK    OK    WARNINGS  UNNEEDED, same version is already published
palomino4Windows Server 2022 Datacenter / x64  OK    OK    WARNINGS    OK  UNNEEDED, same version is already published
lconwaymacOS 12.5.1 Monterey / x86_64  OK    OK    WARNINGS    OK  UNNEEDED, same version is already published
Package 184/462HostnameOS / ArchINSTALLBUILDCHECKBUILD BIN
GeoDiff 1.4.2  (landing page)
Nicole Ortogero
git_last_commit: 33059fc
git_last_commit_date: 2023-01-19 11:17:09 -0400
nebbiolo2Linux (Ubuntu 20.04.5 LTS) / x86_64  OK    OK    OK  UNNEEDED, same version is already published
palomino4Windows Server 2022 Datacenter / x64  OK    OK    OK    OK  UNNEEDED, same version is already published
lconwaymacOS 12.5.1 Monterey / x86_64  OK    OK    OK    OK  UNNEEDED, same version is already published
Package 185/462HostnameOS / ArchINSTALLBUILDCHECKBUILD BIN
GEOexplorer 1.4.0  (landing page)
Guy Hunt
git_last_commit: e59cd7e
git_last_commit_date: 2022-11-01 11:25:26 -0400
nebbiolo2Linux (Ubuntu 20.04.5 LTS) / x86_64  OK    OK    OK  UNNEEDED, same version is already published
palomino4Windows Server 2022 Datacenter / x64  OK    OK    OK    OK  UNNEEDED, same version is already published
lconwaymacOS 12.5.1 Monterey / x86_64  OK    OK    OK    OK  UNNEEDED, same version is already published
Package 186/462HostnameOS / ArchINSTALLBUILDCHECKBUILD BIN
GeomxTools 3.2.0  (landing page)
Nicole Ortogero
git_last_commit: c0611f4
git_last_commit_date: 2022-11-01 11:23:52 -0400
nebbiolo2Linux (Ubuntu 20.04.5 LTS) / x86_64  OK    OK    OK  UNNEEDED, same version is already published
palomino4Windows Server 2022 Datacenter / x64  OK    OK    OK    OK  UNNEEDED, same version is already published
lconwaymacOS 12.5.1 Monterey / x86_64  OK    OK    OK    OK  UNNEEDED, same version is already published
Package 187/462HostnameOS / ArchINSTALLBUILDCHECKBUILD BIN
GEOquery 2.66.0  (landing page)
Sean Davis
git_last_commit: 00a954e
git_last_commit_date: 2022-11-01 10:40:26 -0400
nebbiolo2Linux (Ubuntu 20.04.5 LTS) / x86_64  OK    OK    OK  UNNEEDED, same version is already published
palomino4Windows Server 2022 Datacenter / x64  OK    OK    OK    OK  UNNEEDED, same version is already published
lconwaymacOS 12.5.1 Monterey / x86_64  OK    OK    OK    OK  UNNEEDED, same version is already published
Package 188/462HostnameOS / ArchINSTALLBUILDCHECKBUILD BIN
GEOsubmission 1.50.0  (landing page)
Alexandre Kuhn
git_last_commit: 4969f37
git_last_commit_date: 2022-11-01 11:05:03 -0400
nebbiolo2Linux (Ubuntu 20.04.5 LTS) / x86_64  OK    OK    OK  UNNEEDED, same version is already published
palomino4Windows Server 2022 Datacenter / x64  OK    OK    OK    OK  UNNEEDED, same version is already published
lconwaymacOS 12.5.1 Monterey / x86_64  OK    OK    OK    OK  UNNEEDED, same version is already published
Package 189/462HostnameOS / ArchINSTALLBUILDCHECKBUILD BIN
gep2pep 1.18.0  (landing page)
Francesco Napolitano
git_last_commit: 77d2077
git_last_commit_date: 2022-11-01 11:16:48 -0400
nebbiolo2Linux (Ubuntu 20.04.5 LTS) / x86_64  OK    OK    OK  UNNEEDED, same version is already published
palomino4Windows Server 2022 Datacenter / x64  OK    OK    OK    OK  UNNEEDED, same version is already published
lconwaymacOS 12.5.1 Monterey / x86_64  OK    OK    OK    OK  UNNEEDED, same version is already published
Package 190/462HostnameOS / ArchINSTALLBUILDCHECKBUILD BIN
gespeR 1.30.0  (landing page)
Fabian Schmich
git_last_commit: 6213cb5
git_last_commit_date: 2022-11-01 11:10:56 -0400
nebbiolo2Linux (Ubuntu 20.04.5 LTS) / x86_64  OK    OK    WARNINGS  UNNEEDED, same version is already published
palomino4Windows Server 2022 Datacenter / x64  OK    OK    WARNINGS    OK  UNNEEDED, same version is already published
lconwaymacOS 12.5.1 Monterey / x86_64  OK    OK    WARNINGS    OK  UNNEEDED, same version is already published
Package 191/462HostnameOS / ArchINSTALLBUILDCHECKBUILD BIN
ggbio 1.46.0  (landing page)
Michael Lawrence
git_last_commit: d9c6cb4
git_last_commit_date: 2022-11-01 11:06:25 -0400
nebbiolo2Linux (Ubuntu 20.04.5 LTS) / x86_64  OK    OK    WARNINGS  UNNEEDED, same version is already published
palomino4Windows Server 2022 Datacenter / x64  OK    OK    WARNINGS    OK  UNNEEDED, same version is already published
lconwaymacOS 12.5.1 Monterey / x86_64  OK    OK    WARNINGS    OK  UNNEEDED, same version is already published
Package 192/462HostnameOS / ArchINSTALLBUILDCHECKBUILD BIN
girafe 1.50.0  (landing page)
J. Toedling
git_last_commit: 18b1d36
git_last_commit_date: 2022-11-01 11:04:57 -0400
nebbiolo2Linux (Ubuntu 20.04.5 LTS) / x86_64  OK    OK    OK  UNNEEDED, same version is already published
palomino4Windows Server 2022 Datacenter / x64  OK    OK    OK    OK  UNNEEDED, same version is already published
lconwaymacOS 12.5.1 Monterey / x86_64  OK    OK    OK    OK  UNNEEDED, same version is already published
Package 193/462HostnameOS / ArchINSTALLBUILDCHECKBUILD BIN
GISPA 1.22.0  (landing page)
Bhakti Dwivedi
git_last_commit: 7cb632d
git_last_commit_date: 2022-11-01 11:15:18 -0400
nebbiolo2Linux (Ubuntu 20.04.5 LTS) / x86_64  OK    OK    OK  UNNEEDED, same version is already published
palomino4Windows Server 2022 Datacenter / x64  OK    OK    OK    OK  UNNEEDED, same version is already published
lconwaymacOS 12.5.1 Monterey / x86_64  OK    OK    OK    OK  UNNEEDED, same version is already published
Package 194/462HostnameOS / ArchINSTALLBUILDCHECKBUILD BIN
GlobalAncova 4.16.0  (landing page)
Manuela Hummel
git_last_commit: 9f0109b
git_last_commit_date: 2022-11-01 10:39:59 -0400
nebbiolo2Linux (Ubuntu 20.04.5 LTS) / x86_64  OK    OK    OK  UNNEEDED, same version is already published
palomino4Windows Server 2022 Datacenter / x64  OK    OK    OK    OK  UNNEEDED, same version is already published
lconwaymacOS 12.5.1 Monterey / x86_64  OK    OK    OK    OK  UNNEEDED, same version is already published
Package 195/462HostnameOS / ArchINSTALLBUILDCHECKBUILD BIN
globaltest 5.52.1  (landing page)
Jelle Goeman
git_last_commit: ede9563
git_last_commit_date: 2023-03-20 10:18:15 -0400
nebbiolo2Linux (Ubuntu 20.04.5 LTS) / x86_64  OK    OK    OK  UNNEEDED, same version is already published
palomino4Windows Server 2022 Datacenter / x64  OK    OK    OK    OK  UNNEEDED, same version is already published
lconwaymacOS 12.5.1 Monterey / x86_64  OK    OK    OK    OK  UNNEEDED, same version is already published
Package 196/462HostnameOS / ArchINSTALLBUILDCHECKBUILD BIN
gmapR 1.40.0  (landing page)
Michael Lawrence
git_last_commit: ba9a187
git_last_commit_date: 2022-11-01 11:07:10 -0400
nebbiolo2Linux (Ubuntu 20.04.5 LTS) / x86_64  OK    OK    WARNINGS  UNNEEDED, same version is already published
palomino4Windows Server 2022 Datacenter / x64... NOT SUPPORTED ...
lconwaymacOS 12.5.1 Monterey / x86_64  ERROR    ERROR  skippedskipped
Package 197/462HostnameOS / ArchINSTALLBUILDCHECKBUILD BIN
GOexpress 1.32.0  (landing page)
Kevin Rue-Albrecht
git_last_commit: 071bfb7
git_last_commit_date: 2022-11-01 11:10:18 -0400
nebbiolo2Linux (Ubuntu 20.04.5 LTS) / x86_64  OK    OK    OK  UNNEEDED, same version is already published
palomino4Windows Server 2022 Datacenter / x64  OK    OK    OK    OK  UNNEEDED, same version is already published
lconwaymacOS 12.5.1 Monterey / x86_64  OK    OK    OK    OK  UNNEEDED, same version is already published
Package 198/462HostnameOS / ArchINSTALLBUILDCHECKBUILD BIN
goProfiles 1.60.0  (landing page)
Alex Sanchez
git_last_commit: f8ad359
git_last_commit_date: 2022-11-01 11:03:51 -0400
nebbiolo2Linux (Ubuntu 20.04.5 LTS) / x86_64  OK    OK    OK  UNNEEDED, same version is already published
palomino4Windows Server 2022 Datacenter / x64  OK    OK    OK    OK  UNNEEDED, same version is already published
lconwaymacOS 12.5.1 Monterey / x86_64  OK    OK    OK    OK  UNNEEDED, same version is already published
Package 199/462HostnameOS / ArchINSTALLBUILDCHECKBUILD BIN
GOstats 2.64.0  (landing page)
Bioconductor Package Maintainer
git_last_commit: 6281325
git_last_commit_date: 2022-11-01 10:37:26 -0400
nebbiolo2Linux (Ubuntu 20.04.5 LTS) / x86_64  OK    OK    OK  UNNEEDED, same version is already published
palomino4Windows Server 2022 Datacenter / x64  OK    OK    OK    OK  UNNEEDED, same version is already published
lconwaymacOS 12.5.1 Monterey / x86_64  OK    OK    OK    OK  UNNEEDED, same version is already published
Package 200/462HostnameOS / ArchINSTALLBUILDCHECKBUILD BIN
GSEABase 1.60.0  (landing page)
Bioconductor Package Maintainer
git_last_commit: aae4e52
git_last_commit_date: 2022-11-01 11:03:29 -0400
nebbiolo2Linux (Ubuntu 20.04.5 LTS) / x86_64  OK    OK    OK  UNNEEDED, same version is already published
palomino4Windows Server 2022 Datacenter / x64  OK    OK    OK    OK  UNNEEDED, same version is already published
lconwaymacOS 12.5.1 Monterey / x86_64  OK    OK    OK    OK  UNNEEDED, same version is already published
Package 201/462HostnameOS / ArchINSTALLBUILDCHECKBUILD BIN
GSEABenchmarkeR 1.18.0  (landing page)
Ludwig Geistlinger
git_last_commit: 144181f
git_last_commit_date: 2022-11-01 11:17:24 -0400
nebbiolo2Linux (Ubuntu 20.04.5 LTS) / x86_64  OK    OK    OK  UNNEEDED, same version is already published
palomino4Windows Server 2022 Datacenter / x64  OK    OK    OK    OK  UNNEEDED, same version is already published
lconwaymacOS 12.5.1 Monterey / x86_64  OK    OK    OK    OK  UNNEEDED, same version is already published
Package 202/462HostnameOS / ArchINSTALLBUILDCHECKBUILD BIN
GSEAlm 1.58.0  (landing page)
Assaf Oron
git_last_commit: f73d225
git_last_commit_date: 2022-11-01 11:03:46 -0400
nebbiolo2Linux (Ubuntu 20.04.5 LTS) / x86_64  OK    OK    OK  UNNEEDED, same version is already published
palomino4Windows Server 2022 Datacenter / x64  OK    OK    OK    OK  UNNEEDED, same version is already published
lconwaymacOS 12.5.1 Monterey / x86_64  OK    OK    OK    OK  UNNEEDED, same version is already published
Package 203/462HostnameOS / ArchINSTALLBUILDCHECKBUILD BIN
GSRI 2.46.0  (landing page)
Julian Gehring
git_last_commit: d0490c8
git_last_commit_date: 2022-11-01 11:05:04 -0400
nebbiolo2Linux (Ubuntu 20.04.5 LTS) / x86_64  OK    OK    OK  UNNEEDED, same version is already published
palomino4Windows Server 2022 Datacenter / x64  OK    OK    OK    OK  UNNEEDED, same version is already published
lconwaymacOS 12.5.1 Monterey / x86_64  OK    OK    OK    OK  UNNEEDED, same version is already published
Package 204/462HostnameOS / ArchINSTALLBUILDCHECKBUILD BIN
GSVA 1.46.0  (landing page)
Robert Castelo
git_last_commit: 4036d9f
git_last_commit_date: 2022-11-01 11:05:54 -0400
nebbiolo2Linux (Ubuntu 20.04.5 LTS) / x86_64  OK    OK    OK  UNNEEDED, same version is already published
palomino4Windows Server 2022 Datacenter / x64  OK    OK    OK    OK  UNNEEDED, same version is already published
lconwaymacOS 12.5.1 Monterey / x86_64  OK    OK    OK    OK  UNNEEDED, same version is already published
Package 205/462HostnameOS / ArchINSTALLBUILDCHECKBUILD BIN
Gviz 1.42.1  (landing page)
Robert Ivanek
git_last_commit: 9839dbb
git_last_commit_date: 2023-03-15 06:31:07 -0400
nebbiolo2Linux (Ubuntu 20.04.5 LTS) / x86_64  OK    OK    OK  UNNEEDED, same version is already published
palomino4Windows Server 2022 Datacenter / x64  OK    OK    OK    OK  UNNEEDED, same version is already published
lconwaymacOS 12.5.1 Monterey / x86_64  OK    OK    OK    OK  UNNEEDED, same version is already published
Package 206/462HostnameOS / ArchINSTALLBUILDCHECKBUILD BIN
GWASTools 1.44.0  (landing page)
Stephanie M. Gogarten
git_last_commit: 6788af5
git_last_commit_date: 2022-11-01 11:06:22 -0400
nebbiolo2Linux (Ubuntu 20.04.5 LTS)&n