Back to Multiple platform build/check report for BioC 3.16
[A]BCDEFGHIJKLMNOPQRSTUVWXYZ

This page was generated on 2022-08-06 11:04:45 -0400 (Sat, 06 Aug 2022).

HostnameOSArch (*)R versionInstalled pkgs
nebbiolo2Linux (Ubuntu 20.04.4 LTS)x86_644.2.1 (2022-06-23) -- "Funny-Looking Kid" 4371
palomino4Windows Server 2022 Datacenterx644.2.1 (2022-06-23 ucrt) -- "Funny-Looking Kid" 4155
lconwaymacOS 12.2.1 Montereyx86_644.2.1 Patched (2022-07-09 r82577) -- "Funny-Looking Kid" 4155
Click on any hostname to see more info about the system (e.g. compilers)      (*) as reported by 'uname -p', except on Windows and Mac OS X

INSTALL results for adSplit on nebbiolo2


To the developers/maintainers of the adSplit package:
- Please allow up to 24 hours (and sometimes 48 hours) for your latest push to git@git.bioconductor.org:packages/adSplit.git to
reflect on this report. See How and When does the builder pull? When will my changes propagate? for more information.
- Make sure to use the following settings in order to reproduce any error or warning you see on this page.

raw results

Package 19/2137HostnameOS / ArchINSTALLBUILDCHECKBUILD BIN
adSplit 1.67.0  (landing page)
Claudio Lottaz
Snapshot Date: 2022-08-05 14:00:05 -0400 (Fri, 05 Aug 2022)
git_url: https://git.bioconductor.org/packages/adSplit
git_branch: master
git_last_commit: d414710
git_last_commit_date: 2022-04-26 10:58:08 -0400 (Tue, 26 Apr 2022)
nebbiolo2Linux (Ubuntu 20.04.4 LTS) / x86_64  OK    OK    OK  UNNEEDED, same version is already published
palomino4Windows Server 2022 Datacenter / x64  OK    OK    OK    OK  UNNEEDED, same version is already published
lconwaymacOS 12.2.1 Monterey / x86_64  OK    OK    OK    OK  UNNEEDED, same version is already published

Summary

Package: adSplit
Version: 1.67.0
Command: /home/biocbuild/bbs-3.16-bioc/R/bin/R CMD INSTALL adSplit
StartedAt: 2022-08-05 15:12:07 -0400 (Fri, 05 Aug 2022)
EndedAt: 2022-08-05 15:12:24 -0400 (Fri, 05 Aug 2022)
EllapsedTime: 17.1 seconds
RetCode: 0
Status:   OK  

Command output

##############################################################################
##############################################################################
###
### Running command:
###
###   /home/biocbuild/bbs-3.16-bioc/R/bin/R CMD INSTALL adSplit
###
##############################################################################
##############################################################################


* installing to library ‘/home/biocbuild/bbs-3.16-bioc/R/library’
* installing *source* package ‘adSplit’ ...
** using staged installation
** libs
g++ -std=gnu++14 -I"/home/biocbuild/bbs-3.16-bioc/R/include" -DNDEBUG   -I/usr/local/include   -fpic  -g -O2  -Wall -c adSplit.cpp -o adSplit.o
g++ -std=gnu++14 -shared -L/home/biocbuild/bbs-3.16-bioc/R/lib -L/usr/local/lib -o adSplit.so adSplit.o -L/home/biocbuild/bbs-3.16-bioc/R/lib -lR
installing to /home/biocbuild/bbs-3.16-bioc/R/library/00LOCK-adSplit/00new/adSplit/libs
** R
** data
** byte-compile and prepare package for lazy loading
** help
*** installing help indices
** building package indices
** installing vignettes
** testing if installed package can be loaded from temporary location
** checking absolute paths in shared objects and dynamic libraries
** testing if installed package can be loaded from final location
** testing if installed package keeps a record of temporary installation path
* DONE (adSplit)