Back to Multiple platform build/check report for BioC 3.16:   simplified   long
ABCDEFGHIJKLMNO[P]QRSTUVWXYZ

This page was generated on 2023-03-22 11:06:18 -0400 (Wed, 22 Mar 2023).

HostnameOSArch (*)R versionInstalled pkgs
nebbiolo2Linux (Ubuntu 20.04.5 LTS)x86_644.2.3 (2023-03-15) -- "Shortstop Beagle" 4271
palomino4Windows Server 2022 Datacenterx644.2.3 (2023-03-15 ucrt) -- "Shortstop Beagle" 4214
lconwaymacOS 12.5.1 Montereyx86_644.2.3 (2023-03-15) -- "Shortstop Beagle" 4259
Click on any hostname to see more info about the system (e.g. compilers)      (*) as reported by 'uname -p', except on Windows and Mac OS X

BUILD BIN results for PREDA on lconway


To the developers/maintainers of the PREDA package:
- Please allow up to 24 hours (and sometimes 48 hours) for your latest push to git@git.bioconductor.org:packages/PREDA.git to
reflect on this report. See How and When does the builder pull? When will my changes propagate? for more information.
- Make sure to use the following settings in order to reproduce any error or warning you see on this page.

raw results

Package 1517/2183HostnameOS / ArchINSTALLBUILDCHECKBUILD BIN
PREDA 1.44.0  (landing page)
Francesco Ferrari
Snapshot Date: 2023-03-20 14:00:04 -0400 (Mon, 20 Mar 2023)
git_url: https://git.bioconductor.org/packages/PREDA
git_branch: RELEASE_3_16
git_last_commit: a69196b
git_last_commit_date: 2022-11-01 11:06:08 -0400 (Tue, 01 Nov 2022)
nebbiolo2Linux (Ubuntu 20.04.5 LTS) / x86_64  OK    OK    WARNINGS  UNNEEDED, same version is already published
palomino4Windows Server 2022 Datacenter / x64  OK    OK    WARNINGS    OK  UNNEEDED, same version is already published
lconwaymacOS 12.5.1 Monterey / x86_64  OK    OK    WARNINGS    OK  UNNEEDED, same version is already published

Summary

Package: PREDA
Version: 1.44.0
Command: rm -rf PREDA.buildbin-libdir && mkdir PREDA.buildbin-libdir && /Users/biocbuild/BBS/utils/build-universal.sh PREDA_1.44.0.tar.gz /Library/Frameworks/R.framework/Resources/bin/R PREDA.buildbin-libdir
StartedAt: 2023-03-21 00:13:43 -0400 (Tue, 21 Mar 2023)
EndedAt: 2023-03-21 00:14:12 -0400 (Tue, 21 Mar 2023)
EllapsedTime: 29.1 seconds
RetCode: 0
Status:   OK  
PackageFile: PREDA_1.44.0.tgz
PackageFileSize: 1.975 MiB

Command output

##############################################################################
##############################################################################
###
### Running command:
###
###   rm -rf PREDA.buildbin-libdir && mkdir PREDA.buildbin-libdir && /Users/biocbuild/BBS/utils/build-universal.sh PREDA_1.44.0.tar.gz /Library/Frameworks/R.framework/Resources/bin/R PREDA.buildbin-libdir
###
##############################################################################
##############################################################################


>>>>>>> 
>>>>>>> INSTALLATION WITH 'R CMD INSTALL --preclean --no-multiarch --library=PREDA.buildbin-libdir PREDA_1.44.0.tar.gz'
>>>>>>> 

* installing *source* package ‘PREDA’ ...
** using staged installation
** R
** inst
** byte-compile and prepare package for lazy loading
** help
*** installing help indices
** building package indices
** installing vignettes
** testing if installed package can be loaded from temporary location
** testing if installed package can be loaded from final location
** testing if installed package keeps a record of temporary installation path
* DONE (PREDA)