Back to Multiple platform build/check report for BioC 3.16:   simplified   long
[A]BCDEFGHIJKLMNOPQRSTUVWXYZ

This page was generated on 2023-03-31 11:04:41 -0400 (Fri, 31 Mar 2023).

HostnameOSArch (*)R versionInstalled pkgs
nebbiolo2Linux (Ubuntu 20.04.5 LTS)x86_644.2.3 (2023-03-15) -- "Shortstop Beagle" 4498
palomino4Windows Server 2022 Datacenterx644.2.3 (2023-03-15 ucrt) -- "Shortstop Beagle" 4278
lconwaymacOS 12.5.1 Montereyx86_644.2.3 (2023-03-15) -- "Shortstop Beagle" 4306
Click on any hostname to see more info about the system (e.g. compilers)      (*) as reported by 'uname -p', except on Windows and Mac OS X

All results for package AnnotationDbi


To the developers/maintainers of the AnnotationDbi package:
- Please allow up to 24 hours (and sometimes 48 hours) for your latest push to git@git.bioconductor.org:packages/AnnotationDbi.git to
reflect on this report. See How and When does the builder pull? When will my changes propagate? for more information.
- Make sure to use the following settings in order to reproduce any error or warning you see on this page.

raw results

Package 56/2183HostnameOS / ArchINSTALLBUILDCHECKBUILD BIN
AnnotationDbi 1.60.2  (landing page)
Bioconductor Package Maintainer
Snapshot Date: 2023-03-29 14:00:04 -0400 (Wed, 29 Mar 2023)
git_url: https://git.bioconductor.org/packages/AnnotationDbi
git_branch: RELEASE_3_16
git_last_commit: eebebb2
git_last_commit_date: 2023-03-09 16:47:17 -0400 (Thu, 09 Mar 2023)
nebbiolo2Linux (Ubuntu 20.04.5 LTS) / x86_64  OK    OK    OK  UNNEEDED, same version is already published
palomino4Windows Server 2022 Datacenter / x64  OK    OK    OK    OK  UNNEEDED, same version is already published
lconwaymacOS 12.5.1 Monterey / x86_64  OK    OK    OK    OK  UNNEEDED, same version is already published

Results for Bioconductor software packages that depend directly on package AnnotationDbi

QUICK STATSOS / ArchINSTALLBUILDCHECKBUILD BIN
nebbiolo2Linux (Ubuntu 20.04.5 LTS) / x86_64
01190
05186
0729150
palomino4Windows Server 2022 Datacenter / x64
01190
09182
0630146
00182
lconwaymacOS 12.5.1 Monterey / x86_64
01190
06185
0529151
00185
Package 1/191HostnameOS / ArchINSTALLBUILDCHECKBUILD BIN
adSplit 1.68.0  (landing page)
Claudio Lottaz
git_last_commit: 705977b
git_last_commit_date: 2022-11-01 10:40:46 -0400
nebbiolo2Linux (Ubuntu 20.04.5 LTS) / x86_64  OK    OK    OK  UNNEEDED, same version is already published
palomino4Windows Server 2022 Datacenter / x64  OK    OK    OK    OK  UNNEEDED, same version is already published
lconwaymacOS 12.5.1 Monterey / x86_64  OK    OK    OK    OK  UNNEEDED, same version is already published
Package 2/191HostnameOS / ArchINSTALLBUILDCHECKBUILD BIN
affycoretools 1.70.0  (landing page)
James W. MacDonald
git_last_commit: f09a788
git_last_commit_date: 2022-11-01 10:40:10 -0400
nebbiolo2Linux (Ubuntu 20.04.5 LTS) / x86_64  OK    OK    OK  UNNEEDED, same version is already published
palomino4Windows Server 2022 Datacenter / x64  OK    OK    OK    OK  UNNEEDED, same version is already published
lconwaymacOS 12.5.1 Monterey / x86_64  OK    OK    OK    OK  UNNEEDED, same version is already published
Package 3/191HostnameOS / ArchINSTALLBUILDCHECKBUILD BIN
affylmGUI 1.72.0  (landing page)
Gordon Smyth
git_last_commit: eb98eb8
git_last_commit_date: 2022-11-01 10:37:05 -0400
nebbiolo2Linux (Ubuntu 20.04.5 LTS) / x86_64  OK    OK    OK  UNNEEDED, same version is already published
palomino4Windows Server 2022 Datacenter / x64  OK    OK    OK    OK  UNNEEDED, same version is already published
lconwaymacOS 12.5.1 Monterey / x86_64  OK    OK    OK    OK  UNNEEDED, same version is already published
Package 4/191HostnameOS / ArchINSTALLBUILDCHECKBUILD BIN
AllelicImbalance 1.36.0  (landing page)
Jesper R Gadin
git_last_commit: cb4910c
git_last_commit_date: 2022-11-01 11:08:46 -0400
nebbiolo2Linux (Ubuntu 20.04.5 LTS) / x86_64  OK    OK    OK  UNNEEDED, same version is already published
palomino4Windows Server 2022 Datacenter / x64  OK    OK    OK    OK  UNNEEDED, same version is already published
lconwaymacOS 12.5.1 Monterey / x86_64  OK    OK    OK    OK  UNNEEDED, same version is already published
Package 5/191HostnameOS / ArchINSTALLBUILDCHECKBUILD BIN
annaffy 1.70.0  (landing page)
Colin A. Smith
git_last_commit: c99e812
git_last_commit_date: 2022-11-01 10:35:52 -0400
nebbiolo2Linux (Ubuntu 20.04.5 LTS) / x86_64  OK    OK    WARNINGS  UNNEEDED, same version is already published
palomino4Windows Server 2022 Datacenter / x64  OK    OK    WARNINGS    OK  UNNEEDED, same version is already published
lconwaymacOS 12.5.1 Monterey / x86_64  OK    OK    WARNINGS    OK  UNNEEDED, same version is already published
Package 6/191HostnameOS / ArchINSTALLBUILDCHECKBUILD BIN
annotate 1.76.0  (landing page)
Bioconductor Package Maintainer
git_last_commit: 0181d5c
git_last_commit_date: 2022-11-01 10:34:51 -0400
nebbiolo2Linux (Ubuntu 20.04.5 LTS) / x86_64  OK    OK    OK  UNNEEDED, same version is already published
palomino4Windows Server 2022 Datacenter / x64  OK    OK    ERROR    OK  
lconwaymacOS 12.5.1 Monterey / x86_64  OK    OK    OK    OK  UNNEEDED, same version is already published
Package 7/191HostnameOS / ArchINSTALLBUILDCHECKBUILD BIN
AnnotationForge 1.40.2  (landing page)
Bioconductor Package Maintainer
git_last_commit: 17653c7
git_last_commit_date: 2023-03-25 16:39:02 -0400
nebbiolo2Linux (Ubuntu 20.04.5 LTS) / x86_64  OK    OK    OK  UNNEEDED, same version is already published
palomino4Windows Server 2022 Datacenter / x64  OK    OK    OK    OK  UNNEEDED, same version is already published
lconwaymacOS 12.5.1 Monterey / x86_64  OK    OK    OK    OK  UNNEEDED, same version is already published
Package 8/191HostnameOS / ArchINSTALLBUILDCHECKBUILD BIN
AnnotationHub 3.6.0  (landing page)
Bioconductor Package Maintainer
git_last_commit: 3315a73
git_last_commit_date: 2022-11-01 11:08:05 -0400
nebbiolo2Linux (Ubuntu 20.04.5 LTS) / x86_64  OK    OK    ERROR  
palomino4Windows Server 2022 Datacenter / x64  OK    OK    ERROR    OK  
lconwaymacOS 12.5.1 Monterey / x86_64  OK    OK    ERROR    OK  
Package 9/191HostnameOS / ArchINSTALLBUILDCHECKBUILD BIN
AnnotationHubData 1.28.0  (landing page)
Bioconductor Package Maintainer
git_last_commit: 37f43f7
git_last_commit_date: 2022-11-01 11:12:08 -0400
nebbiolo2Linux (Ubuntu 20.04.5 LTS) / x86_64  OK    OK    WARNINGS  UNNEEDED, same version is already published
palomino4Windows Server 2022 Datacenter / x64  OK    OK    WARNINGS    OK  UNNEEDED, same version is already published
lconwaymacOS 12.5.1 Monterey / x86_64  OK    OK    WARNINGS    OK  UNNEEDED, same version is already published
Package 10/191HostnameOS / ArchINSTALLBUILDCHECKBUILD BIN
annotatr 1.24.0  (landing page)
Raymond G. Cavalcante
git_last_commit: 84619b5
git_last_commit_date: 2022-11-01 11:14:43 -0400
nebbiolo2Linux (Ubuntu 20.04.5 LTS) / x86_64  OK    OK    OK  UNNEEDED, same version is already published
palomino4Windows Server 2022 Datacenter / x64  OK    OK    OK    OK  UNNEEDED, same version is already published
lconwaymacOS 12.5.1 Monterey / x86_64  OK    OK    OK    OK  UNNEEDED, same version is already published
Package 11/191HostnameOS / ArchINSTALLBUILDCHECKBUILD BIN
artMS 1.16.0  (landing page)
David Jimenez-Morales
git_last_commit: 0633a95
git_last_commit_date: 2022-11-01 11:18:48 -0400
nebbiolo2Linux (Ubuntu 20.04.5 LTS) / x86_64  OK    OK    OK  UNNEEDED, same version is already published
palomino4Windows Server 2022 Datacenter / x64  OK    OK    OK    OK  UNNEEDED, same version is already published
lconwaymacOS 12.5.1 Monterey / x86_64  OK    OK    OK    OK  UNNEEDED, same version is already published
Package 12/191HostnameOS / ArchINSTALLBUILDCHECKBUILD BIN
ASpli 2.8.0  (landing page)
Estefania Mancini
git_last_commit: ff40685
git_last_commit_date: 2022-11-01 11:14:10 -0400
nebbiolo2Linux (Ubuntu 20.04.5 LTS) / x86_64  OK    OK    OK  UNNEEDED, same version is already published
palomino4Windows Server 2022 Datacenter / x64  OK    OK    OK    OK  UNNEEDED, same version is already published
lconwaymacOS 12.5.1 Monterey / x86_64  OK    OK    OK    OK  UNNEEDED, same version is already published
Package 13/191HostnameOS / ArchINSTALLBUILDCHECKBUILD BIN
attract 1.50.0  (landing page)
Samuel Zimmerman
git_last_commit: 2df810f
git_last_commit_date: 2022-11-01 11:05:07 -0400
nebbiolo2Linux (Ubuntu 20.04.5 LTS) / x86_64  OK    OK    OK  UNNEEDED, same version is already published
palomino4Windows Server 2022 Datacenter / x64  OK    OK    OK    OK  UNNEEDED, same version is already published
lconwaymacOS 12.5.1 Monterey / x86_64  OK    OK    OK    OK  UNNEEDED, same version is already published
Package 14/191HostnameOS / ArchINSTALLBUILDCHECKBUILD BIN
beadarray 2.48.0  (landing page)
Mark Dunning
git_last_commit: 3db0e75
git_last_commit_date: 2022-11-01 10:40:39 -0400
nebbiolo2Linux (Ubuntu 20.04.5 LTS) / x86_64  OK    OK    OK  UNNEEDED, same version is already published
palomino4Windows Server 2022 Datacenter / x64  OK    OK    OK    OK  UNNEEDED, same version is already published
lconwaymacOS 12.5.1 Monterey / x86_64  OK    OK    OK    OK  UNNEEDED, same version is already published
Package 15/191HostnameOS / ArchINSTALLBUILDCHECKBUILD BIN
bioCancer 1.26.04  (landing page)
Karim Mezhoud
git_last_commit: 6c0335a
git_last_commit_date: 2023-02-03 09:19:32 -0400
nebbiolo2Linux (Ubuntu 20.04.5 LTS) / x86_64  OK    OK    OK  UNNEEDED, same version is already published
palomino4Windows Server 2022 Datacenter / x64  OK    OK    OK    OK  UNNEEDED, same version is already published
lconwaymacOS 12.5.1 Monterey / x86_64  OK    OK    OK    OK  UNNEEDED, same version is already published
Package 16/191HostnameOS / ArchINSTALLBUILDCHECKBUILD BIN
BiocSet 1.12.1  (landing page)
Kayla Morrell
git_last_commit: 9d2263e
git_last_commit_date: 2022-12-30 09:49:20 -0400
nebbiolo2Linux (Ubuntu 20.04.5 LTS) / x86_64  OK    OK    OK  UNNEEDED, same version is already published
palomino4Windows Server 2022 Datacenter / x64  OK    OK    OK    OK  UNNEEDED, same version is already published
lconwaymacOS 12.5.1 Monterey / x86_64  OK    OK    OK    OK  UNNEEDED, same version is already published
Package 17/191HostnameOS / ArchINSTALLBUILDCHECKBUILD BIN
biomaRt 2.54.1  (landing page)
Mike Smith
git_last_commit: d5412fb
git_last_commit_date: 2023-03-20 08:57:14 -0400
nebbiolo2Linux (Ubuntu 20.04.5 LTS) / x86_64  OK    OK    OK  UNNEEDED, same version is already published
palomino4Windows Server 2022 Datacenter / x64  OK    OK    OK    OK  UNNEEDED, same version is already published
lconwaymacOS 12.5.1 Monterey / x86_64  OK    OK    OK    OK  UNNEEDED, same version is already published
Package 18/191HostnameOS / ArchINSTALLBUILDCHECKBUILD BIN
BioNAR 1.0.0  (landing page)
Anatoly Sorokin
git_last_commit: f9c6c3c
git_last_commit_date: 2022-11-01 11:27:44 -0400
nebbiolo2Linux (Ubuntu 20.04.5 LTS) / x86_64  OK    OK    OK  UNNEEDED, same version is already published
palomino4Windows Server 2022 Datacenter / x64  OK    OK    OK    OK  UNNEEDED, same version is already published
lconwaymacOS 12.5.1 Monterey / x86_64  OK    OK    OK    OK  UNNEEDED, same version is already published
Package 19/191HostnameOS / ArchINSTALLBUILDCHECKBUILD BIN
BioNet 1.58.0  (landing page)
Marcus Dittrich
git_last_commit: 462aa3b
git_last_commit_date: 2022-11-01 11:05:12 -0400
nebbiolo2Linux (Ubuntu 20.04.5 LTS) / x86_64  OK    OK    OK  UNNEEDED, same version is already published
palomino4Windows Server 2022 Datacenter / x64  OK    OK    OK    OK  UNNEEDED, same version is already published
lconwaymacOS 12.5.1 Monterey / x86_64  OK    OK    OK    OK  UNNEEDED, same version is already published
Package 20/191HostnameOS / ArchINSTALLBUILDCHECKBUILD BIN
biovizBase 1.46.0  (landing page)
Michael Lawrence
git_last_commit: a47060c
git_last_commit_date: 2022-11-01 11:06:19 -0400
nebbiolo2Linux (Ubuntu 20.04.5 LTS) / x86_64  OK    OK    WARNINGS  UNNEEDED, same version is already published
palomino4Windows Server 2022 Datacenter / x64  OK    OK    WARNINGS    OK  UNNEEDED, same version is already published
lconwaymacOS 12.5.1 Monterey / x86_64  OK    OK    WARNINGS    OK  UNNEEDED, same version is already published
Package 21/191HostnameOS / ArchINSTALLBUILDCHECKBUILD BIN
bumphunter 1.40.0  (landing page)
Tamilselvi Guharaj
git_last_commit: 3de207a
git_last_commit_date: 2022-11-01 16:40:40 -0400
nebbiolo2Linux (Ubuntu 20.04.5 LTS) / x86_64  OK    OK    OK  UNNEEDED, same version is already published
palomino4Windows Server 2022 Datacenter / x64  OK    OK    OK    OK  UNNEEDED, same version is already published
lconwaymacOS 12.5.1 Monterey / x86_64  OK    OK    OK    OK  UNNEEDED, same version is already published
Package 22/191HostnameOS / ArchINSTALLBUILDCHECKBUILD BIN
BUSpaRse 1.12.2  (landing page)
Lambda Moses
git_last_commit: 071ebd9
git_last_commit_date: 2023-01-19 11:15:07 -0400
nebbiolo2Linux (Ubuntu 20.04.5 LTS) / x86_64  OK    OK    OK  UNNEEDED, same version is already published
palomino4Windows Server 2022 Datacenter / x64  OK    OK    OK    OK  UNNEEDED, same version is already published
lconwaymacOS 12.5.1 Monterey / x86_64  OK    OK    OK    OK  UNNEEDED, same version is already published
Package 23/191HostnameOS / ArchINSTALLBUILDCHECKBUILD BIN
Category 2.64.0  (landing page)
Bioconductor Package Maintainer
git_last_commit: b512cbe
git_last_commit_date: 2022-11-01 10:39:25 -0400
nebbiolo2Linux (Ubuntu 20.04.5 LTS) / x86_64  OK    OK    OK  UNNEEDED, same version is already published
palomino4Windows Server 2022 Datacenter / x64  OK    OK    OK    OK  UNNEEDED, same version is already published
lconwaymacOS 12.5.1 Monterey / x86_64  OK    OK    OK    OK  UNNEEDED, same version is already published
Package 24/191HostnameOS / ArchINSTALLBUILDCHECKBUILD BIN
categoryCompare 1.42.0  (landing page)
Robert M. Flight
git_last_commit: a854c2a
git_last_commit_date: 2022-11-01 11:06:57 -0400
nebbiolo2Linux (Ubuntu 20.04.5 LTS) / x86_64  OK    OK    OK  UNNEEDED, same version is already published
palomino4Windows Server 2022 Datacenter / x64  OK    OK    OK    OK  UNNEEDED, same version is already published
lconwaymacOS 12.5.1 Monterey / x86_64  OK    OK    OK    OK  UNNEEDED, same version is already published
Package 25/191HostnameOS / ArchINSTALLBUILDCHECKBUILD BIN
ccmap 1.24.0  (landing page)
Alex Pickering
git_last_commit: 724592b
git_last_commit_date: 2022-11-01 11:13:57 -0400
nebbiolo2Linux (Ubuntu 20.04.5 LTS) / x86_64  OK    OK    WARNINGS  UNNEEDED, same version is already published
palomino4Windows Server 2022 Datacenter / x64  OK    OK    WARNINGS    OK  UNNEEDED, same version is already published
lconwaymacOS 12.5.1 Monterey / x86_64  OK    OK    WARNINGS    OK  UNNEEDED, same version is already published
Package 26/191HostnameOS / ArchINSTALLBUILDCHECKBUILD BIN
cellity 1.26.0  (landing page)
Tomislav Ilicic
git_last_commit: fa441f5
git_last_commit_date: 2022-11-01 11:12:59 -0400
nebbiolo2Linux (Ubuntu 20.04.5 LTS) / x86_64  OK    OK    OK  UNNEEDED, same version is already published
palomino4Windows Server 2022 Datacenter / x64  OK    OK    OK    OK  UNNEEDED, same version is already published
lconwaymacOS 12.5.1 Monterey / x86_64  OK    OK    OK    OK  UNNEEDED, same version is already published
Package 27/191HostnameOS / ArchINSTALLBUILDCHECKBUILD BIN
chimeraviz 1.24.0  (landing page)
Stian Lågstad
git_last_commit: 0f9835a
git_last_commit_date: 2022-11-01 11:14:55 -0400
nebbiolo2Linux (Ubuntu 20.04.5 LTS) / x86_64  OK    OK    OK  UNNEEDED, same version is already published
palomino4Windows Server 2022 Datacenter / x64  OK    OK    OK    OK  UNNEEDED, same version is already published
lconwaymacOS 12.5.1 Monterey / x86_64  OK    OK    OK    OK  UNNEEDED, same version is already published
Package 28/191HostnameOS / ArchINSTALLBUILDCHECKBUILD BIN
chipenrich 2.22.0  (landing page)
Raymond G. Cavalcante
git_last_commit: 9191beb
git_last_commit_date: 2022-11-01 11:08:40 -0400
nebbiolo2Linux (Ubuntu 20.04.5 LTS) / x86_64  OK    OK    OK  UNNEEDED, same version is already published
palomino4Windows Server 2022 Datacenter / x64  OK    OK    OK    OK  UNNEEDED, same version is already published
lconwaymacOS 12.5.1 Monterey / x86_64  OK    OK    OK    OK  UNNEEDED, same version is already published
Package 29/191HostnameOS / ArchINSTALLBUILDCHECKBUILD BIN
ChIPpeakAnno 3.32.0  (landing page)
Jianhong Ou
git_last_commit: 016661f
git_last_commit_date: 2022-11-01 11:04:34 -0400
nebbiolo2Linux (Ubuntu 20.04.5 LTS) / x86_64  OK    OK    OK  UNNEEDED, same version is already published
palomino4Windows Server 2022 Datacenter / x64  OK    OK    OK    OK  UNNEEDED, same version is already published
lconwaymacOS 12.5.1 Monterey / x86_64  OK    OK    OK    OK  UNNEEDED, same version is already published
Package 30/191HostnameOS / ArchINSTALLBUILDCHECKBUILD BIN
ChIPseeker 1.34.1  (landing page)
Guangchuang Yu
git_last_commit: 4bf5e4f
git_last_commit_date: 2022-11-20 22:15:00 -0400
nebbiolo2Linux (Ubuntu 20.04.5 LTS) / x86_64  OK    OK    OK  UNNEEDED, same version is already published
palomino4Windows Server 2022 Datacenter / x64  OK    OK    OK    OK  UNNEEDED, same version is already published
lconwaymacOS 12.5.1 Monterey / x86_64  OK    OK    OK    OK  UNNEEDED, same version is already published
Package 31/191HostnameOS / ArchINSTALLBUILDCHECKBUILD BIN
ChromHeatMap 1.52.0  (landing page)
Tim F. Rayner
git_last_commit: eebc617
git_last_commit_date: 2022-11-01 11:04:42 -0400
nebbiolo2Linux (Ubuntu 20.04.5 LTS) / x86_64  OK    OK    OK  UNNEEDED, same version is already published
palomino4Windows Server 2022 Datacenter / x64  OK    OK    OK    OK  UNNEEDED, same version is already published
lconwaymacOS 12.5.1 Monterey / x86_64  OK    OK    OK    OK  UNNEEDED, same version is already published
Package 32/191HostnameOS / ArchINSTALLBUILDCHECKBUILD BIN
clusterProfiler 4.6.2  (landing page)
Guangchuang Yu
git_last_commit: 7d3f3cd
git_last_commit_date: 2023-03-05 04:23:05 -0400
nebbiolo2Linux (Ubuntu 20.04.5 LTS) / x86_64  OK    OK    OK  UNNEEDED, same version is already published
palomino4Windows Server 2022 Datacenter / x64  OK    OK    OK    OK  UNNEEDED, same version is already published
lconwaymacOS 12.5.1 Monterey / x86_64  OK    OK    OK    OK  UNNEEDED, same version is already published
Package 33/191HostnameOS / ArchINSTALLBUILDCHECKBUILD BIN
CoCiteStats 1.70.0  (landing page)
Bioconductor Package Maintainer
git_last_commit: 78eeb05
git_last_commit_date: 2022-11-01 10:38:29 -0400
nebbiolo2Linux (Ubuntu 20.04.5 LTS) / x86_64  OK    OK    OK  UNNEEDED, same version is already published
palomino4Windows Server 2022 Datacenter / x64  OK    OK    OK    OK  UNNEEDED, same version is already published
lconwaymacOS 12.5.1 Monterey / x86_64  OK    OK    OK    OK  UNNEEDED, same version is already published
Package 34/191HostnameOS / ArchINSTALLBUILDCHECKBUILD BIN
Cogito 1.4.0  (landing page)
Annika Bürger
git_last_commit: 39b4f95
git_last_commit_date: 2022-11-01 11:25:54 -0400
nebbiolo2Linux (Ubuntu 20.04.5 LTS) / x86_64  OK    OK    OK  UNNEEDED, same version is already published
palomino4Windows Server 2022 Datacenter / x64  OK    OK    OK    OK  UNNEEDED, same version is already published
lconwaymacOS 12.5.1 Monterey / x86_64  OK    OK    OK    OK  UNNEEDED, same version is already published
Package 35/191HostnameOS / ArchINSTALLBUILDCHECKBUILD BIN
compEpiTools 1.32.0  (landing page)
Kamal Kishore
git_last_commit: a41173d
git_last_commit_date: 2022-11-01 11:10:09 -0400
nebbiolo2Linux (Ubuntu 20.04.5 LTS) / x86_64  OK    OK    WARNINGS  UNNEEDED, same version is already published
palomino4Windows Server 2022 Datacenter / x64  OK    OK    WARNINGS    OK  UNNEEDED, same version is already published
lconwaymacOS 12.5.1 Monterey / x86_64  OK    OK    WARNINGS    OK  UNNEEDED, same version is already published
Package 36/191HostnameOS / ArchINSTALLBUILDCHECKBUILD BIN
conclus 1.6.0  (landing page)
Ilyess Rachedi
git_last_commit: 08522fb
git_last_commit_date: 2022-11-01 11:24:34 -0400
nebbiolo2Linux (Ubuntu 20.04.5 LTS) / x86_64  OK    ERROR  skipped
palomino4Windows Server 2022 Datacenter / x64  OK    ERROR  skippedskipped
lconwaymacOS 12.5.1 Monterey / x86_64  OK    ERROR  skippedskipped
Package 37/191HostnameOS / ArchINSTALLBUILDCHECKBUILD BIN
consensusDE 1.16.0  (landing page)
Ashley J. Waardenberg
git_last_commit: 4b085f5
git_last_commit_date: 2022-11-01 11:18:46 -0400
nebbiolo2Linux (Ubuntu 20.04.5 LTS) / x86_64  OK    OK    OK  UNNEEDED, same version is already published
palomino4Windows Server 2022 Datacenter / x64  OK    OK    OK    OK  UNNEEDED, same version is already published
lconwaymacOS 12.5.1 Monterey / x86_64  OK    OK    OK    OK  UNNEEDED, same version is already published
Package 38/191HostnameOS / ArchINSTALLBUILDCHECKBUILD BIN
crisprDesign 1.0.0  (landing page)
Jean-Philippe Fortin
git_last_commit: cd58577
git_last_commit_date: 2022-11-01 11:27:20 -0400
nebbiolo2Linux (Ubuntu 20.04.5 LTS) / x86_64  OK    OK    OK  UNNEEDED, same version is already published
palomino4Windows Server 2022 Datacenter / x64  OK    OK    OK    OK  UNNEEDED, same version is already published
lconwaymacOS 12.5.1 Monterey / x86_64  OK    OK    OK    OK  UNNEEDED, same version is already published
Package 39/191HostnameOS / ArchINSTALLBUILDCHECKBUILD BIN
crisprseekplus 1.24.0  (landing page)
Alper Kucukural
git_last_commit: 95b4b22
git_last_commit_date: 2022-11-01 11:14:42 -0400
nebbiolo2Linux (Ubuntu 20.04.5 LTS) / x86_64  OK    OK    OK  UNNEEDED, same version is already published
palomino4Windows Server 2022 Datacenter / x64  OK    OK    OK    OK  UNNEEDED, same version is already published
lconwaymacOS 12.5.1 Monterey / x86_64  OK    OK    OK    OK  UNNEEDED, same version is already published
Package 40/191HostnameOS / ArchINSTALLBUILDCHECKBUILD BIN
CrispRVariants 1.26.0  (landing page)
Helen Lindsay
git_last_commit: f5240e3
git_last_commit_date: 2022-11-01 11:12:41 -0400
nebbiolo2Linux (Ubuntu 20.04.5 LTS) / x86_64  OK    OK    WARNINGS  UNNEEDED, same version is already published
palomino4Windows Server 2022 Datacenter / x64  OK    OK    WARNINGS    OK  UNNEEDED, same version is already published
lconwaymacOS 12.5.1 Monterey / x86_64  OK    OK    WARNINGS    OK  UNNEEDED, same version is already published
Package 41/191HostnameOS / ArchINSTALLBUILDCHECKBUILD BIN
crossmeta 1.24.0  (landing page)
Alex Pickering
git_last_commit: 6c5c2d8
git_last_commit_date: 2022-11-01 11:13:53 -0400
nebbiolo2Linux (Ubuntu 20.04.5 LTS) / x86_64  OK    OK    OK  UNNEEDED, same version is already published
palomino4Windows Server 2022 Datacenter / x64  OK    OK    OK    OK  UNNEEDED, same version is already published
lconwaymacOS 12.5.1 Monterey / x86_64  OK    OK    OK    OK  UNNEEDED, same version is already published
Package 42/191HostnameOS / ArchINSTALLBUILDCHECKBUILD BIN
cTRAP 1.16.0  (landing page)
Nuno Saraiva-Agostinho
git_last_commit: 2c43ff9
git_last_commit_date: 2022-11-01 11:18:44 -0400
nebbiolo2Linux (Ubuntu 20.04.5 LTS) / x86_64  OK    OK    OK  UNNEEDED, same version is already published
palomino4Windows Server 2022 Datacenter / x64  OK    OK    WARNINGS    OK  UNNEEDED, same version is already published
lconwaymacOS 12.5.1 Monterey / x86_64  OK    OK    OK    OK  UNNEEDED, same version is already published
Package 43/191HostnameOS / ArchINSTALLBUILDCHECKBUILD BIN
customProDB 1.38.0  (landing page)
Xiaojing Wang
git_last_commit: cfe95f1
git_last_commit_date: 2022-11-01 11:08:20 -0400
nebbiolo2Linux (Ubuntu 20.04.5 LTS) / x86_64  OK    OK    OK  UNNEEDED, same version is already published
palomino4Windows Server 2022 Datacenter / x64  OK    OK    OK    OK  UNNEEDED, same version is already published
lconwaymacOS 12.5.1 Monterey / x86_64  OK    OK    OK    OK  UNNEEDED, same version is already published
Package 44/191HostnameOS / ArchINSTALLBUILDCHECKBUILD BIN
debrowser 1.26.3  (landing page)
Alper Kucukural
git_last_commit: 4fb9588
git_last_commit_date: 2023-03-12 18:21:05 -0400
nebbiolo2Linux (Ubuntu 20.04.5 LTS) / x86_64  OK    OK    OK  UNNEEDED, same version is already published
palomino4Windows Server 2022 Datacenter / x64  OK    OK    OK    OK  UNNEEDED, same version is already published
lconwaymacOS 12.5.1 Monterey / x86_64  OK    OK    OK    OK  UNNEEDED, same version is already published
Package 45/191HostnameOS / ArchINSTALLBUILDCHECKBUILD BIN
deco 1.14.0  (landing page)
Francisco Jose Campos Laborie
git_last_commit: f841d97
git_last_commit_date: 2022-11-01 11:19:01 -0400
nebbiolo2Linux (Ubuntu 20.04.5 LTS) / x86_64  OK    OK    ERROR  
palomino4Windows Server 2022 Datacenter / x64  OK    OK    OK    OK  UNNEEDED, same version is already published
lconwaymacOS 12.5.1 Monterey / x86_64  OK    OK    OK    OK  UNNEEDED, same version is already published
Package 46/191HostnameOS / ArchINSTALLBUILDCHECKBUILD BIN
derfinder 1.32.0  (landing page)
Leonardo Collado-Torres
git_last_commit: d837971
git_last_commit_date: 2022-11-01 11:10:24 -0400
nebbiolo2Linux (Ubuntu 20.04.5 LTS) / x86_64  OK    OK    OK  UNNEEDED, same version is already published
palomino4Windows Server 2022 Datacenter / x64  OK    OK    OK    OK  UNNEEDED, same version is already published
lconwaymacOS 12.5.1 Monterey / x86_64  OK    OK    OK    OK  UNNEEDED, same version is already published
Package 47/191HostnameOS / ArchINSTALLBUILDCHECKBUILD BIN
DEXSeq 1.44.0  (landing page)
Alejandro Reyes
git_last_commit: 9660d73
git_last_commit_date: 2022-11-01 11:05:59 -0400
nebbiolo2Linux (Ubuntu 20.04.5 LTS) / x86_64  OK    OK    OK  UNNEEDED, same version is already published
palomino4Windows Server 2022 Datacenter / x64  OK    OK    OK    OK  UNNEEDED, same version is already published
lconwaymacOS 12.5.1 Monterey / x86_64  OK    OK    OK    OK  UNNEEDED, same version is already published
Package 48/191HostnameOS / ArchINSTALLBUILDCHECKBUILD BIN
DominoEffect 1.18.0  (landing page)
Marija Buljan
git_last_commit: 36be327
git_last_commit_date: 2022-11-01 11:17:11 -0400
nebbiolo2Linux (Ubuntu 20.04.5 LTS) / x86_64  OK    OK    OK  UNNEEDED, same version is already published
palomino4Windows Server 2022 Datacenter / x64  OK    OK    OK    OK  UNNEEDED, same version is already published
lconwaymacOS 12.5.1 Monterey / x86_64  OK    OK    OK    OK  UNNEEDED, same version is already published
Package 49/191HostnameOS / ArchINSTALLBUILDCHECKBUILD BIN
DOSE 3.24.2  (landing page)
Guangchuang Yu
git_last_commit: 2d3de40
git_last_commit_date: 2022-11-20 21:50:36 -0400
nebbiolo2Linux (Ubuntu 20.04.5 LTS) / x86_64  OK    OK    OK  UNNEEDED, same version is already published
palomino4Windows Server 2022 Datacenter / x64  OK    OK    OK    OK  UNNEEDED, same version is already published
lconwaymacOS 12.5.1 Monterey / x86_64  OK    OK    OK    OK  UNNEEDED, same version is already published
Package 50/191HostnameOS / ArchINSTALLBUILDCHECKBUILD BIN
EasyCellType 1.0.0  (landing page)
Ruoxing Li
git_last_commit: d6e16b6
git_last_commit_date: 2022-11-01 11:27:26 -0400
nebbiolo2Linux (Ubuntu 20.04.5 LTS) / x86_64  OK    OK    OK  UNNEEDED, same version is already published
palomino4Windows Server 2022 Datacenter / x64  OK    OK    OK    OK  UNNEEDED, same version is already published
lconwaymacOS 12.5.1 Monterey / x86_64  OK    OK    OK    OK  UNNEEDED, same version is already published
Package 51/191HostnameOS / ArchINSTALLBUILDCHECKBUILD BIN
EDASeq 2.32.0  (landing page)
Davide Risso
git_last_commit: 06df5a3
git_last_commit_date: 2022-11-01 11:06:16 -0400
nebbiolo2Linux (Ubuntu 20.04.5 LTS) / x86_64  OK    OK    OK  UNNEEDED, same version is already published
palomino4Windows Server 2022 Datacenter / x64  OK    OK    OK    OK  UNNEEDED, same version is already published
lconwaymacOS 12.5.1 Monterey / x86_64  OK    OK    OK    OK  UNNEEDED, same version is already published
Package 52/191HostnameOS / ArchINSTALLBUILDCHECKBUILD BIN
eegc 1.24.0  (landing page)
Xiaoyuan Zhou
git_last_commit: 5ff5737
git_last_commit_date: 2022-11-01 11:14:19 -0400
nebbiolo2Linux (Ubuntu 20.04.5 LTS) / x86_64  OK    OK    WARNINGS  UNNEEDED, same version is already published
palomino4Windows Server 2022 Datacenter / x64  OK    OK    WARNINGS    OK  UNNEEDED, same version is already published
lconwaymacOS 12.5.1 Monterey / x86_64  OK    OK    WARNINGS    OK  UNNEEDED, same version is already published
Package 53/191HostnameOS / ArchINSTALLBUILDCHECKBUILD BIN
EGSEA 1.26.0  (landing page)
Monther Alhamdoosh
git_last_commit: c3e5f41
git_last_commit_date: 2022-11-01 11:13:40 -0400
nebbiolo2Linux (Ubuntu 20.04.5 LTS) / x86_64  OK    OK    WARNINGS  UNNEEDED, same version is already published
palomino4Windows Server 2022 Datacenter / x64  OK    OK    WARNINGS    OK  UNNEEDED, same version is already published
lconwaymacOS 12.5.1 Monterey / x86_64  OK    OK    WARNINGS    OK  UNNEEDED, same version is already published
Package 54/191HostnameOS / ArchINSTALLBUILDCHECKBUILD BIN
EnrichmentBrowser 2.28.2  (landing page)
Ludwig Geistlinger
git_last_commit: 0db911d
git_last_commit_date: 2023-03-19 19:26:11 -0400
nebbiolo2Linux (Ubuntu 20.04.5 LTS) / x86_64  OK    OK    OK  UNNEEDED, same version is already published
palomino4Windows Server 2022 Datacenter / x64  OK    OK    OK    OK  UNNEEDED, same version is already published
lconwaymacOS 12.5.1 Monterey / x86_64  OK    OK    OK    OK  UNNEEDED, same version is already published
Package 55/191HostnameOS / ArchINSTALLBUILDCHECKBUILD BIN
ensembldb 2.22.0  (landing page)
Johannes Rainer
git_last_commit: 4dda178
git_last_commit_date: 2022-11-01 11:11:20 -0400
nebbiolo2Linux (Ubuntu 20.04.5 LTS) / x86_64  OK    OK    OK  UNNEEDED, same version is already published
palomino4Windows Server 2022 Datacenter / x64  OK    OK    OK    OK  UNNEEDED, same version is already published
lconwaymacOS 12.5.1 Monterey / x86_64  OK    OK    OK    OK  UNNEEDED, same version is already published
Package 56/191HostnameOS / ArchINSTALLBUILDCHECKBUILD BIN
EpiMix 1.0.1  (landing page)
Yuanning Zheng
git_last_commit: 6a1aecd
git_last_commit_date: 2023-02-14 01:51:54 -0400
nebbiolo2Linux (Ubuntu 20.04.5 LTS) / x86_64  OK    OK    OK  UNNEEDED, same version is already published
palomino4Windows Server 2022 Datacenter / x64  OK    ERROR  skippedskipped
lconwaymacOS 12.5.1 Monterey / x86_64  OK    OK    OK    OK  UNNEEDED, same version is already published
Package 57/191HostnameOS / ArchINSTALLBUILDCHECKBUILD BIN
epimutacions 1.2.0  (landing page)
Dolors Pelegri-Siso
git_last_commit: b5bb97c
git_last_commit_date: 2022-11-01 11:26:53 -0400
nebbiolo2Linux (Ubuntu 20.04.5 LTS) / x86_64  OK    OK    OK  UNNEEDED, same version is already published
palomino4Windows Server 2022 Datacenter / x64  OK    ERROR  skippedskipped
lconwaymacOS 12.5.1 Monterey / x86_64  OK    OK    OK    OK  UNNEEDED, same version is already published
Package 58/191HostnameOS / ArchINSTALLBUILDCHECKBUILD BIN
EpiTxDb 1.10.0  (landing page)
Felix G.M. Ernst
git_last_commit: 2ced971
git_last_commit_date: 2022-11-01 11:21:35 -0400
nebbiolo2Linux (Ubuntu 20.04.5 LTS) / x86_64  OK    OK    OK  UNNEEDED, same version is already published
palomino4Windows Server 2022 Datacenter / x64  OK    OK    OK    OK  UNNEEDED, same version is already published
lconwaymacOS 12.5.1 Monterey / x86_64  OK    OK    OK    OK  UNNEEDED, same version is already published
Package 59/191HostnameOS / ArchINSTALLBUILDCHECKBUILD BIN
erma 1.14.0  (landing page)
VJ Carey
git_last_commit: b240e98
git_last_commit_date: 2022-11-01 11:11:49 -0400
nebbiolo2Linux (Ubuntu 20.04.5 LTS) / x86_64  OK    OK    OK  UNNEEDED, same version is already published
palomino4Windows Server 2022 Datacenter / x64  OK    OK    OK    OK  UNNEEDED, same version is already published
lconwaymacOS 12.5.1 Monterey / x86_64  OK    OK    OK    OK  UNNEEDED, same version is already published
Package 60/191HostnameOS / ArchINSTALLBUILDCHECKBUILD BIN
esATAC 1.20.0  (landing page)
Zheng Wei
git_last_commit: 6c9fe81
git_last_commit_date: 2022-11-01 11:16:47 -0400
nebbiolo2Linux (Ubuntu 20.04.5 LTS) / x86_64  OK    OK    WARNINGS  UNNEEDED, same version is already published
palomino4Windows Server 2022 Datacenter / x64  OK    OK    WARNINGS    OK  UNNEEDED, same version is already published
lconwaymacOS 12.5.1 Monterey / x86_64  OK    OK    WARNINGS    OK  UNNEEDED, same version is already published
Package 61/191HostnameOS / ArchINSTALLBUILDCHECKBUILD BIN
FRASER 1.10.2  (landing page)
Christian Mertes
git_last_commit: 411304e
git_last_commit_date: 2023-01-19 11:17:01 -0400
nebbiolo2Linux (Ubuntu 20.04.5 LTS) / x86_64  OK    OK    OK  UNNEEDED, same version is already published
palomino4Windows Server 2022 Datacenter / x64  OK    OK    OK    OK  UNNEEDED, same version is already published
lconwaymacOS 12.5.1 Monterey / x86_64  OK    OK    OK    OK  UNNEEDED, same version is already published
Package 62/191HostnameOS / ArchINSTALLBUILDCHECKBUILD BIN
GA4GHshiny 1.20.0  (landing page)
Welliton Souza
git_last_commit: 65ab853
git_last_commit_date: 2022-11-01 11:15:45 -0400
nebbiolo2Linux (Ubuntu 20.04.5 LTS) / x86_64  OK    OK    OK  UNNEEDED, same version is already published
palomino4Windows Server 2022 Datacenter / x64  OK    OK    OK    OK  UNNEEDED, same version is already published
lconwaymacOS 12.5.1 Monterey / x86_64  OK    OK    OK    OK  UNNEEDED, same version is already published
Package 63/191HostnameOS / ArchINSTALLBUILDCHECKBUILD BIN
gage 2.48.0  (landing page)
Weijun Luo
git_last_commit: d067e0a
git_last_commit_date: 2022-11-01 11:05:20 -0400
nebbiolo2Linux (Ubuntu 20.04.5 LTS) / x86_64  OK    OK    WARNINGS  UNNEEDED, same version is already published
palomino4Windows Server 2022 Datacenter / x64  OK    OK    WARNINGS    OK  UNNEEDED, same version is already published
lconwaymacOS 12.5.1 Monterey / x86_64  OK    OK    WARNINGS    OK  UNNEEDED, same version is already published
Package 64/191HostnameOS / ArchINSTALLBUILDCHECKBUILD BIN
GAPGOM 1.14.0  (landing page)
Rezvan Ehsani
git_last_commit: 9a6404e
git_last_commit_date: 2022-11-01 11:19:11 -0400
nebbiolo2Linux (Ubuntu 20.04.5 LTS) / x86_64  OK    ERROR  skipped
palomino4Windows Server 2022 Datacenter / x64  OK    ERROR  skippedskipped
lconwaymacOS 12.5.1 Monterey / x86_64  OK    ERROR  skippedskipped
Package 65/191HostnameOS / ArchINSTALLBUILDCHECKBUILD BIN
genefilter 1.80.3  (landing page)
Bioconductor Package Maintainer
git_last_commit: 2138dca
git_last_commit_date: 2023-01-19 11:17:04 -0400
nebbiolo2Linux (Ubuntu 20.04.5 LTS) / x86_64  OK    OK    WARNINGS  UNNEEDED, same version is already published
palomino4Windows Server 2022 Datacenter / x64  OK    OK    WARNINGS    OK  UNNEEDED, same version is already published
lconwaymacOS 12.5.1 Monterey / x86_64  OK    OK    OK    OK  UNNEEDED, same version is already published
Package 66/191HostnameOS / ArchINSTALLBUILDCHECKBUILD BIN
geneplotter 1.76.0  (landing page)
Bioconductor Package Maintainer
git_last_commit: 4eb6a78
git_last_commit_date: 2022-11-01 10:34:58 -0400
nebbiolo2Linux (Ubuntu 20.04.5 LTS) / x86_64  OK    OK    OK  UNNEEDED, same version is already published
palomino4Windows Server 2022 Datacenter / x64  OK    OK    OK    OK  UNNEEDED, same version is already published
lconwaymacOS 12.5.1 Monterey / x86_64  OK    OK    OK    OK  UNNEEDED, same version is already published
Package 67/191HostnameOS / ArchINSTALLBUILDCHECKBUILD BIN
GeneTonic 2.2.0  (landing page)
Federico Marini
git_last_commit: cbc0a9f
git_last_commit_date: 2022-11-01 11:21:18 -0400
nebbiolo2Linux (Ubuntu 20.04.5 LTS) / x86_64  OK    OK    OK  UNNEEDED, same version is already published
palomino4Windows Server 2022 Datacenter / x64  OK    OK    OK    OK  UNNEEDED, same version is already published
lconwaymacOS 12.5.1 Monterey / x86_64  OK    OK    OK    OK  UNNEEDED, same version is already published
Package 68/191HostnameOS / ArchINSTALLBUILDCHECKBUILD BIN
geneXtendeR 1.24.0  (landing page)
Bohdan Khomtchouk
git_last_commit: 869b7e0
git_last_commit_date: 2022-11-01 11:14:35 -0400
nebbiolo2Linux (Ubuntu 20.04.5 LTS) / x86_64  OK    OK    WARNINGS  UNNEEDED, same version is already published
palomino4Windows Server 2022 Datacenter / x64  OK    OK    WARNINGS    OK  UNNEEDED, same version is already published
lconwaymacOS 12.5.1 Monterey / x86_64  OK    OK    WARNINGS    OK  UNNEEDED, same version is already published
Package 69/191HostnameOS / ArchINSTALLBUILDCHECKBUILD BIN
GenomicFeatures 1.50.4  (landing page)
H. Pagès
git_last_commit: 68bf6e1
git_last_commit_date: 2022-12-14 21:06:06 -0400
nebbiolo2Linux (Ubuntu 20.04.5 LTS) / x86_64  OK    OK    OK  UNNEEDED, same version is already published
palomino4Windows Server 2022 Datacenter / x64  OK    OK    OK    OK  UNNEEDED, same version is already published
lconwaymacOS 12.5.1 Monterey / x86_64  OK    OK    ERROR    OK  
Package 70/191HostnameOS / ArchINSTALLBUILDCHECKBUILD BIN
GenomicInteractionNodes 1.2.0  (landing page)
Jianhong Ou
git_last_commit: a61a04f
git_last_commit_date: 2022-11-01 11:26:54 -0400
nebbiolo2Linux (Ubuntu 20.04.5 LTS) / x86_64  OK    OK    OK  UNNEEDED, same version is already published
palomino4Windows Server 2022 Datacenter / x64  OK    OK    OK    OK  UNNEEDED, same version is already published
lconwaymacOS 12.5.1 Monterey / x86_64  OK    OK    OK    OK  UNNEEDED, same version is already published
Package 71/191HostnameOS / ArchINSTALLBUILDCHECKBUILD BIN
GenVisR 1.30.0  (landing page)
Zachary Skidmore
git_last_commit: ad1791a
git_last_commit_date: 2022-11-01 11:12:48 -0400
nebbiolo2Linux (Ubuntu 20.04.5 LTS) / x86_64  OK    OK    WARNINGS  UNNEEDED, same version is already published
palomino4Windows Server 2022 Datacenter / x64  OK    OK    WARNINGS    OK  UNNEEDED, same version is already published
lconwaymacOS 12.5.1 Monterey / x86_64  OK    OK    WARNINGS    OK  UNNEEDED, same version is already published
Package 72/191HostnameOS / ArchINSTALLBUILDCHECKBUILD BIN
ggbio 1.46.0  (landing page)
Michael Lawrence
git_last_commit: d9c6cb4
git_last_commit_date: 2022-11-01 11:06:25 -0400
nebbiolo2Linux (Ubuntu 20.04.5 LTS) / x86_64  OK    OK    WARNINGS  UNNEEDED, same version is already published
palomino4Windows Server 2022 Datacenter / x64  OK    OK    WARNINGS    OK  UNNEEDED, same version is already published
lconwaymacOS 12.5.1 Monterey / x86_64  OK    OK    WARNINGS    OK  UNNEEDED, same version is already published
Package 73/191HostnameOS / ArchINSTALLBUILDCHECKBUILD BIN
GlobalAncova 4.16.0  (landing page)
Manuela Hummel
git_last_commit: 9f0109b
git_last_commit_date: 2022-11-01 10:39:59 -0400
nebbiolo2Linux (Ubuntu 20.04.5 LTS) / x86_64  OK    OK    OK  UNNEEDED, same version is already published
palomino4Windows Server 2022 Datacenter / x64  OK    OK    OK    OK  UNNEEDED, same version is already published
lconwaymacOS 12.5.1 Monterey / x86_64  OK    OK    OK    OK  UNNEEDED, same version is already published
Package 74/191HostnameOS / ArchINSTALLBUILDCHECKBUILD BIN
globaltest 5.52.1  (landing page)
Jelle Goeman
git_last_commit: ede9563
git_last_commit_date: 2023-03-20 10:18:15 -0400
nebbiolo2Linux (Ubuntu 20.04.5 LTS) / x86_64  OK    OK    OK  UNNEEDED, same version is already published
palomino4Windows Server 2022 Datacenter / x64  OK    OK    OK    OK  UNNEEDED, same version is already published
lconwaymacOS 12.5.1 Monterey / x86_64  OK    OK    OK    OK  UNNEEDED, same version is already published
Package 75/191HostnameOS / ArchINSTALLBUILDCHECKBUILD BIN
GmicR 1.12.0  (landing page)
Richard Virgen-Slane
git_last_commit: 729668d
git_last_commit_date: 2022-11-01 11:20:38 -0400
nebbiolo2Linux (Ubuntu 20.04.5 LTS) / x86_64  OK    OK    WARNINGS  UNNEEDED, same version is already published
palomino4Windows Server 2022 Datacenter / x64  OK    OK    WARNINGS    OK  UNNEEDED, same version is already published
lconwaymacOS 12.5.1 Monterey / x86_64  OK    OK    WARNINGS    OK  UNNEEDED, same version is already published
Package 76/191HostnameOS / ArchINSTALLBUILDCHECKBUILD BIN
GOfuncR 1.18.0  (landing page)
Steffi Grote
git_last_commit: 4918241
git_last_commit_date: 2022-11-01 11:16:52 -0400
nebbiolo2Linux (Ubuntu 20.04.5 LTS) / x86_64  OK    OK    OK  UNNEEDED, same version is already published
palomino4Windows Server 2022 Datacenter / x64  OK    OK    OK    OK  UNNEEDED, same version is already published
lconwaymacOS 12.5.1 Monterey / x86_64  OK    OK    WARNINGS    OK  UNNEEDED, same version is already published
Package 77/191HostnameOS / ArchINSTALLBUILDCHECKBUILD BIN
GOpro 1.24.0  (landing page)
Lidia Chrabaszcz
git_last_commit: 7f6cb6f
git_last_commit_date: 2022-11-01 11:14:32 -0400
nebbiolo2Linux (Ubuntu 20.04.5 LTS) / x86_64  OK    OK    OK  UNNEEDED, same version is already published
palomino4Windows Server 2022 Datacenter / x64  OK    OK    OK    OK  UNNEEDED, same version is already published
lconwaymacOS 12.5.1 Monterey / x86_64  OK    OK    OK    OK  UNNEEDED, same version is already published
Package 78/191HostnameOS / ArchINSTALLBUILDCHECKBUILD BIN
goProfiles 1.60.0  (landing page)
Alex Sanchez
git_last_commit: f8ad359
git_last_commit_date: 2022-11-01 11:03:51 -0400
nebbiolo2Linux (Ubuntu 20.04.5 LTS) / x86_64  OK    OK    OK  UNNEEDED, same version is already published
palomino4Windows Server 2022 Datacenter / x64  OK    OK    OK    OK  UNNEEDED, same version is already published
lconwaymacOS 12.5.1 Monterey / x86_64  OK    OK    OK    OK  UNNEEDED, same version is already published
Package 79/191HostnameOS / ArchINSTALLBUILDCHECKBUILD BIN
GOSemSim 2.24.0  (landing page)
Guangchuang Yu
git_last_commit: ed7334f
git_last_commit_date: 2022-11-01 11:04:15 -0400
nebbiolo2Linux (Ubuntu 20.04.5 LTS) / x86_64  OK    OK    OK  UNNEEDED, same version is already published
palomino4Windows Server 2022 Datacenter / x64  OK    OK    OK    OK  UNNEEDED, same version is already published
lconwaymacOS 12.5.1 Monterey / x86_64  OK    OK    OK    OK  UNNEEDED, same version is already published
Package 80/191HostnameOS / ArchINSTALLBUILDCHECKBUILD BIN
goseq 1.50.0  (landing page)
Matthew Young , Nadia Davidson
git_last_commit: f9fad23
git_last_commit_date: 2022-11-01 11:04:59 -0400
nebbiolo2Linux (Ubuntu 20.04.5 LTS) / x86_64  OK    OK    OK  UNNEEDED, same version is already published
palomino4Windows Server 2022 Datacenter / x64  OK    OK    OK    OK  UNNEEDED, same version is already published
lconwaymacOS 12.5.1 Monterey / x86_64  OK    OK    OK    OK  UNNEEDED, same version is already published
Package 81/191HostnameOS / ArchINSTALLBUILDCHECKBUILD BIN
GOSim 1.36.0  (landing page)
Holger Froehlich
git_last_commit: 7e72cf6
git_last_commit_date: 2022-11-01 11:08:42 -0400
nebbiolo2Linux (Ubuntu 20.04.5 LTS) / x86_64  OK    OK    OK  UNNEEDED, same version is already published
palomino4Windows Server 2022 Datacenter / x64  OK    OK    OK    OK  UNNEEDED, same version is already published
lconwaymacOS 12.5.1 Monterey / x86_64  OK    OK    OK    OK  UNNEEDED, same version is already published
Package 82/191HostnameOS / ArchINSTALLBUILDCHECKBUILD BIN
goSTAG 1.22.0  (landing page)
Brian D. Bennett
git_last_commit: 20e7a5e
git_last_commit_date: 2022-11-01 11:15:06 -0400
nebbiolo2Linux (Ubuntu 20.04.5 LTS) / x86_64  OK    OK    OK  UNNEEDED, same version is already published
palomino4Windows Server 2022 Datacenter / x64  OK    OK    OK    OK  UNNEEDED, same version is already published
lconwaymacOS 12.5.1 Monterey / x86_64  OK    OK    OK    OK  UNNEEDED, same version is already published
Package 83/191HostnameOS / ArchINSTALLBUILDCHECKBUILD BIN
GOstats 2.64.0  (landing page)
Bioconductor Package Maintainer
git_last_commit: 6281325
git_last_commit_date: 2022-11-01 10:37:26 -0400
nebbiolo2Linux (Ubuntu 20.04.5 LTS) / x86_64  OK    OK    OK  UNNEEDED, same version is already published
palomino4Windows Server 2022 Datacenter / x64  OK    OK    OK    OK  UNNEEDED, same version is already published
lconwaymacOS 12.5.1 Monterey / x86_64  OK    OK    OK    OK  UNNEEDED, same version is already published
Package 84/191HostnameOS / ArchINSTALLBUILDCHECKBUILD BIN
goTools 1.72.0  (landing page)
Agnes Paquet
git_last_commit: 82ba948
git_last_commit_date: 2022-11-01 10:37:02 -0400
nebbiolo2Linux (Ubuntu 20.04.5 LTS) / x86_64  OK    OK    OK  UNNEEDED, same version is already published
palomino4Windows Server 2022 Datacenter / x64  OK    OK    OK    OK  UNNEEDED, same version is already published
lconwaymacOS 12.5.1 Monterey / x86_64  OK    OK    OK    OK  UNNEEDED, same version is already published
Package 85/191HostnameOS / ArchINSTALLBUILDCHECKBUILD BIN
gpart 1.16.0  (landing page)
Sun Ah Kim
git_last_commit: 7af2524
git_last_commit_date: 2022-11-01 11:18:29 -0400
nebbiolo2Linux (Ubuntu 20.04.5 LTS) / x86_64  ERROR    ERROR  skipped
palomino4Windows Server 2022 Datacenter / x64  ERROR    ERROR  skippedskipped
lconwaymacOS 12.5.1 Monterey / x86_64  ERROR    ERROR  skippedskipped
Package 86/191HostnameOS / ArchINSTALLBUILDCHECKBUILD BIN
graphite 1.44.0  (landing page)
Gabriele Sales
git_last_commit: 0540a6c
git_last_commit_date: 2022-11-01 11:06:12 -0400
nebbiolo2Linux (Ubuntu 20.04.5 LTS) / x86_64  OK    OK    OK  UNNEEDED, same version is already published
palomino4Windows Server 2022 Datacenter / x64  OK    OK    OK    OK  UNNEEDED, same version is already published
lconwaymacOS 12.5.1 Monterey / x86_64  OK    OK    OK    OK  UNNEEDED, same version is already published
Package 87/191HostnameOS / ArchINSTALLBUILDCHECKBUILD BIN
GSEABase 1.60.0  (landing page)
Bioconductor Package Maintainer
git_last_commit: aae4e52
git_last_commit_date: 2022-11-01 11:03:29 -0400
nebbiolo2Linux (Ubuntu 20.04.5 LTS) / x86_64  OK    OK    OK  UNNEEDED, same version is already published
palomino4Windows Server 2022 Datacenter / x64  OK    OK    OK    OK  UNNEEDED, same version is already published
lconwaymacOS 12.5.1 Monterey / x86_64  OK    OK    OK    OK  UNNEEDED, same version is already published
Package 88/191HostnameOS / ArchINSTALLBUILDCHECKBUILD BIN
GSEABenchmarkeR 1.18.0  (landing page)
Ludwig Geistlinger
git_last_commit: 144181f
git_last_commit_date: 2022-11-01 11:17:24 -0400
nebbiolo2Linux (Ubuntu 20.04.5 LTS) / x86_64  OK    OK    OK  UNNEEDED, same version is already published
palomino4Windows Server 2022 Datacenter / x64  OK    OK    OK    OK  UNNEEDED, same version is already published
lconwaymacOS 12.5.1 Monterey / x86_64  OK    OK    OK    OK  UNNEEDED, same version is already published
Package 89/191HostnameOS / ArchINSTALLBUILDCHECKBUILD BIN
GSReg 1.32.0  (landing page)
Bahman Afsari , Elana J. Fertig
git_last_commit: b340b20
git_last_commit_date: 2022-11-01 11:09:57 -0400
nebbiolo2Linux (Ubuntu 20.04.5 LTS) / x86_64  OK    OK    WARNINGS  UNNEEDED, same version is already published
palomino4Windows Server 2022 Datacenter / x64  OK    OK    WARNINGS    OK  UNNEEDED, same version is already published
lconwaymacOS 12.5.1 Monterey / x86_64  OK    OK    WARNINGS    OK  UNNEEDED, same version is already published
Package 90/191HostnameOS / ArchINSTALLBUILDCHECKBUILD BIN
Guitar 2.14.0  (landing page)
Jia Meng
git_last_commit: 3cba68f
git_last_commit_date: 2022-11-01 11:12:15 -0400
nebbiolo2Linux (Ubuntu 20.04.5 LTS) / x86_64  OK    OK    OK  UNNEEDED, same version is already published
palomino4Windows Server 2022 Datacenter / x64  OK    OK    OK    OK  UNNEEDED, same version is already published
lconwaymacOS 12.5.1 Monterey / x86_64  OK    OK    OK    OK  UNNEEDED, same version is already published
Package 91/191HostnameOS / ArchINSTALLBUILDCHECKBUILD BIN
Gviz 1.42.1  (landing page)
Robert Ivanek
git_last_commit: 9839dbb
git_last_commit_date: 2023-03-15 06:31:07 -0400
nebbiolo2Linux (Ubuntu 20.04.5 LTS) / x86_64  OK    OK    OK  UNNEEDED, same version is already published
palomino4Windows Server 2022 Datacenter / x64  OK    OK    OK    OK  UNNEEDED, same version is already published
lconwaymacOS 12.5.1 Monterey / x86_64  OK    ERROR  skippedskipped
Package 92/191HostnameOS / ArchINSTALLBUILDCHECKBUILD BIN
gwascat 2.30.0  (landing page)
VJ Carey
git_last_commit: 16acbd9
git_last_commit_date: 2022-11-01 11:06:43 -0400
nebbiolo2Linux (Ubuntu 20.04.5 LTS) / x86_64  OK    OK    OK  UNNEEDED, same version is already published
palomino4Windows Server 2022 Datacenter / x64  OK    OK    OK    OK  UNNEEDED, same version is already published
lconwaymacOS 12.5.1 Monterey / x86_64  OK    OK    OK    OK  UNNEEDED, same version is already published
Package 93/191HostnameOS / ArchINSTALLBUILDCHECKBUILD BIN
ideal 1.22.0  (landing page)
Federico Marini
git_last_commit: fba1b51
git_last_commit_date: 2022-11-01 11:15:39 -0400
nebbiolo2Linux (Ubuntu 20.04.5 LTS) / x86_64  OK    OK    OK  UNNEEDED, same version is already published
palomino4Windows Server 2022 Datacenter / x64  OK    OK    OK    OK  NO, package depends on 'IHW' which is not available
lconwaymacOS 12.5.1 Monterey / x86_64  OK    OK    OK    OK  UNNEEDED, same version is already published
Package 94/191HostnameOS / ArchINSTALLBUILDCHECKBUILD BIN
IMAS 1.22.0  (landing page)
Seonggyun Han
git_last_commit: 662ff82
git_last_commit_date: 2022-11-01 11:15:33 -0400
nebbiolo2Linux (Ubuntu 20.04.5 LTS) / x86_64  OK    OK    OK  UNNEEDED, same version is already published
palomino4Windows Server 2022 Datacenter / x64  OK    OK    OK    OK  UNNEEDED, same version is already published
lconwaymacOS 12.5.1 Monterey / x86_64  OK    OK    OK    OK  UNNEEDED, same version is already published
Package 95/191HostnameOS / ArchINSTALLBUILDCHECKBUILD BIN
InPAS 2.6.0  (landing page)
Jianhong Ou
git_last_commit: 69d5e3b
git_last_commit_date: 2022-11-01 11:11:19 -0400
nebbiolo2Linux (Ubuntu 20.04.5 LTS) / x86_64  OK    OK    OK  UNNEEDED, same version is already published
palomino4Windows Server 2022 Datacenter / x64  OK    OK    OK    OK  UNNEEDED, same version is already published
lconwaymacOS 12.5.1 Monterey / x86_64  OK    OK    OK    OK  UNNEEDED, same version is already published
Package 96/191HostnameOS / ArchINSTALLBUILDCHECKBUILD BIN
interactiveDisplay 1.36.0  (landing page)
Bioconductor Package Maintainer
git_last_commit: 43249e6
git_last_commit_date: 2022-11-01 11:08:56 -0400
nebbiolo2Linux (Ubuntu 20.04.5 LTS) / x86_64  OK    OK    OK  UNNEEDED, same version is already published
palomino4Windows Server 2022 Datacenter / x64  OK    OK    OK    OK  UNNEEDED, same version is already published
lconwaymacOS 12.5.1 Monterey / x86_64  OK    OK    OK    OK  UNNEEDED, same version is already published
Package 97/191HostnameOS / ArchINSTALLBUILDCHECKBUILD BIN
ipdDb 1.16.0  (landing page)
Steffen Klasberg
git_last_commit: 7fe38ec
git_last_commit_date: 2022-11-01 11:18:05 -0400
nebbiolo2Linux (Ubuntu 20.04.5 LTS) / x86_64  OK    OK    OK  UNNEEDED, same version is already published
palomino4Windows Server 2022 Datacenter / x64  OK    OK    OK    OK  UNNEEDED, same version is already published
lconwaymacOS 12.5.1 Monterey / x86_64  OK    OK    OK    OK  UNNEEDED, same version is already published
Package 98/191HostnameOS / ArchINSTALLBUILDCHECKBUILD BIN
IRISFGM 1.6.0  (landing page)
Yuzhou Chang
git_last_commit: c2d45f0
git_last_commit_date: 2022-11-01 11:24:02 -0400
nebbiolo2Linux (Ubuntu 20.04.5 LTS) / x86_64  OK    OK    OK  UNNEEDED, same version is already published
palomino4Windows Server 2022 Datacenter / x64  OK    OK    OK    OK  UNNEEDED, same version is already published
lconwaymacOS 12.5.1 Monterey / x86_64  OK    OK    OK    OK  UNNEEDED, same version is already published
Package 99/191HostnameOS / ArchINSTALLBUILDCHECKBUILD BIN
isomiRs 1.26.0  (landing page)
Lorena Pantano
git_last_commit: 8d72245
git_last_commit_date: 2022-11-01 11:13:22 -0400
nebbiolo2Linux (Ubuntu 20.04.5 LTS) / x86_64  OK    OK    OK  UNNEEDED, same version is already published
palomino4Windows Server 2022 Datacenter / x64  OK    OK    OK    OK  UNNEEDED, same version is already published
lconwaymacOS 12.5.1 Monterey / x86_64  OK    OK    OK    OK  UNNEEDED, same version is already published
Package 100/191HostnameOS / ArchINSTALLBUILDCHECKBUILD BIN
IVAS 2.18.0  (landing page)
Seonggyun Han
git_last_commit: 64c905d
git_last_commit_date: 2022-11-01 11:11:02 -0400
nebbiolo2Linux (Ubuntu 20.04.5 LTS) / x86_64  OK    OK    WARNINGS  UNNEEDED, same version is already published
palomino4Windows Server 2022 Datacenter / x64  OK    OK    WARNINGS    OK  UNNEEDED, same version is already published
lconwaymacOS 12.5.1 Monterey / x86_64  OK    OK    WARNINGS    OK  UNNEEDED, same version is already published
Package 101/191HostnameOS / ArchINSTALLBUILDCHECKBUILD BIN
karyoploteR 1.24.0  (landing page)
Bernat Gel
git_last_commit: 442c9e7
git_last_commit_date: 2022-11-01 11:15:07 -0400
nebbiolo2Linux (Ubuntu 20.04.5 LTS) / x86_64  OK    OK    OK  UNNEEDED, same version is already published
palomino4Windows Server 2022 Datacenter / x64  OK    OK    OK    OK  UNNEEDED, same version is already published
lconwaymacOS 12.5.1 Monterey / x86_64  OK    OK    OK    OK  UNNEEDED, same version is already published
Package 102/191HostnameOS / ArchINSTALLBUILDCHECKBUILD BIN
KEGGlincs 1.24.0  (landing page)
Shana White , Mario Medvedovic
git_last_commit: a4333f7
git_last_commit_date: 2022-11-01 11:14:35 -0400
nebbiolo2Linux (Ubuntu 20.04.5 LTS) / x86_64  OK    OK    OK  UNNEEDED, same version is already published
palomino4Windows Server 2022 Datacenter / x64  OK    OK    OK    OK  UNNEEDED, same version is already published
lconwaymacOS 12.5.1 Monterey / x86_64  OK    OK    OK    OK  UNNEEDED, same version is already published
Package 103/191HostnameOS / ArchINSTALLBUILDCHECKBUILD BIN
keggorthology 2.50.0  (landing page)
VJ Carey
git_last_commit: d843d06
git_last_commit_date: 2022-11-01 11:03:31 -0400
nebbiolo2Linux (Ubuntu 20.04.5 LTS) / x86_64  OK    OK    OK  UNNEEDED, same version is already published
palomino4Windows Server 2022 Datacenter / x64  OK    OK    OK    OK  UNNEEDED, same version is already published
lconwaymacOS 12.5.1 Monterey / x86_64  OK    OK    OK    OK  UNNEEDED, same version is already published
Package 104/191HostnameOS / ArchINSTALLBUILDCHECKBUILD BIN
LRBaseDbi 2.8.0  (landing page)
Koki Tsuyuzaki
git_last_commit: c40667e
git_last_commit_date: 2022-11-01 11:18:10 -0400
nebbiolo2Linux (Ubuntu 20.04.5 LTS) / x86_64  OK    OK    OK  UNNEEDED, same version is already published
palomino4Windows Server 2022 Datacenter / x64  OK    OK    OK    OK  UNNEEDED, same version is already published
lconwaymacOS 12.5.1 Monterey / x86_64  OK    OK    OK    OK  UNNEEDED, same version is already published
Package 105/191HostnameOS / ArchINSTALLBUILDCHECKBUILD BIN
lumi 2.50.0  (landing page)
Lei Huang
git_last_commit: 8711b77
git_last_commit_date: 2022-11-01 10:42:41 -0400
nebbiolo2Linux (Ubuntu 20.04.5 LTS) / x86_64  OK    OK    WARNINGS  UNNEEDED, same version is already published
palomino4Windows Server 2022 Datacenter / x64  OK    OK    WARNINGS    OK  UNNEEDED, same version is already published
lconwaymacOS 12.5.1 Monterey / x86_64  OK    OK    WARNINGS    OK  UNNEEDED, same version is already published
Package 106/191HostnameOS / ArchINSTALLBUILDCHECKBUILD BIN
mAPKL 1.28.0  (landing page)
Argiris Sakellariou
git_last_commit: 2266b1f
git_last_commit_date: 2022-11-01 11:10:59 -0400
nebbiolo2Linux (Ubuntu 20.04.5 LTS) / x86_64  OK    OK    OK  UNNEEDED, same version is already published
palomino4Windows Server 2022 Datacenter / x64  OK    OK    OK    OK  UNNEEDED, same version is already published
lconwaymacOS 12.5.1 Monterey / x86_64  OK    OK    OK    OK  UNNEEDED, same version is already published
Package 107/191HostnameOS / ArchINSTALLBUILDCHECKBUILD BIN
maPredictDSC 1.36.0  (landing page)
Adi Laurentiu Tarca
git_last_commit: 3c557a2
git_last_commit_date: 2022-11-01 11:08:23 -0400
nebbiolo2Linux (Ubuntu 20.04.5 LTS) / x86_64  OK    OK    OK  UNNEEDED, same version is already published
palomino4Windows Server 2022 Datacenter / x64  OK    OK    OK    OK  UNNEEDED, same version is already published
lconwaymacOS 12.5.1 Monterey / x86_64  OK    OK    OK    OK  UNNEEDED, same version is already published
Package 108/191HostnameOS / ArchINSTALLBUILDCHECKBUILD BIN
MCbiclust 1.22.0  (landing page)
Robert Bentham
git_last_commit: 90b6226
git_last_commit_date: 2022-11-01 11:15:08 -0400
nebbiolo2Linux (Ubuntu 20.04.5 LTS) / x86_64  OK    OK    OK  UNNEEDED, same version is already published
palomino4Windows Server 2022 Datacenter / x64  OK    OK    OK    OK  UNNEEDED, same version is already published
lconwaymacOS 12.5.1 Monterey / x86_64  OK    OK    OK    OK  UNNEEDED, same version is already published
Package 109/191HostnameOS / ArchINSTALLBUILDCHECKBUILD BIN
MeSHDbi 1.34.0  (landing page)
Koki Tsuyuzaki
git_last_commit: 39b73f7
git_last_commit_date: 2022-11-01 11:09:38 -0400
nebbiolo2Linux (Ubuntu 20.04.5 LTS) / x86_64  OK    OK    OK  UNNEEDED, same version is already published
palomino4Windows Server 2022 Datacenter / x64  OK    OK    OK    OK  UNNEEDED, same version is already published
lconwaymacOS 12.5.1 Monterey / x86_64  OK    OK    OK    OK  UNNEEDED, same version is already published
Package 110/191HostnameOS / ArchINSTALLBUILDCHECKBUILD BIN
meshes 1.24.0  (landing page)
Guangchuang Yu
git_last_commit: fdaaf5c
git_last_commit_date: 2022-11-01 11:14:44 -0400
nebbiolo2Linux (Ubuntu 20.04.5 LTS) / x86_64  OK    OK    OK  UNNEEDED, same version is already published
palomino4Windows Server 2022 Datacenter / x64  OK    OK    OK    OK  UNNEEDED, same version is already published
lconwaymacOS 12.5.1 Monterey / x86_64  OK    OK    OK    OK  UNNEEDED, same version is already published
Package 111/191HostnameOS / ArchINSTALLBUILDCHECKBUILD BIN
MesKit 1.8.0  (landing page)
Mengni Liu
git_last_commit: f2c7a2f
git_last_commit_date: 2022-11-01 11:22:30 -0400
nebbiolo2Linux (Ubuntu 20.04.5 LTS) / x86_64  OK    OK    WARNINGS  UNNEEDED, same version is already published
palomino4Windows Server 2022 Datacenter / x64  OK    OK    WARNINGS    OK  UNNEEDED, same version is already published
lconwaymacOS 12.5.1 Monterey / x86_64  OK    OK    WARNINGS    OK  UNNEEDED, same version is already published
Package 112/191HostnameOS / ArchINSTALLBUILDCHECKBUILD BIN
MetaboSignal 1.28.0  (landing page)
Andrea Rodriguez-Martinez
git_last_commit: efa796b
git_last_commit_date: 2022-11-01 11:14:22 -0400
nebbiolo2Linux (Ubuntu 20.04.5 LTS) / x86_64  OK    OK    OK  UNNEEDED, same version is already published
palomino4Windows Server 2022 Datacenter / x64  OK    OK    OK    OK  UNNEEDED, same version is already published
lconwaymacOS 12.5.1 Monterey / x86_64  OK    OK    OK    OK  UNNEEDED, same version is already published
Package 113/191HostnameOS / ArchINSTALLBUILDCHECKBUILD BIN
methylGSA 1.16.0  (landing page)
Xu Ren
git_last_commit: 21ccfeb
git_last_commit_date: 2022-11-01 11:18:05 -0400
nebbiolo2Linux (Ubuntu 20.04.5 LTS) / x86_64  OK    OK    OK  UNNEEDED, same version is already published
palomino4Windows Server 2022 Datacenter / x64  OK    OK    OK    OK  UNNEEDED, same version is already published
lconwaymacOS 12.5.1 Monterey / x86_64  OK    OK    OK    OK  UNNEEDED, same version is already published
Package 114/191HostnameOS / ArchINSTALLBUILDCHECKBUILD BIN
methylumi 2.44.0  (landing page)
Sean Davis
git_last_commit: 8f1f1f9
git_last_commit_date: 2022-11-01 11:04:28 -0400
nebbiolo2Linux (Ubuntu 20.04.5 LTS) / x86_64  OK    OK    OK  UNNEEDED, same version is already published
palomino4Windows Server 2022 Datacenter / x64  OK    OK    OK    OK  UNNEEDED, same version is already published
lconwaymacOS 12.5.1 Monterey / x86_64  OK    OK    OK    OK  UNNEEDED, same version is already published
Package 115/191HostnameOS / ArchINSTALLBUILDCHECKBUILD BIN
MGFM 1.32.0  (landing page)
Khadija El Amrani
git_last_commit: 3f0eab3
git_last_commit_date: 2022-11-01 11:10:20 -0400
nebbiolo2Linux (Ubuntu 20.04.5 LTS) / x86_64  OK    OK    OK  UNNEEDED, same version is already published
palomino4Windows Server 2022 Datacenter / x64  OK    OK    OK    OK  UNNEEDED, same version is already published
lconwaymacOS 12.5.1 Monterey / x86_64  OK    OK    OK    OK  UNNEEDED, same version is already published
Package 116/191HostnameOS / ArchINSTALLBUILDCHECKBUILD BIN
MIGSA 1.22.0  (landing page)
Juan C. Rodriguez
git_last_commit: 1fc847d
git_last_commit_date: 2022-11-01 11:15:16 -0400
nebbiolo2Linux (Ubuntu 20.04.5 LTS) / x86_64  OK    ERROR  skipped
palomino4Windows Server 2022 Datacenter / x64  OK    ERROR  skippedskipped
lconwaymacOS 12.5.1 Monterey / x86_64  OK    ERROR  skippedskipped
Package 117/191HostnameOS / ArchINSTALLBUILDCHECKBUILD BIN
MineICA 1.38.0  (landing page)
Anne Biton
git_last_commit: 4d1fbc6
git_last_commit_date: 2022-11-01 11:07:52 -0400
nebbiolo2Linux (Ubuntu 20.04.5 LTS) / x86_64  OK    OK    ERROR  
palomino4Windows Server 2022 Datacenter / x64  OK    OK    ERROR    OK  
lconwaymacOS 12.5.1 Monterey / x86_64  OK    OK    ERROR    OK  
Package 118/191HostnameOS / ArchINSTALLBUILDCHECKBUILD BIN
MiRaGE 1.40.0  (landing page)
Y-h. Taguchi
git_last_commit: b2cb6be
git_last_commit_date: 2022-11-01 11:07:01 -0400
nebbiolo2Linux (Ubuntu 20.04.5 LTS) / x86_64  OK    OK    WARNINGS  UNNEEDED, same version is already published
palomino4Windows Server 2022 Datacenter / x64  OK    OK    WARNINGS    OK  UNNEEDED, same version is already published
lconwaymacOS 12.5.1 Monterey / x86_64  OK    OK    WARNINGS    OK  UNNEEDED, same version is already published
Package 119/191HostnameOS / ArchINSTALLBUILDCHECKBUILD BIN
mirIntegrator 1.28.0  (landing page)
Diana Diaz
git_last_commit: 1b280aa
git_last_commit_date: 2022-11-01 11:11:47 -0400
nebbiolo2Linux (Ubuntu 20.04.5 LTS) / x86_64  OK    OK    OK  UNNEEDED, same version is already published
palomino4Windows Server 2022 Datacenter / x64  OK    OK    OK    OK  UNNEEDED, same version is already published
lconwaymacOS 12.5.1 Monterey / x86_64  OK    OK    OK    OK  UNNEEDED, same version is already published
Package 120/191HostnameOS / ArchINSTALLBUILDCHECKBUILD BIN
miRNAmeConverter 1.26.0  (landing page)
Stefan J. Haunsberger
git_last_commit: 0dc67ad
git_last_commit_date: 2022-11-01 11:13:07 -0400
nebbiolo2Linux (Ubuntu 20.04.5 LTS) / x86_64  OK    OK    WARNINGS  UNNEEDED, same version is already published
palomino4Windows Server 2022 Datacenter / x64  OK    OK    WARNINGS    OK  UNNEEDED, same version is already published
lconwaymacOS 12.5.1 Monterey / x86_64  OK    OK    WARNINGS    OK  UNNEEDED, same version is already published
Package 121/191HostnameOS / ArchINSTALLBUILDCHECKBUILD BIN
miRNAtap 1.32.0  (landing page)
T. Ian Simpson
git_last_commit: f0aaaa6
git_last_commit_date: 2022-11-01 11:10:06 -0400
nebbiolo2Linux (Ubuntu 20.04.5 LTS) / x86_64  OK    OK    OK  UNNEEDED, same version is already published
palomino4Windows Server 2022 Datacenter / x64  OK    OK    OK    OK  UNNEEDED, same version is already published
lconwaymacOS 12.5.1 Monterey / x86_64  OK    OK    OK    OK  UNNEEDED, same version is already published
Package 122/191HostnameOS / ArchINSTALLBUILDCHECKBUILD BIN
missMethyl 1.32.1  (landing page)
Belinda Phipson
git_last_commit: a3328e8
git_last_commit_date: 2023-03-16 12:25:01 -0400
nebbiolo2Linux (Ubuntu 20.04.5 LTS) / x86_64  OK    OK    ERROR  
palomino4Windows Server 2022 Datacenter / x64  OK    OK    OK    OK  UNNEEDED, same version is already published
lconwaymacOS 12.5.1 Monterey / x86_64  OK    OK    OK    OK  UNNEEDED, same version is already published
Package 123/191HostnameOS / ArchINSTALLBUILDCHECKBUILD BIN
MLP 1.46.0  (landing page)
Tobias Verbeke
git_last_commit: fad144e
git_last_commit_date: 2022-11-01 11:05:26 -0400
nebbiolo2Linux (Ubuntu 20.04.5 LTS) / x86_64  OK    OK    OK  UNNEEDED, same version is already published
palomino4Windows Server 2022 Datacenter / x64  OK    OK    OK    OK  UNNEEDED, same version is already published
lconwaymacOS 12.5.1 Monterey / x86_64  OK    OK    OK    OK  UNNEEDED, same version is already published
Package 124/191HostnameOS / ArchINSTALLBUILDCHECKBUILD BIN
MSnID 1.32.0  (landing page)
Vlad Petyuk
git_last_commit: d641e00
git_last_commit_date: 2022-11-01 11:10:19 -0400
nebbiolo2Linux (Ubuntu 20.04.5 LTS) / x86_64  OK    OK    OK  UNNEEDED, same version is already published
palomino4Windows Server 2022 Datacenter / x64  OK    OK    OK    OK  UNNEEDED, same version is already published
lconwaymacOS 12.5.1 Monterey / x86_64  OK    OK    OK    OK  UNNEEDED, same version is already published
Package 125/191HostnameOS / ArchINSTALLBUILDCHECKBUILD BIN
multiGSEA 1.8.3  (landing page)
Sebastian Canzler
git_last_commit: ee9d3e7
git_last_commit_date: 2023-03-28 09:17:06 -0400
nebbiolo2Linux (Ubuntu 20.04.5 LTS) / x86_64  OK    OK    ERROR  
palomino4Windows Server 2022 Datacenter / x64  OK    OK    ERROR    OK  
lconwaymacOS 12.5.1 Monterey / x86_64  OK    OK    ERROR    OK  
Package 126/191HostnameOS / ArchINSTALLBUILDCHECKBUILD BIN
multiMiR 1.20.0  (landing page)
Matt Mulvahill
git_last_commit: dd1fe3c
git_last_commit_date: 2022-11-01 11:16:22 -0400
nebbiolo2Linux (Ubuntu 20.04.5 LTS) / x86_64  OK    OK    OK  UNNEEDED, same version is already published
palomino4Windows Server 2022 Datacenter / x64  OK    OK    OK    OK  UNNEEDED, same version is already published
lconwaymacOS 12.5.1 Monterey / x86_64  OK    OK    OK    OK  UNNEEDED, same version is already published
Package 127/191HostnameOS / ArchINSTALLBUILDCHECKBUILD BIN
NanoMethViz 2.4.2  (landing page)
Shian Su
git_last_commit: 8db7fbf
git_last_commit_date: 2023-02-13 00:07:07 -0400
nebbiolo2Linux (Ubuntu 20.04.5 LTS) / x86_64  OK    OK    OK  UNNEEDED, same version is already published
palomino4Windows Server 2022 Datacenter / x64  OK    OK    OK    OK  UNNEEDED, same version is already published
lconwaymacOS 12.5.1 Monterey / x86_64  OK    OK    OK    OK  UNNEEDED, same version is already published
Package 128/191HostnameOS / ArchINSTALLBUILDCHECKBUILD BIN
NanoStringQCPro 1.30.0  (landing page)
Robert Ziman
git_last_commit: d6922c8
git_last_commit_date: 2022-11-01 11:11:30 -0400
nebbiolo2Linux (Ubuntu 20.04.5 LTS) / x86_64  OK    OK    ERROR  
palomino4Windows Server 2022 Datacenter / x64  OK    OK    ERROR    OK  
lconwaymacOS 12.5.1 Monterey / x86_64  OK    OK    ERROR    OK  
Package 129/191HostnameOS / ArchINSTALLBUILDCHECKBUILD BIN
nanotatoR 1.14.0  (landing page)
Surajit Bhattacharya
git_last_commit: b95ab56
git_last_commit_date: 2022-11-01 11:19:50 -0400
nebbiolo2Linux (Ubuntu 20.04.5 LTS) / x86_64  OK    OK    OK  UNNEEDED, same version is already published
palomino4Windows Server 2022 Datacenter / x64  OK    OK    OK    OK  UNNEEDED, same version is already published
lconwaymacOS 12.5.1 Monterey / x86_64  OK    OK    OK    OK  UNNEEDED, same version is already published
Package 130/191HostnameOS / ArchINSTALLBUILDCHECKBUILD BIN
netOmics 1.4.0  (landing page)
Antoine Bodein
git_last_commit: 0f6398e
git_last_commit_date: 2022-11-01 11:26:03 -0400
nebbiolo2Linux (Ubuntu 20.04.5 LTS) / x86_64  OK    ERROR  skipped
palomino4Windows Server 2022 Datacenter / x64  OK    ERROR  skippedskipped
lconwaymacOS 12.5.1 Monterey / x86_64  OK    ERROR  skippedskipped
Package 131/191HostnameOS / ArchINSTALLBUILDCHECKBUILD BIN
NetSAM 1.38.0  (landing page)
Zhiao Shi
git_last_commit: dd9a6db
git_last_commit_date: 2022-11-01 11:08:21 -0400
nebbiolo2Linux (Ubuntu 20.04.5 LTS) / x86_64  OK    OK    OK  UNNEEDED, same version is already published
palomino4Windows Server 2022 Datacenter / x64  OK    OK    ERROR    OK  
lconwaymacOS 12.5.1 Monterey / x86_64  OK    OK    OK    OK  UNNEEDED, same version is already published
Package 132/191HostnameOS / ArchINSTALLBUILDCHECKBUILD BIN
netZooR 1.2.0  (landing page)
Marouen Ben Guebila
git_last_commit: 65d77ca
git_last_commit_date: 2022-11-01 11:26:12 -0400
nebbiolo2Linux (Ubuntu 20.04.5 LTS) / x86_64  OK    OK    ERROR  
palomino4Windows Server 2022 Datacenter / x64  OK    OK    OK    OK  UNNEEDED, same version is already published
lconwaymacOS 12.5.1 Monterey / x86_64  OK    OK    OK    OK  UNNEEDED, same version is already published
Package 133/191HostnameOS / ArchINSTALLBUILDCHECKBUILD BIN
NoRCE 1.10.0  (landing page)
Gulden Olgun
git_last_commit: 39a8626
git_last_commit_date: 2022-11-01 11:21:35 -0400
nebbiolo2Linux (Ubuntu 20.04.5 LTS) / x86_64  OK    OK    OK  UNNEEDED, same version is already published
palomino4Windows Server 2022 Datacenter / x64  OK    OK    OK    OK  UNNEEDED, same version is already published
lconwaymacOS 12.5.1 Monterey / x86_64  OK    OK    OK    OK  UNNEEDED, same version is already published
Package 134/191HostnameOS / ArchINSTALLBUILDCHECKBUILD BIN
ORFik 1.18.2  (landing page)
Haakon Tjeldnes
git_last_commit: 4ab60c3
git_last_commit_date: 2023-01-13 19:50:22 -0400
nebbiolo2Linux (Ubuntu 20.04.5 LTS) / x86_64  OK    OK    OK  UNNEEDED, same version is already published
palomino4Windows Server 2022 Datacenter / x64  OK    OK    OK    OK  UNNEEDED, same version is already published
lconwaymacOS 12.5.1 Monterey / x86_64  OK    OK    OK    OK  UNNEEDED, same version is already published
Package 135/191HostnameOS / ArchINSTALLBUILDCHECKBUILD BIN
Organism.dplyr 1.26.0  (landing page)
Martin Morgan
git_last_commit: 9ed7b45
git_last_commit_date: 2022-11-01 11:15:16 -0400
nebbiolo2Linux (Ubuntu 20.04.5 LTS) / x86_64  OK    OK    OK  UNNEEDED, same version is already published
palomino4Windows Server 2022 Datacenter / x64  OK    OK    OK    OK  UNNEEDED, same version is already published
lconwaymacOS 12.5.1 Monterey / x86_64  OK    OK    OK    OK  UNNEEDED, same version is already published
Package 136/191HostnameOS / ArchINSTALLBUILDCHECKBUILD BIN
OrganismDbi 1.40.0  (landing page)
Bioconductor Package Maintainer
git_last_commit: fac971d
git_last_commit_date: 2022-11-01 11:07:19 -0400
nebbiolo2Linux (Ubuntu 20.04.5 LTS) / x86_64  OK    OK    OK  UNNEEDED, same version is already published
palomino4Windows Server 2022 Datacenter / x64  OK    OK    OK    OK  UNNEEDED, same version is already published
lconwaymacOS 12.5.1 Monterey / x86_64  OK    OK    OK    OK  UNNEEDED, same version is already published
Package 137/191HostnameOS / ArchINSTALLBUILDCHECKBUILD BIN
PADOG 1.40.0  (landing page)
Adi L. Tarca
git_last_commit: 3351ce4
git_last_commit_date: 2022-11-01 11:07:12 -0400
nebbiolo2Linux (Ubuntu 20.04.5 LTS) / x86_64  OK    OK    OK  UNNEEDED, same version is already published
palomino4Windows Server 2022 Datacenter / x64  OK    OK    OK    OK  UNNEEDED, same version is already published
lconwaymacOS 12.5.1 Monterey / x86_64  OK    OK    OK    OK  UNNEEDED, same version is already published
Package 138/191HostnameOS / ArchINSTALLBUILDCHECKBUILD BIN
pathRender 1.66.0  (landing page)
Vince Carey
git_last_commit: ee26e86
git_last_commit_date: 2022-11-01 10:40:23 -0400
nebbiolo2Linux (Ubuntu 20.04.5 LTS) / x86_64  OK    OK    OK  UNNEEDED, same version is already published
palomino4Windows Server 2022 Datacenter / x64  OK    OK    OK    OK  UNNEEDED, same version is already published
lconwaymacOS 12.5.1 Monterey / x86_64  OK    OK    OK    OK  UNNEEDED, same version is already published
Package 139/191HostnameOS / ArchINSTALLBUILDCHECKBUILD BIN
pathview 1.38.0  (landing page)
Weijun Luo
git_last_commit: 8229376
git_last_commit_date: 2022-11-01 11:07:58 -0400
nebbiolo2Linux (Ubuntu 20.04.5 LTS) / x86_64  OK    OK    WARNINGS  UNNEEDED, same version is already published
palomino4Windows Server 2022 Datacenter / x64  OK    OK    WARNINGS    OK  UNNEEDED, same version is already published
lconwaymacOS 12.5.1 Monterey / x86_64  OK    OK    WARNINGS    OK  UNNEEDED, same version is already published
Package 140/191HostnameOS / ArchINSTALLBUILDCHECKBUILD BIN
pcaExplorer 2.24.0  (landing page)
Federico Marini
git_last_commit: 15ff062
git_last_commit_date: 2022-11-01 11:13:31 -0400
nebbiolo2Linux (Ubuntu 20.04.5 LTS) / x86_64  OK    OK    OK  UNNEEDED, same version is already published
palomino4Windows Server 2022 Datacenter / x64  OK    OK    OK    OK  UNNEEDED, same version is already published
lconwaymacOS 12.5.1 Monterey / x86_64  OK    OK    OK    OK  UNNEEDED, same version is already published
Package 141/191HostnameOS / ArchINSTALLBUILDCHECKBUILD BIN
phantasus 1.18.4  (landing page)
Alexey Sergushichev
git_last_commit: 4458180
git_last_commit_date: 2022-12-21 17:25:09 -0400
nebbiolo2Linux (Ubuntu 20.04.5 LTS) / x86_64  OK    OK    OK  UNNEEDED, same version is already published
palomino4Windows Server 2022 Datacenter / x64  OK    OK    OK    OK  UNNEEDED, same version is already published
lconwaymacOS 12.5.1 Monterey / x86_64  OK    OK    OK    OK  UNNEEDED, same version is already published
Package 142/191HostnameOS / ArchINSTALLBUILDCHECKBUILD BIN
phenoTest 1.46.0  (landing page)
Evarist Planet
git_last_commit: da0d349
git_last_commit_date: 2022-11-01 11:05:33 -0400
nebbiolo2Linux (Ubuntu 20.04.5 LTS) / x86_64  OK    OK    WARNINGS  UNNEEDED, same version is already published
palomino4Windows Server 2022 Datacenter / x64  OK    OK    WARNINGS    OK  UNNEEDED, same version is already published
lconwaymacOS 12.5.1 Monterey / x86_64  OK    OK    WARNINGS    OK  UNNEEDED, same version is already published
Package 143/191HostnameOS / ArchINSTALLBUILDCHECKBUILD BIN
proActiv 1.8.0  (landing page)
Joseph Lee
git_last_commit: dc9233c
git_last_commit_date: 2022-11-01 11:22:49 -0400
nebbiolo2Linux (Ubuntu 20.04.5 LTS) / x86_64  OK    OK    OK  UNNEEDED, same version is already published
palomino4Windows Server 2022 Datacenter / x64  OK    OK    OK    OK  UNNEEDED, same version is already published
lconwaymacOS 12.5.1 Monterey / x86_64  OK    OK    OK    OK  UNNEEDED, same version is already published
Package 144/191HostnameOS / ArchINSTALLBUILDCHECKBUILD BIN
proBAMr 1.32.0  (landing page)
Xiaojing Wang
git_last_commit: e64ea32
git_last_commit_date: 2022-11-01 11:10:28 -0400
nebbiolo2Linux (Ubuntu 20.04.5 LTS) / x86_64  OK    OK    OK  UNNEEDED, same version is already published
palomino4Windows Server 2022 Datacenter / x64  OK    OK    OK    OK  UNNEEDED, same version is already published
lconwaymacOS 12.5.1 Monterey / x86_64  OK    OK    OK    OK  UNNEEDED, same version is already published
Package 145/191HostnameOS / ArchINSTALLBUILDCHECKBUILD BIN
psichomics 1.24.0  (landing page)
Nuno Saraiva-Agostinho
git_last_commit: ff95655
git_last_commit_date: 2022-11-01 11:14:40 -0400
nebbiolo2Linux (Ubuntu 20.04.5 LTS) / x86_64  OK    OK    OK  UNNEEDED, same version is already published
palomino4Windows Server 2022 Datacenter / x64  OK    OK    OK    OK  UNNEEDED, same version is already published
lconwaymacOS 12.5.1 Monterey / x86_64  OK    OK    OK    OK  UNNEEDED, same version is already published
Package 146/191HostnameOS / ArchINSTALLBUILDCHECKBUILD BIN
pwOmics 1.30.0  (landing page)
Maren Sitte
git_last_commit: f59da6c
git_last_commit_date: 2022-11-01 11:11:40 -0400
nebbiolo2Linux (Ubuntu 20.04.5 LTS) / x86_64  OK    OK    WARNINGS  UNNEEDED, same version is already published
palomino4Windows Server 2022 Datacenter / x64  OK    OK    WARNINGS    OK  UNNEEDED, same version is already published
lconwaymacOS 12.5.1 Monterey / x86_64  OK    OK    WARNINGS    OK  UNNEEDED, same version is already published
Package 147/191HostnameOS / ArchINSTALLBUILDCHECKBUILD BIN
qpgraph 2.32.2  (landing page)
Robert Castelo
git_last_commit: 813e677
git_last_commit_date: 2023-01-19 11:18:12 -0400
nebbiolo2Linux (Ubuntu 20.04.5 LTS) / x86_64  OK    OK    OK  UNNEEDED, same version is already published
palomino4Windows Server 2022 Datacenter / x64  OK    OK    OK    OK  UNNEEDED, same version is already published
lconwaymacOS 12.5.1 Monterey / x86_64  OK    OK    OK    OK  UNNEEDED, same version is already published
Package 148/191HostnameOS / ArchINSTALLBUILDCHECKBUILD BIN
QuasR 1.38.0  (landing page)
Michael Stadler
git_last_commit: 0d658f7
git_last_commit_date: 2022-11-01 11:07:45 -0400
nebbiolo2Linux (Ubuntu 20.04.5 LTS) / x86_64  OK    OK    OK  UNNEEDED, same version is already published
palomino4Windows Server 2022 Datacenter / x64  OK    OK    OK    OK  UNNEEDED, same version is already published
lconwaymacOS 12.5.1 Monterey / x86_64  OK    OK    OK    OK  UNNEEDED, same version is already published
Package 149/191HostnameOS / ArchINSTALLBUILDCHECKBUILD BIN
rCGH 1.28.0  (landing page)
Frederic Commo
git_last_commit: f82df6d
git_last_commit_date: 2022-11-01 11:11:54 -0400
nebbiolo2Linux (Ubuntu 20.04.5 LTS) / x86_64  OK    OK    OK  UNNEEDED, same version is already published
palomino4Windows Server 2022 Datacenter / x64  OK    OK    OK    OK  UNNEEDED, same version is already published
lconwaymacOS 12.5.1 Monterey / x86_64  OK    OK    OK    OK  UNNEEDED, same version is already published
Package 150/191HostnameOS / ArchINSTALLBUILDCHECKBUILD BIN
ReactomePA 1.42.0  (landing page)
Guangchuang Yu
git_last_commit: db48e25
git_last_commit_date: 2022-11-01 11:06:48 -0400
nebbiolo2Linux (Ubuntu 20.04.5 LTS) / x86_64  OK    OK    OK  UNNEEDED, same version is already published
palomino4Windows Server 2022 Datacenter / x64  OK    OK    OK    OK  UNNEEDED, same version is already published
lconwaymacOS 12.5.1 Monterey / x86_64  OK    OK    OK    OK  UNNEEDED, same version is already published
Package 151/191HostnameOS / ArchINSTALLBUILDCHECKBUILD BIN
REDseq 1.44.0  (landing page)
Lihua Julie Zhu
git_last_commit: 647d21d
git_last_commit_date: 2022-11-01 11:05:56 -0400
nebbiolo2Linux (Ubuntu 20.04.5 LTS) / x86_64  OK    OK    OK  UNNEEDED, same version is already published
palomino4Windows Server 2022 Datacenter / x64  OK    OK    OK    OK  UNNEEDED, same version is already published
lconwaymacOS 12.5.1 Monterey / x86_64  OK    OK    OK    OK  UNNEEDED, same version is already published
Package 152/191HostnameOS / ArchINSTALLBUILDCHECKBUILD BIN
regutools 1.10.0  (landing page)
Joselyn Chavez
git_last_commit: 329ca37
git_last_commit_date: 2022-11-01 11:22:01 -0400
nebbiolo2Linux (Ubuntu 20.04.5 LTS) / x86_64  OK    OK    OK  UNNEEDED, same version is already published
palomino4Windows Server 2022 Datacenter / x64  OK    OK    OK    OK  UNNEEDED, same version is already published
lconwaymacOS 12.5.1 Monterey / x86_64  OK    OK    OK    OK  UNNEEDED, same version is already published
Package 153/191HostnameOS / ArchINSTALLBUILDCHECKBUILD BIN
ReportingTools 2.38.0  (landing page)
Jason A. Hackney , Gabriel Becker
git_last_commit: 5c4971e
git_last_commit_date: 2022-11-01 11:07:25 -0400
nebbiolo2Linux (Ubuntu 20.04.5 LTS) / x86_64  OK    OK    OK  UNNEEDED, same version is already published
palomino4Windows Server 2022 Datacenter / x64  OK    OK    OK    OK  UNNEEDED, same version is already published
lconwaymacOS 12.5.1 Monterey / x86_64  OK    OK    OK    OK  UNNEEDED, same version is already published
Package 154/191HostnameOS / ArchINSTALLBUILDCHECKBUILD BIN
restfulSE 1.20.0  (landing page)
Shweta Gopaulakrishnan
git_last_commit: 0d059b0
git_last_commit_date: 2022-11-01 11:16:25 -0400
nebbiolo2Linux (Ubuntu 20.04.5 LTS) / x86_64  OK    OK    OK  UNNEEDED, same version is already published
palomino4Windows Server 2022 Datacenter / x64  OK    ERROR  skippedskipped
lconwaymacOS 12.5.1 Monterey / x86_64  OK    OK    OK    OK  UNNEEDED, same version is already published
Package 155/191HostnameOS / ArchINSTALLBUILDCHECKBUILD BIN
rGREAT 2.0.2  (landing page)
Zuguang Gu
git_last_commit: a8049fc
git_last_commit_date: 2022-11-21 05:27:00 -0400
nebbiolo2Linux (Ubuntu 20.04.5 LTS) / x86_64  OK    OK    OK  UNNEEDED, same version is already published
palomino4Windows Server 2022 Datacenter / x64  OK    OK    OK    OK  UNNEEDED, same version is already published
lconwaymacOS 12.5.1 Monterey / x86_64  OK    OK    OK    OK  UNNEEDED, same version is already published
Package 156/191HostnameOS / ArchINSTALLBUILDCHECKBUILD BIN
rgsepd 1.30.0  (landing page)
Karl Stamm
git_last_commit: d59ea56
git_last_commit_date: 2022-11-01 11:10:53 -0400
nebbiolo2Linux (Ubuntu 20.04.5 LTS) / x86_64  OK    OK    OK  UNNEEDED, same version is already published
palomino4Windows Server 2022 Datacenter / x64  OK    OK    OK    OK  UNNEEDED, same version is already published
lconwaymacOS 12.5.1 Monterey / x86_64  OK    OK    OK    OK  UNNEEDED, same version is already published
Package 157/191HostnameOS / ArchINSTALLBUILDCHECKBUILD BIN
ribosomeProfilingQC 1.10.0  (landing page)
Jianhong Ou
git_last_commit: 1fb3d93
git_last_commit_date: 2022-11-01 11:21:25 -0400
nebbiolo2Linux (Ubuntu 20.04.5 LTS) / x86_64  OK    OK    OK  UNNEEDED, same version is already published
palomino4Windows Server 2022 Datacenter / x64  OK    OK    OK    OK  UNNEEDED, same version is already published
lconwaymacOS 12.5.1 Monterey / x86_64  OK    OK    OK    OK  UNNEEDED, same version is already published
Package 158/191HostnameOS / ArchINSTALLBUILDCHECKBUILD BIN
RNAAgeCalc 1.10.0  (landing page)
Xu Ren
git_last_commit: 3d06c66
git_last_commit_date: 2022-11-01 11:21:33 -0400
nebbiolo2Linux (Ubuntu 20.04.5 LTS) / x86_64  OK    OK    OK  UNNEEDED, same version is already published
palomino4Windows Server 2022 Datacenter / x64  OK    OK    OK    OK  UNNEEDED, same version is already published
lconwaymacOS 12.5.1 Monterey / x86_64  OK    OK    OK    OK  UNNEEDED, same version is already published
Package 159/191HostnameOS / ArchINSTALLBUILDCHECKBUILD BIN
rrvgo 1.10.0  (landing page)
Sergi Sayols
git_last_commit: 4b4bf52
git_last_commit_date: 2022-11-01 11:21:26 -0400
nebbiolo2Linux (Ubuntu 20.04.5 LTS) / x86_64  OK    OK    OK  UNNEEDED, same version is already published
palomino4Windows Server 2022 Datacenter / x64  OK    OK    OK    OK  UNNEEDED, same version is already published
lconwaymacOS 12.5.1 Monterey / x86_64  OK    OK    OK    OK  UNNEEDED, same version is already published
Package 160/191HostnameOS / ArchINSTALLBUILDCHECKBUILD BIN
rTRM 1.36.0  (landing page)
Diego Diez
git_last_commit: 76bbcd6
git_last_commit_date: 2022-11-01 11:08:23 -0400
nebbiolo2Linux (Ubuntu 20.04.5 LTS) / x86_64  OK    OK    OK  UNNEEDED, same version is already published
palomino4Windows Server 2022 Datacenter / x64  OK    OK    OK    OK  UNNEEDED, same version is already published
lconwaymacOS 12.5.1 Monterey / x86_64  OK    OK    OK    OK  UNNEEDED, same version is already published
Package 161/191HostnameOS / ArchINSTALLBUILDCHECKBUILD BIN
safe 3.38.0  (landing page)
Ludwig Geistlinger
git_last_commit: 03b8dee
git_last_commit_date: 2022-11-01 10:38:50 -0400
nebbiolo2Linux (Ubuntu 20.04.5 LTS) / x86_64  OK    OK    OK  UNNEEDED, same version is already published
palomino4Windows Server 2022 Datacenter / x64  OK    OK    OK    OK  UNNEEDED, same version is already published
lconwaymacOS 12.5.1 Monterey / x86_64  OK    OK    OK    OK  UNNEEDED, same version is already published
Package 162/191HostnameOS / ArchINSTALLBUILDCHECKBUILD BIN
SBGNview 1.12.0  (landing page)
Weijun Luo
git_last_commit: 688ec84
git_last_commit_date: 2022-11-01 11:20:07 -0400
nebbiolo2Linux (Ubuntu 20.04.5 LTS) / x86_64  OK    OK    OK  UNNEEDED, same version is already published
palomino4Windows Server 2022 Datacenter / x64  OK    OK    OK    OK  UNNEEDED, same version is already published
lconwaymacOS 12.5.1 Monterey / x86_64  OK    OK    OK    OK  UNNEEDED, same version is already published
Package 163/191HostnameOS / ArchINSTALLBUILDCHECKBUILD BIN
scanMiRApp 1.4.0  (landing page)
Pierre-Luc Germain
git_last_commit: e15546d
git_last_commit_date: 2022-11-01 11:25:25 -0400
nebbiolo2Linux (Ubuntu 20.04.5 LTS) / x86_64  OK    OK    WARNINGS  UNNEEDED, same version is already published
palomino4Windows Server 2022 Datacenter / x64  OK    OK    WARNINGS    OK  UNNEEDED, same version is already published
lconwaymacOS 12.5.1 Monterey / x86_64  OK    OK    WARNINGS    OK  UNNEEDED, same version is already published
Package 164/191HostnameOS / ArchINSTALLBUILDCHECKBUILD BIN
scPipe 1.20.6  (landing page)
Shian Su
git_last_commit: defa6ff
git_last_commit_date: 2023-03-06 19:45:39 -0400
nebbiolo2Linux (Ubuntu 20.04.5 LTS) / x86_64  OK    OK    OK  UNNEEDED, same version is already published
palomino4Windows Server 2022 Datacenter / x64  OK    OK    OK    OK  UNNEEDED, same version is already published
lconwaymacOS 12.5.1 Monterey / x86_64  OK    OK    OK    OK  UNNEEDED, same version is already published
Package 165/191HostnameOS / ArchINSTALLBUILDCHECKBUILD BIN
scruff 1.16.0  (landing page)
Zhe Wang
git_last_commit: 6d4b87c
git_last_commit_date: 2022-11-01 11:18:08 -0400
nebbiolo2Linux (Ubuntu 20.04.5 LTS) / x86_64  OK    OK    OK  UNNEEDED, same version is already published
palomino4Windows Server 2022 Datacenter / x64  OK    OK    OK    OK  UNNEEDED, same version is already published
lconwaymacOS 12.5.1 Monterey / x86_64  OK    OK    OK    OK  UNNEEDED, same version is already published
Package 166/191HostnameOS / ArchINSTALLBUILDCHECKBUILD BIN
scTensor 2.8.0  (landing page)
Koki Tsuyuzaki
git_last_commit: 4ead911
git_last_commit_date: 2022-11-01 11:18:55 -0400
nebbiolo2Linux (Ubuntu 20.04.5 LTS) / x86_64  OK    OK    OK  UNNEEDED, same version is already published
palomino4Windows Server 2022 Datacenter / x64  OK    OK    OK    OK  UNNEEDED, same version is already published
lconwaymacOS 12.5.1 Monterey / x86_64  OK    OK    OK    OK  UNNEEDED, same version is already published
Package 167/191HostnameOS / ArchINSTALLBUILDCHECKBUILD BIN
SemDist 1.32.0  (landing page)
Ian Gonzalez
git_last_commit: 35c48bc
git_last_commit_date: 2022-11-01 11:10:08 -0400
nebbiolo2Linux (Ubuntu 20.04.5 LTS) / x86_64  OK    OK    OK  UNNEEDED, same version is already published
palomino4Windows Server 2022 Datacenter / x64  OK    OK    OK    OK  UNNEEDED, same version is already published
lconwaymacOS 12.5.1 Monterey / x86_64  OK    OK    OK    OK  UNNEEDED, same version is already published
Package 168/191HostnameOS / ArchINSTALLBUILDCHECKBUILD BIN
SGSeq 1.32.0  (landing page)
Leonard Goldstein
git_last_commit: dfa228e
git_last_commit_date: 2022-11-01 11:10:36 -0400
nebbiolo2Linux (Ubuntu 20.04.5 LTS) / x86_64  OK    OK    OK  UNNEEDED, same version is already published
palomino4Windows Server 2022 Datacenter / x64  OK    OK    OK    OK  UNNEEDED, same version is already published
lconwaymacOS 12.5.1 Monterey / x86_64  OK    OK    OK    OK  UNNEEDED, same version is already published
Package 169/191HostnameOS / ArchINSTALLBUILDCHECKBUILD BIN
signatureSearch 1.12.0  (landing page)
Brendan Gongol
git_last_commit: b007162
git_last_commit_date: 2022-11-01 11:20:59 -0400
nebbiolo2Linux (Ubuntu 20.04.5 LTS) / x86_64  OK    OK    OK  UNNEEDED, same version is already published
palomino4Windows Server 2022 Datacenter / x64  OK    OK    OK    OK  UNNEEDED, same version is already published
lconwaymacOS 12.5.1 Monterey / x86_64  OK    OK    OK    OK  UNNEEDED, same version is already published
Package 170/191HostnameOS / ArchINSTALLBUILDCHECKBUILD BIN
signifinder 1.0.0  (landing page)
Stefania Pirrotta
git_last_commit: 082a2c4
git_last_commit_date: 2022-11-01 11:27:46 -0400
nebbiolo2Linux (Ubuntu 20.04.5 LTS) / x86_64  OK    OK    OK  UNNEEDED, same version is already published
palomino4Windows Server 2022 Datacenter / x64  OK    OK    OK    OK  UNNEEDED, same version is already published
lconwaymacOS 12.5.1 Monterey / x86_64  OK    OK    OK    OK  UNNEEDED, same version is already published
Package 171/191HostnameOS / ArchINSTALLBUILDCHECKBUILD BIN
simplifyEnrichment 1.8.0  (landing page)
Zuguang Gu
git_last_commit: d0d147f
git_last_commit_date: 2022-11-01 11:22:12 -0400
nebbiolo2Linux (Ubuntu 20.04.5 LTS) / x86_64  OK    OK    OK  UNNEEDED, same version is already published
palomino4Windows Server 2022 Datacenter / x64  OK    OK    OK    OK  UNNEEDED, same version is already published
lconwaymacOS 12.5.1 Monterey / x86_64  OK    OK    OK    OK  UNNEEDED, same version is already published
Package 172/191HostnameOS / ArchINSTALLBUILDCHECKBUILD BIN
SMITE 1.26.0  (landing page)
Neil Ari Wijetunga
git_last_commit: 1293d18
git_last_commit_date: 2022-11-01 11:12:52 -0400
nebbiolo2Linux (Ubuntu 20.04.5 LTS) / x86_64  OK    OK    OK  UNNEEDED, same version is already published
palomino4Windows Server 2022 Datacenter / x64  OK    OK    OK    OK  UNNEEDED, same version is already published
lconwaymacOS 12.5.1 Monterey / x86_64  OK    OK    OK    OK  UNNEEDED, same version is already published
Package 173/191HostnameOS / ArchINSTALLBUILDCHECKBUILD BIN
SpidermiR 1.28.0  (landing page)
Claudia Cava
git_last_commit: a28c48e
git_last_commit_date: 2022-11-01 11:13:15 -0400
nebbiolo2Linux (Ubuntu 20.04.5 LTS) / x86_64  OK    OK    OK  UNNEEDED, same version is already published
palomino4Windows Server 2022 Datacenter / x64  OK    OK    OK    OK  UNNEEDED, same version is already published
lconwaymacOS 12.5.1 Monterey / x86_64  OK    OK    OK    OK  UNNEEDED, same version is already published
Package 174/191HostnameOS / ArchINSTALLBUILDCHECKBUILD BIN
StarBioTrek 1.24.0  (landing page)
Claudia Cava
git_last_commit: 0bb8bb1
git_last_commit_date: 2022-11-01 11:14:46 -0400
nebbiolo2Linux (Ubuntu 20.04.5 LTS) / x86_64  OK    OK    WARNINGS  UNNEEDED, same version is already published
palomino4Windows Server 2022 Datacenter / x64  OK    OK    WARNINGS    OK  UNNEEDED, same version is already published
lconwaymacOS 12.5.1 Monterey / x86_64  OK    OK    WARNINGS    OK  UNNEEDED, same version is already published
Package 175/191HostnameOS / ArchINSTALLBUILDCHECKBUILD BIN
SubCellBarCode 1.14.0  (landing page)
Taner Arslan
git_last_commit: 4fdc616
git_last_commit_date: 2022-11-01 11:19:56 -0400
nebbiolo2Linux (Ubuntu 20.04.5 LTS) / x86_64  OK    OK    OK  UNNEEDED, same version is already published
palomino4Windows Server 2022 Datacenter / x64  OK    OK    OK    OK  UNNEEDED, same version is already published
lconwaymacOS 12.5.1 Monterey / x86_64  OK    OK    OK    OK  UNNEEDED, same version is already published
Package 176/191HostnameOS / ArchINSTALLBUILDCHECKBUILD BIN
TCGAutils 1.18.0  (landing page)
Marcel Ramos
git_last_commit: 04f65bf
git_last_commit_date: 2022-11-01 11:17:46 -0400
nebbiolo2Linux (Ubuntu 20.04.5 LTS) / x86_64  OK    OK    OK  UNNEEDED, same version is already published
palomino4Windows Server 2022 Datacenter / x64  OK    OK    OK    OK  UNNEEDED, same version is already published
lconwaymacOS 12.5.1 Monterey / x86_64  OK    OK    OK    OK  UNNEEDED, same version is already published
Package 177/191HostnameOS / ArchINSTALLBUILDCHECKBUILD BIN
tenXplore 1.20.0  (landing page)
VJ Carey
git_last_commit: 32ae3e4
git_last_commit_date: 2022-11-01 11:16:45 -0400
nebbiolo2Linux (Ubuntu 20.04.5 LTS) / x86_64  OK    OK    OK  UNNEEDED, same version is already published
palomino4Windows Server 2022 Datacenter / x64  OK    OK    OK    OK  UNNEEDED, same version is already published
lconwaymacOS 12.5.1 Monterey / x86_64  OK    OK    OK    OK  UNNEEDED, same version is already published
Package 178/191HostnameOS / ArchINSTALLBUILDCHECKBUILD BIN
TFutils 1.18.0  (landing page)
Vincent Carey
git_last_commit: fa5538c
git_last_commit_date: 2022-11-01 11:17:33 -0400
nebbiolo2Linux (Ubuntu 20.04.5 LTS) / x86_64  OK    OK    OK  UNNEEDED, same version is already published
palomino4Windows Server 2022 Datacenter / x64  OK    OK    OK    OK  UNNEEDED, same version is already published
lconwaymacOS 12.5.1 Monterey / x86_64  OK    OK    OK    OK  UNNEEDED, same version is already published
Package 179/191HostnameOS / ArchINSTALLBUILDCHECKBUILD BIN
tigre 1.52.0  (landing page)
Antti Honkela
git_last_commit: cca6602
git_last_commit_date: 2022-11-01 11:04:58 -0400
nebbiolo2Linux (Ubuntu 20.04.5 LTS) / x86_64  OK    OK    OK  UNNEEDED, same version is already published
palomino4Windows Server 2022 Datacenter / x64  OK    OK    OK    OK  UNNEEDED, same version is already published
lconwaymacOS 12.5.1 Monterey / x86_64  OK    OK    OK    OK  UNNEEDED, same version is already published
Package 180/191HostnameOS / ArchINSTALLBUILDCHECKBUILD BIN
topGO 2.50.0  (landing page)
Adrian Alexa
git_last_commit: befbff4
git_last_commit_date: 2022-11-01 11:03:20 -0400
nebbiolo2Linux (Ubuntu 20.04.5 LTS) / x86_64  OK    OK    OK  UNNEEDED, same version is already published
palomino4Windows Server 2022 Datacenter / x64  OK    OK    OK    OK  UNNEEDED, same version is already published
lconwaymacOS 12.5.1 Monterey / x86_64  OK    OK    OK    OK  UNNEEDED, same version is already published
Package 181/191HostnameOS / ArchINSTALLBUILDCHECKBUILD BIN
trackViewer 1.34.0  (landing page)
Jianhong Ou
git_last_commit: 9daa482
git_last_commit_date: 2022-11-01 11:09:09 -0400
nebbiolo2Linux (Ubuntu 20.04.5 LTS) / x86_64  OK    OK    OK  UNNEEDED, same version is already published
palomino4Windows Server 2022 Datacenter / x64  OK    OK    OK    OK  UNNEEDED, same version is already published
lconwaymacOS 12.5.1 Monterey / x86_64  OK    OK    OK    OK  UNNEEDED, same version is already published
Package 182/191HostnameOS / ArchINSTALLBUILDCHECKBUILD BIN
trena 1.20.0  (landing page)
Paul Shannon
git_last_commit: 0b1d1b9
git_last_commit_date: 2022-11-01 11:15:44 -0400
nebbiolo2Linux (Ubuntu 20.04.5 LTS) / x86_64  OK    OK    WARNINGS  UNNEEDED, same version is already published
palomino4Windows Server 2022 Datacenter / x64  OK    OK    WARNINGS    OK  UNNEEDED, same version is already published
lconwaymacOS 12.5.1 Monterey / x86_64  OK    OK    WARNINGS    OK  UNNEEDED, same version is already published
Package 183/191HostnameOS / ArchINSTALLBUILDCHECKBUILD BIN
TRESS 1.4.0  (landing page)
Zhenxing Guo
git_last_commit: 52ba838
git_last_commit_date: 2022-11-01 11:25:50 -0400
nebbiolo2Linux (Ubuntu 20.04.5 LTS) / x86_64  OK    OK    OK  UNNEEDED, same version is already published
palomino4Windows Server 2022 Datacenter / x64  OK    ERROR  skippedskipped
lconwaymacOS 12.5.1 Monterey / x86_64  OK    OK    OK    OK  UNNEEDED, same version is already published
Package 184/191HostnameOS / ArchINSTALLBUILDCHECKBUILD BIN
tricycle 1.6.0  (landing page)
Shijie Zheng
git_last_commit: adf625e
git_last_commit_date: 2022-11-01 11:24:39 -0400
nebbiolo2Linux (Ubuntu 20.04.5 LTS) / x86_64  OK    OK    OK  UNNEEDED, same version is already published
palomino4Windows Server 2022 Datacenter / x64  OK    OK    OK    OK  UNNEEDED, same version is already published
lconwaymacOS 12.5.1 Monterey / x86_64  OK    OK    OK    OK  UNNEEDED, same version is already published
Package 185/191HostnameOS / ArchINSTALLBUILDCHECKBUILD BIN
txcutr 1.4.0  (landing page)
Mervin Fansler
git_last_commit: 2d0b602
git_last_commit_date: 2022-11-01 11:26:04 -0400
nebbiolo2Linux (Ubuntu 20.04.5 LTS) / x86_64  OK    OK    OK  UNNEEDED, same version is already published
palomino4Windows Server 2022 Datacenter / x64  OK    OK    OK    OK  UNNEEDED, same version is already published
lconwaymacOS 12.5.1 Monterey / x86_64  OK    OK    OK    OK  UNNEEDED, same version is already published
Package 186/191HostnameOS / ArchINSTALLBUILDCHECKBUILD BIN
tximeta 1.16.1  (landing page)
Michael Love
git_last_commit: 2072392
git_last_commit_date: 2023-02-12 23:18:53 -0400
nebbiolo2Linux (Ubuntu 20.04.5 LTS) / x86_64  OK    OK    OK  UNNEEDED, same version is already published
palomino4Windows Server 2022 Datacenter / x64  OK    OK    OK    OK  UNNEEDED, same version is already published
lconwaymacOS 12.5.1 Monterey / x86_64  OK    OK    OK    OK  UNNEEDED, same version is already published
Package 187/191HostnameOS / ArchINSTALLBUILDCHECKBUILD BIN
Ularcirc 1.16.0  (landing page)
David Humphreys
git_last_commit: c4f780d
git_last_commit_date: 2022-11-01 11:17:58 -0400
nebbiolo2Linux (Ubuntu 20.04.5 LTS) / x86_64  OK    OK    WARNINGS  UNNEEDED, same version is already published
palomino4Windows Server 2022 Datacenter / x64  OK    OK    WARNINGS    OK  UNNEEDED, same version is already published
lconwaymacOS 12.5.1 Monterey / x86_64  OK    OK    WARNINGS    OK  UNNEEDED, same version is already published
Package 188/191HostnameOS / ArchINSTALLBUILDCHECKBUILD BIN
UniProt.ws 2.38.1  (landing page)
Marcel Ramos
git_last_commit: cdb97ca
git_last_commit_date: 2022-12-19 10:25:25 -0400
nebbiolo2Linux (Ubuntu 20.04.5 LTS) / x86_64  OK    OK    OK  UNNEEDED, same version is already published
palomino4Windows Server 2022 Datacenter / x64  OK    OK    OK    OK  UNNEEDED, same version is already published
lconwaymacOS 12.5.1 Monterey / x86_64  OK    OK    OK    OK  UNNEEDED, same version is already published
Package 189/191HostnameOS / ArchINSTALLBUILDCHECKBUILD BIN
VariantAnnotation 1.44.1  (landing page)
Bioconductor Package Maintainer
git_last_commit: 2c52839
git_last_commit_date: 2023-02-14 16:02:56 -0400
nebbiolo2Linux (Ubuntu 20.04.5 LTS) / x86_64  OK    OK    OK  UNNEEDED, same version is already published
palomino4Windows Server 2022 Datacenter / x64  OK    OK    OK    OK  UNNEEDED, same version is already published
lconwaymacOS 12.5.1 Monterey / x86_64  OK    OK    OK    OK  UNNEEDED, same version is already published
Package 190/191HostnameOS / ArchINSTALLBUILDCHECKBUILD BIN
VariantFiltering 1.34.0  (landing page)
Robert Castelo
git_last_commit: 0a6a94d
git_last_commit_date: 2022-11-01 11:09:33 -0400
nebbiolo2Linux (Ubuntu 20.04.5 LTS) / x86_64  OK    OK    OK  UNNEEDED, same version is already published
palomino4Windows Server 2022 Datacenter / x64  OK    OK    OK    OK  UNNEEDED, same version is already published
lconwaymacOS 12.5.1 Monterey / x86_64  OK    OK    OK    OK  UNNEEDED, same version is already published
Package 191/191HostnameOS / ArchINSTALLBUILDCHECKBUILD BIN
ViSEAGO 1.12.0  (landing page)
Aurelien Brionne
git_last_commit: 12dddc3
git_last_commit_date: 2022-11-01 11:20:11 -0400
nebbiolo2Linux (Ubuntu 20.04.5 LTS) / x86_64  OK    OK    WARNINGS  UNNEEDED, same version is already published
palomino4Windows Server 2022 Datacenter / x64  OK    OK    WARNINGS    OK  UNNEEDED, same version is already published
lconwaymacOS 12.5.1 Monterey / x86_64  OK    OK    WARNINGS    OK  UNNEEDED, same version is already published