Back to Multiple platform build/check report for BioC 3.16:   simplified   long
ABCDEFGHIJKLMNOPQR[S]TUVWXYZ

This page was generated on 2023-03-24 11:06:58 -0400 (Fri, 24 Mar 2023).

HostnameOSArch (*)R versionInstalled pkgs
nebbiolo2Linux (Ubuntu 20.04.5 LTS)x86_644.2.3 (2023-03-15) -- "Shortstop Beagle" 4286
palomino4Windows Server 2022 Datacenterx644.2.3 (2023-03-15 ucrt) -- "Shortstop Beagle" 4276
lconwaymacOS 12.5.1 Montereyx86_644.2.3 (2023-03-15) -- "Shortstop Beagle" 4303
Click on any hostname to see more info about the system (e.g. compilers)      (*) as reported by 'uname -p', except on Windows and Mac OS X

CHECK results for SWATH2stats on lconway


To the developers/maintainers of the SWATH2stats package:
- Please allow up to 24 hours (and sometimes 48 hours) for your latest push to git@git.bioconductor.org:packages/SWATH2stats.git to
reflect on this report. See How and When does the builder pull? When will my changes propagate? for more information.
- Make sure to use the following settings in order to reproduce any error or warning you see on this page.

raw results

Package 2002/2183HostnameOS / ArchINSTALLBUILDCHECKBUILD BIN
SWATH2stats 1.28.0  (landing page)
Peter Blattmann
Snapshot Date: 2023-03-22 14:00:04 -0400 (Wed, 22 Mar 2023)
git_url: https://git.bioconductor.org/packages/SWATH2stats
git_branch: RELEASE_3_16
git_last_commit: d1914af
git_last_commit_date: 2022-11-01 11:12:23 -0400 (Tue, 01 Nov 2022)
nebbiolo2Linux (Ubuntu 20.04.5 LTS) / x86_64  OK    OK    OK  UNNEEDED, same version is already published
palomino4Windows Server 2022 Datacenter / x64  OK    OK    OK    OK  UNNEEDED, same version is already published
lconwaymacOS 12.5.1 Monterey / x86_64  OK    OK    OK    OK  UNNEEDED, same version is already published

Summary

Package: SWATH2stats
Version: 1.28.0
Command: /Library/Frameworks/R.framework/Resources/bin/R CMD check --install=check:SWATH2stats.install-out.txt --library=/Library/Frameworks/R.framework/Resources/library --no-vignettes --timings SWATH2stats_1.28.0.tar.gz
StartedAt: 2023-03-22 23:06:39 -0400 (Wed, 22 Mar 2023)
EndedAt: 2023-03-22 23:09:26 -0400 (Wed, 22 Mar 2023)
EllapsedTime: 166.9 seconds
RetCode: 0
Status:   OK  
CheckDir: SWATH2stats.Rcheck
Warnings: 0

Command output

##############################################################################
##############################################################################
###
### Running command:
###
###   /Library/Frameworks/R.framework/Resources/bin/R CMD check --install=check:SWATH2stats.install-out.txt --library=/Library/Frameworks/R.framework/Resources/library --no-vignettes --timings SWATH2stats_1.28.0.tar.gz
###
##############################################################################
##############################################################################


* using log directory ‘/Users/biocbuild/bbs-3.16-bioc/meat/SWATH2stats.Rcheck’
* using R version 4.2.3 (2023-03-15)
* using platform: x86_64-apple-darwin17.0 (64-bit)
* using session charset: UTF-8
* using option ‘--no-vignettes’
* checking for file ‘SWATH2stats/DESCRIPTION’ ... OK
* checking extension type ... Package
* this is package ‘SWATH2stats’ version ‘1.28.0’
* package encoding: UTF-8
* checking package namespace information ... OK
* checking package dependencies ... NOTE
Package which this enhances but not available for checking: ‘aLFQ’
* checking if this is a source package ... OK
* checking if there is a namespace ... OK
* checking for hidden files and directories ... OK
* checking for portable file names ... OK
* checking for sufficient/correct file permissions ... OK
* checking whether package ‘SWATH2stats’ can be installed ... OK
* checking installed package size ... OK
* checking package directory ... OK
* checking ‘build’ directory ... OK
* checking DESCRIPTION meta-information ... OK
* checking top-level files ... OK
* checking for left-over files ... OK
* checking index information ... OK
* checking package subdirectories ... OK
* checking R files for non-ASCII characters ... OK
* checking R files for syntax errors ... OK
* checking whether the package can be loaded ... OK
* checking whether the package can be loaded with stated dependencies ... OK
* checking whether the package can be unloaded cleanly ... OK
* checking whether the namespace can be loaded with stated dependencies ... OK
* checking whether the namespace can be unloaded cleanly ... OK
* checking dependencies in R code ... OK
* checking S3 generic/method consistency ... OK
* checking replacement functions ... OK
* checking foreign function calls ... OK
* checking R code for possible problems ... OK
* checking Rd files ... OK
* checking Rd metadata ... OK
* checking Rd cross-references ... OK
* checking for missing documentation entries ... OK
* checking for code/documentation mismatches ... OK
* checking Rd \usage sections ... OK
* checking Rd contents ... OK
* checking for unstated dependencies in examples ... OK
* checking contents of ‘data’ directory ... OK
* checking data for non-ASCII characters ... OK
* checking data for ASCII and uncompressed saves ... OK
* checking sizes of PDF files under ‘inst/doc’ ... OK
* checking files in ‘vignettes’ ... OK
* checking examples ... OK
Examples with CPU (user + system) or elapsed time > 5s
           user system elapsed
load_mart 0.522  0.058  12.623
* checking for unstated dependencies in ‘tests’ ... OK
* checking tests ...
  Running ‘test-all.R’
 OK
* checking for unstated dependencies in vignettes ... OK
* checking package vignettes in ‘inst/doc’ ... OK
* checking running R code from vignettes ... SKIPPED
* checking re-building of vignette outputs ... SKIPPED
* checking PDF version of manual ... OK
* DONE

Status: 1 NOTE
See
  ‘/Users/biocbuild/bbs-3.16-bioc/meat/SWATH2stats.Rcheck/00check.log’
for details.



Installation output

SWATH2stats.Rcheck/00install.out

##############################################################################
##############################################################################
###
### Running command:
###
###   /Library/Frameworks/R.framework/Resources/bin/R CMD INSTALL SWATH2stats
###
##############################################################################
##############################################################################


* installing to library ‘/Library/Frameworks/R.framework/Versions/4.2/Resources/library’
* installing *source* package ‘SWATH2stats’ ...
** using staged installation
** R
** data
** inst
** byte-compile and prepare package for lazy loading
** help
*** installing help indices
** building package indices
** installing vignettes
** testing if installed package can be loaded from temporary location
** testing if installed package can be loaded from final location
** testing if installed package keeps a record of temporary installation path
* DONE (SWATH2stats)

Tests output

SWATH2stats.Rcheck/tests/test-all.Rout


R version 4.2.3 (2023-03-15) -- "Shortstop Beagle"
Copyright (C) 2023 The R Foundation for Statistical Computing
Platform: x86_64-apple-darwin17.0 (64-bit)

R is free software and comes with ABSOLUTELY NO WARRANTY.
You are welcome to redistribute it under certain conditions.
Type 'license()' or 'licence()' for distribution details.

R is a collaborative project with many contributors.
Type 'contributors()' for more information and
'citation()' on how to cite R or R packages in publications.

Type 'demo()' for some demos, 'help()' for on-line help, or
'help.start()' for an HTML browser interface to help.
Type 'q()' to quit R.

> library(testthat)
> test_check("SWATH2stats")
Loading required package: SWATH2stats
[1] "peterb_J131223_054"
[1] "peterb_L150425_011_SW"
[1] "peterb_L150514_002_SW"
[ FAIL 0 | WARN 74 | SKIP 0 | PASS 113 ]

[ FAIL 0 | WARN 74 | SKIP 0 | PASS 113 ]
> 
> proc.time()
   user  system elapsed 
 10.854   0.613  16.163 

Example timings

SWATH2stats.Rcheck/SWATH2stats-Ex.timings

nameusersystemelapsed
JPP_update0.0960.0040.101
add_genesymbol0.0050.0000.005
assess_decoy_rate0.0940.0030.098
assess_fdr_byrun0.1550.0080.164
assess_fdr_overall0.1530.0080.162
convert4MSstats0.5130.0110.525
convert4PECA0.1290.0050.135
convert4aLFQ0.5360.0230.559
convert4mapDIA0.3030.0160.319
convert4pythonscript0.0970.0020.100
convert_protein_ids000
count_analytes0.1140.0070.121
disaggregate0.1990.0090.208
filter_all_peptides0.1250.0130.138
filter_mscore0.1570.0060.164
filter_mscore_condition0.1510.0070.160
filter_mscore_fdr0.2620.0190.282
filter_mscore_freqobs0.1440.0040.147
filter_on_max_peptides0.1560.0080.165
filter_on_min_peptides0.1550.0040.159
filter_proteotypic_peptides0.1240.0030.127
import_data0.4270.0140.443
load_mart 0.522 0.05812.623
mscore4assayfdr0.2910.0170.308
mscore4pepfdr0.2190.0180.238
mscore4protfdr0.5100.0160.528
plot.fdr_cube0.1270.0060.133
plot.fdr_table0.1220.0060.129
plot_correlation_between_samples0.3210.0100.332
plot_variation0.3540.0150.371
plot_variation_vs_total0.3140.0090.325
reduce_OpenSWATH_output0.1270.0020.130
removeDecoyProteins0.1260.0050.132
sample_annotation0.1200.0090.130
transform_MSstats_OpenSWATH0.0020.0010.003
unifyProteinGroupLabels0.1470.0150.164
validate_columns0.0000.0010.001
write_matrix_peptides0.1000.0020.102
write_matrix_proteins0.1040.0010.106