Back to Multiple platform build/check report for BioC 3.16
ABCDEFGHIJ[K]LMNOPQRSTUVWXYZ

This page was generated on 2022-08-12 11:06:21 -0400 (Fri, 12 Aug 2022).

HostnameOSArch (*)R versionInstalled pkgs
nebbiolo2Linux (Ubuntu 20.04.4 LTS)x86_644.2.1 (2022-06-23) -- "Funny-Looking Kid" 4375
palomino4Windows Server 2022 Datacenterx644.2.1 (2022-06-23 ucrt) -- "Funny-Looking Kid" 4159
lconwaymacOS 12.2.1 Montereyx86_644.2.1 Patched (2022-07-09 r82577) -- "Funny-Looking Kid" 4167
Click on any hostname to see more info about the system (e.g. compilers)      (*) as reported by 'uname -p', except on Windows and Mac OS X

INSTALL results for KEGGlincs on palomino4


To the developers/maintainers of the KEGGlincs package:
- Please allow up to 24 hours (and sometimes 48 hours) for your latest push to git@git.bioconductor.org:packages/KEGGlincs.git to
reflect on this report. See How and When does the builder pull? When will my changes propagate? for more information.
- Make sure to use the following settings in order to reproduce any error or warning you see on this page.

raw results

Package 1004/2139HostnameOS / ArchINSTALLBUILDCHECKBUILD BIN
KEGGlincs 1.23.0  (landing page)
Shana White , Mario Medvedovic
Snapshot Date: 2022-08-11 14:00:04 -0400 (Thu, 11 Aug 2022)
git_url: https://git.bioconductor.org/packages/KEGGlincs
git_branch: master
git_last_commit: e4eee38
git_last_commit_date: 2022-04-26 11:36:19 -0400 (Tue, 26 Apr 2022)
nebbiolo2Linux (Ubuntu 20.04.4 LTS) / x86_64  OK    OK    OK  UNNEEDED, same version is already published
palomino4Windows Server 2022 Datacenter / x64  OK    OK    OK    OK  UNNEEDED, same version is already published
lconwaymacOS 12.2.1 Monterey / x86_64  OK    OK    OK    OK  UNNEEDED, same version is already published

Summary

Package: KEGGlincs
Version: 1.23.0
Command: C:\cygwin\bin\curl.exe -O http://155.52.207.166/BBS/3.16/bioc/src/contrib/KEGGlincs_1.23.0.tar.gz && rm -rf KEGGlincs.buildbin-libdir && mkdir KEGGlincs.buildbin-libdir && F:\biocbuild\bbs-3.16-bioc\R\bin\R.exe CMD INSTALL --merge-multiarch --build --library=KEGGlincs.buildbin-libdir KEGGlincs_1.23.0.tar.gz && F:\biocbuild\bbs-3.16-bioc\R\bin\R.exe CMD INSTALL KEGGlincs_1.23.0.zip && rm KEGGlincs_1.23.0.tar.gz KEGGlincs_1.23.0.zip
StartedAt: 2022-08-11 15:59:51 -0400 (Thu, 11 Aug 2022)
EndedAt: 2022-08-11 16:00:23 -0400 (Thu, 11 Aug 2022)
EllapsedTime: 31.7 seconds
RetCode: 0
Status:   OK  

Command output

##############################################################################
##############################################################################
###
### Running command:
###
###   C:\cygwin\bin\curl.exe -O http://155.52.207.166/BBS/3.16/bioc/src/contrib/KEGGlincs_1.23.0.tar.gz && rm -rf KEGGlincs.buildbin-libdir && mkdir KEGGlincs.buildbin-libdir && F:\biocbuild\bbs-3.16-bioc\R\bin\R.exe CMD INSTALL --merge-multiarch --build --library=KEGGlincs.buildbin-libdir KEGGlincs_1.23.0.tar.gz && F:\biocbuild\bbs-3.16-bioc\R\bin\R.exe CMD INSTALL KEGGlincs_1.23.0.zip && rm KEGGlincs_1.23.0.tar.gz KEGGlincs_1.23.0.zip
###
##############################################################################
##############################################################################


  % Total    % Received % Xferd  Average Speed   Time    Time     Time  Current
                                 Dload  Upload   Total   Spent    Left  Speed

  0     0    0     0    0     0      0      0 --:--:-- --:--:-- --:--:--     0
 12 2149k   12  265k    0     0   666k      0  0:00:03 --:--:--  0:00:03  666k
100 2149k  100 2149k    0     0  3199k      0 --:--:-- --:--:-- --:--:-- 3198k
only one architecture so ignoring '--merge-multiarch'
* installing *source* package 'KEGGlincs' ...
** using staged installation
** R
** inst
** byte-compile and prepare package for lazy loading
** help
*** installing help indices
** building package indices
** installing vignettes
** testing if installed package can be loaded from temporary location
** testing if installed package can be loaded from final location
** testing if installed package keeps a record of temporary installation path
* MD5 sums
packaged installation of 'KEGGlincs' as KEGGlincs_1.23.0.zip
* DONE (KEGGlincs)
* installing to library 'F:/biocbuild/bbs-3.16-bioc/R/library'
package 'KEGGlincs' successfully unpacked and MD5 sums checked