Back to Multiple platform build/check report for BioC 3.16:   simplified   long
ABCDEFGHIJKLMNOPQ[R]STUVWXYZ

This page was generated on 2023-04-12 11:04:48 -0400 (Wed, 12 Apr 2023).

HostnameOSArch (*)R versionInstalled pkgs
nebbiolo2Linux (Ubuntu 20.04.5 LTS)x86_644.2.3 (2023-03-15) -- "Shortstop Beagle" 4502
palomino4Windows Server 2022 Datacenterx644.2.3 (2023-03-15 ucrt) -- "Shortstop Beagle" 4282
lconwaymacOS 12.5.1 Montereyx86_644.2.3 (2023-03-15) -- "Shortstop Beagle" 4310
Click on any hostname to see more info about the system (e.g. compilers)      (*) as reported by 'uname -p', except on Windows and Mac OS X

All results for package Rsamtools


To the developers/maintainers of the Rsamtools package:
- Please allow up to 24 hours (and sometimes 48 hours) for your latest push to git@git.bioconductor.org:packages/Rsamtools.git to
reflect on this report. See How and When does the builder pull? When will my changes propagate? for more information.
- Make sure to use the following settings in order to reproduce any error or warning you see on this page.

raw results

Package 1732/2183HostnameOS / ArchINSTALLBUILDCHECKBUILD BIN
Rsamtools 2.14.0  (landing page)
Bioconductor Package Maintainer
Snapshot Date: 2023-04-10 14:00:05 -0400 (Mon, 10 Apr 2023)
git_url: https://git.bioconductor.org/packages/Rsamtools
git_branch: RELEASE_3_16
git_last_commit: 8302eb7
git_last_commit_date: 2022-11-01 11:04:57 -0400 (Tue, 01 Nov 2022)
nebbiolo2Linux (Ubuntu 20.04.5 LTS) / x86_64  OK    OK    WARNINGS  UNNEEDED, same version is already published
palomino4Windows Server 2022 Datacenter / x64  OK    OK    WARNINGS    OK  UNNEEDED, same version is already published
lconwaymacOS 12.5.1 Monterey / x86_64  OK    OK    WARNINGS    OK  UNNEEDED, same version is already published

Results for Bioconductor software packages that depend directly on package Rsamtools

QUICK STATSOS / ArchINSTALLBUILDCHECKBUILD BIN
nebbiolo2Linux (Ubuntu 20.04.5 LTS) / x86_64
06177
06177
0936132
palomino4Windows Server 2022 Datacenter / x64
04169
05168
0536127
00168
lconwaymacOS 12.5.1 Monterey / x86_64
08174
09173
0634133
00173
Package 1/183HostnameOS / ArchINSTALLBUILDCHECKBUILD BIN
AllelicImbalance 1.36.0  (landing page)
Jesper R Gadin
git_last_commit: cb4910c
git_last_commit_date: 2022-11-01 11:08:46 -0400
nebbiolo2Linux (Ubuntu 20.04.5 LTS) / x86_64  OK    OK    OK  UNNEEDED, same version is already published
palomino4Windows Server 2022 Datacenter / x64  OK    OK    OK    OK  UNNEEDED, same version is already published
lconwaymacOS 12.5.1 Monterey / x86_64  OK    OK    OK    OK  UNNEEDED, same version is already published
Package 2/183HostnameOS / ArchINSTALLBUILDCHECKBUILD BIN
alpine 1.24.0  (landing page)
Michael Love
git_last_commit: 7e734d4
git_last_commit_date: 2022-11-01 11:14:18 -0400
nebbiolo2Linux (Ubuntu 20.04.5 LTS) / x86_64  OK    OK    OK  UNNEEDED, same version is already published
palomino4Windows Server 2022 Datacenter / x64  OK    OK    OK    OK  UNNEEDED, same version is already published
lconwaymacOS 12.5.1 Monterey / x86_64  OK    OK    OK    OK  UNNEEDED, same version is already published
Package 3/183HostnameOS / ArchINSTALLBUILDCHECKBUILD BIN
AneuFinder 1.26.0  (landing page)
Aaron Taudt
git_last_commit: 7cd59a1
git_last_commit_date: 2022-11-01 11:13:19 -0400
nebbiolo2Linux (Ubuntu 20.04.5 LTS) / x86_64  ERROR    ERROR  skipped
palomino4Windows Server 2022 Datacenter / x64  ERROR    ERROR  skippedskipped
lconwaymacOS 12.5.1 Monterey / x86_64  ERROR    ERROR  skippedskipped
Package 4/183HostnameOS / ArchINSTALLBUILDCHECKBUILD BIN
annmap 1.40.0  (landing page)
Chris Wirth
git_last_commit: 02e02b1
git_last_commit_date: 2022-11-01 11:07:03 -0400
nebbiolo2Linux (Ubuntu 20.04.5 LTS) / x86_64  OK    OK    WARNINGS  UNNEEDED, same version is already published
palomino4Windows Server 2022 Datacenter / x64... NOT SUPPORTED ...
lconwaymacOS 12.5.1 Monterey / x86_64  OK    OK    WARNINGS    OK  UNNEEDED, same version is already published
Package 5/183HostnameOS / ArchINSTALLBUILDCHECKBUILD BIN
AnnotationHubData 1.28.0  (landing page)
Bioconductor Package Maintainer
git_last_commit: 37f43f7
git_last_commit_date: 2022-11-01 11:12:08 -0400
nebbiolo2Linux (Ubuntu 20.04.5 LTS) / x86_64  OK    OK    WARNINGS  UNNEEDED, same version is already published
palomino4Windows Server 2022 Datacenter / x64  OK    OK    WARNINGS    OK  UNNEEDED, same version is already published
lconwaymacOS 12.5.1 Monterey / x86_64  OK    OK    WARNINGS    OK  UNNEEDED, same version is already published
Package 6/183HostnameOS / ArchINSTALLBUILDCHECKBUILD BIN
APAlyzer 1.12.0  (landing page)
Ruijia Wang
git_last_commit: 46cf23c
git_last_commit_date: 2022-11-01 11:20:19 -0400
nebbiolo2Linux (Ubuntu 20.04.5 LTS) / x86_64  OK    OK    WARNINGS  UNNEEDED, same version is already published
palomino4Windows Server 2022 Datacenter / x64  OK    OK    WARNINGS    OK  UNNEEDED, same version is already published
lconwaymacOS 12.5.1 Monterey / x86_64  OK    OK    WARNINGS    OK  UNNEEDED, same version is already published
Package 7/183HostnameOS / ArchINSTALLBUILDCHECKBUILD BIN
appreci8R 1.16.0  (landing page)
Sarah Sandmann
git_last_commit: e035de3
git_last_commit_date: 2022-11-01 11:18:06 -0400
nebbiolo2Linux (Ubuntu 20.04.5 LTS) / x86_64  OK    OK    OK  UNNEEDED, same version is already published
palomino4Windows Server 2022 Datacenter / x64  OK    OK    OK    OK  UNNEEDED, same version is already published
lconwaymacOS 12.5.1 Monterey / x86_64  OK    OK    OK    OK  UNNEEDED, same version is already published
Package 8/183HostnameOS / ArchINSTALLBUILDCHECKBUILD BIN
ArrayExpressHTS 1.48.0  (landing page)
Angela Goncalves , Andrew Tikhonov
git_last_commit: 3dbd3e8
git_last_commit_date: 2022-11-01 11:05:54 -0400
nebbiolo2Linux (Ubuntu 20.04.5 LTS) / x86_64  ERROR    ERROR  skipped
palomino4Windows Server 2022 Datacenter / x64... NOT SUPPORTED ...
lconwaymacOS 12.5.1 Monterey / x86_64  ERROR    ERROR  skippedskipped
Package 9/183HostnameOS / ArchINSTALLBUILDCHECKBUILD BIN
ASpediaFI 1.12.0  (landing page)
Doyeong Yu
git_last_commit: ad0dc91
git_last_commit_date: 2022-11-01 11:20:47 -0400
nebbiolo2Linux (Ubuntu 20.04.5 LTS) / x86_64  ERROR    ERROR  skipped
palomino4Windows Server 2022 Datacenter / x64  ERROR    ERROR  skippedskipped
lconwaymacOS 12.5.1 Monterey / x86_64  ERROR    ERROR  skippedskipped
Package 10/183HostnameOS / ArchINSTALLBUILDCHECKBUILD BIN
ASpli 2.8.0  (landing page)
Estefania Mancini
git_last_commit: ff40685
git_last_commit_date: 2022-11-01 11:14:10 -0400
nebbiolo2Linux (Ubuntu 20.04.5 LTS) / x86_64  OK    OK    OK  UNNEEDED, same version is already published
palomino4Windows Server 2022 Datacenter / x64  OK    OK    OK    OK  UNNEEDED, same version is already published
lconwaymacOS 12.5.1 Monterey / x86_64  OK    OK    OK    OK  UNNEEDED, same version is already published
Package 11/183HostnameOS / ArchINSTALLBUILDCHECKBUILD BIN
ATACseqQC 1.22.0  (landing page)
Jianhong Ou
git_last_commit: be03c44
git_last_commit_date: 2022-11-01 11:15:41 -0400
nebbiolo2Linux (Ubuntu 20.04.5 LTS) / x86_64  OK    OK    OK  UNNEEDED, same version is already published
palomino4Windows Server 2022 Datacenter / x64  OK    OK    OK    OK  UNNEEDED, same version is already published
lconwaymacOS 12.5.1 Monterey / x86_64  OK    OK    OK    OK  UNNEEDED, same version is already published
Package 12/183HostnameOS / ArchINSTALLBUILDCHECKBUILD BIN
ATACseqTFEA 1.0.1  (landing page)
Jianhong Ou
git_last_commit: ba0fb29
git_last_commit_date: 2022-11-04 14:12:12 -0400
nebbiolo2Linux (Ubuntu 20.04.5 LTS) / x86_64  OK    OK    OK  UNNEEDED, same version is already published
palomino4Windows Server 2022 Datacenter / x64  OK    OK    OK    OK  UNNEEDED, same version is already published
lconwaymacOS 12.5.1 Monterey / x86_64  OK    OK    OK    OK  UNNEEDED, same version is already published
Package 13/183HostnameOS / ArchINSTALLBUILDCHECKBUILD BIN
atena 1.4.1  (landing page)
Beatriz Calvo-Serra
git_last_commit: c41a0fb
git_last_commit_date: 2023-02-03 09:18:06 -0400
nebbiolo2Linux (Ubuntu 20.04.5 LTS) / x86_64  OK    OK    OK  UNNEEDED, same version is already published
palomino4Windows Server 2022 Datacenter / x64  OK    OK    OK    OK  UNNEEDED, same version is already published
lconwaymacOS 12.5.1 Monterey / x86_64  OK    OK    OK    OK  UNNEEDED, same version is already published
Package 14/183HostnameOS / ArchINSTALLBUILDCHECKBUILD BIN
BaalChIP 1.24.0  (landing page)
Ines de Santiago
git_last_commit: d4145fe
git_last_commit_date: 2022-11-01 11:14:26 -0400
nebbiolo2Linux (Ubuntu 20.04.5 LTS) / x86_64  OK    OK    WARNINGS  UNNEEDED, same version is already published
palomino4Windows Server 2022 Datacenter / x64  OK    OK    WARNINGS    OK  UNNEEDED, same version is already published
lconwaymacOS 12.5.1 Monterey / x86_64  OK    OK    WARNINGS    OK  UNNEEDED, same version is already published
Package 15/183HostnameOS / ArchINSTALLBUILDCHECKBUILD BIN
BadRegionFinder 1.26.0  (landing page)
Sarah Sandmann
git_last_commit: 328cbd2
git_last_commit_date: 2022-11-01 11:13:25 -0400
nebbiolo2Linux (Ubuntu 20.04.5 LTS) / x86_64  OK    OK    OK  UNNEEDED, same version is already published
palomino4Windows Server 2022 Datacenter / x64  OK    OK    OK    OK  UNNEEDED, same version is already published
lconwaymacOS 12.5.1 Monterey / x86_64  OK    OK    OK    OK  UNNEEDED, same version is already published
Package 16/183HostnameOS / ArchINSTALLBUILDCHECKBUILD BIN
bambu 3.0.8  (landing page)
Ying Chen
git_last_commit: a946653
git_last_commit_date: 2023-02-14 20:59:35 -0400
nebbiolo2Linux (Ubuntu 20.04.5 LTS) / x86_64  OK    OK    OK  UNNEEDED, same version is already published
palomino4Windows Server 2022 Datacenter / x64  OK    OK    OK    OK  UNNEEDED, same version is already published
lconwaymacOS 12.5.1 Monterey / x86_64  OK    OK    OK    OK  UNNEEDED, same version is already published
Package 17/183HostnameOS / ArchINSTALLBUILDCHECKBUILD BIN
BBCAnalyzer 1.28.0  (landing page)
Sarah Sandmann
git_last_commit: 136e385
git_last_commit_date: 2022-11-01 11:12:03 -0400
nebbiolo2Linux (Ubuntu 20.04.5 LTS) / x86_64  OK    OK    OK  UNNEEDED, same version is already published
palomino4Windows Server 2022 Datacenter / x64  OK    OK    WARNINGS    OK  UNNEEDED, same version is already published
lconwaymacOS 12.5.1 Monterey / x86_64  OK    OK    OK    OK  UNNEEDED, same version is already published
Package 18/183HostnameOS / ArchINSTALLBUILDCHECKBUILD BIN
biovizBase 1.46.0  (landing page)
Michael Lawrence
git_last_commit: a47060c
git_last_commit_date: 2022-11-01 11:06:19 -0400
nebbiolo2Linux (Ubuntu 20.04.5 LTS) / x86_64  OK    OK    WARNINGS  UNNEEDED, same version is already published
palomino4Windows Server 2022 Datacenter / x64  OK    OK    WARNINGS    OK  UNNEEDED, same version is already published
lconwaymacOS 12.5.1 Monterey / x86_64  OK    OK    WARNINGS    OK  UNNEEDED, same version is already published
Package 19/183HostnameOS / ArchINSTALLBUILDCHECKBUILD BIN
biscuiteer 1.12.0  (landing page)
Jacob Morrison
git_last_commit: 236bbc1
git_last_commit_date: 2022-11-01 11:20:50 -0400
nebbiolo2Linux (Ubuntu 20.04.5 LTS) / x86_64  OK    OK    WARNINGS  UNNEEDED, same version is already published
palomino4Windows Server 2022 Datacenter / x64  OK    OK    WARNINGS    OK  UNNEEDED, same version is already published
lconwaymacOS 12.5.1 Monterey / x86_64  OK    OK    WARNINGS    OK  UNNEEDED, same version is already published
Package 20/183HostnameOS / ArchINSTALLBUILDCHECKBUILD BIN
BitSeq 1.42.0  (landing page)
Antti Honkela , Panagiotis Papastamoulis
git_last_commit: 17d08b9
git_last_commit_date: 2022-11-01 11:06:51 -0400
nebbiolo2Linux (Ubuntu 20.04.5 LTS) / x86_64  ERROR    ERROR  skipped
palomino4Windows Server 2022 Datacenter / x64  ERROR    ERROR  skippedskipped
lconwaymacOS 12.5.1 Monterey / x86_64  ERROR    ERROR  skippedskipped
Package 21/183HostnameOS / ArchINSTALLBUILDCHECKBUILD BIN
breakpointR 1.16.0  (landing page)
David Porubsky
git_last_commit: 04d0691
git_last_commit_date: 2022-11-01 11:18:28 -0400
nebbiolo2Linux (Ubuntu 20.04.5 LTS) / x86_64  OK    OK    OK  UNNEEDED, same version is already published
palomino4Windows Server 2022 Datacenter / x64  OK    OK    OK    OK  UNNEEDED, same version is already published
lconwaymacOS 12.5.1 Monterey / x86_64  OK    OK    OK    OK  UNNEEDED, same version is already published
Package 22/183HostnameOS / ArchINSTALLBUILDCHECKBUILD BIN
BRGenomics 1.10.0  (landing page)
Mike DeBerardine
git_last_commit: 966826e
git_last_commit_date: 2022-11-01 11:21:40 -0400
nebbiolo2Linux (Ubuntu 20.04.5 LTS) / x86_64  OK    OK    WARNINGS  UNNEEDED, same version is already published
palomino4Windows Server 2022 Datacenter / x64  OK    OK    WARNINGS    OK  UNNEEDED, same version is already published
lconwaymacOS 12.5.1 Monterey / x86_64  OK    OK    WARNINGS    OK  UNNEEDED, same version is already published
Package 23/183HostnameOS / ArchINSTALLBUILDCHECKBUILD BIN
BSgenome 1.66.3  (landing page)
Hervé Pagès
git_last_commit: f2f40e0
git_last_commit_date: 2023-02-16 10:38:29 -0400
nebbiolo2Linux (Ubuntu 20.04.5 LTS) / x86_64  OK    OK    WARNINGS  UNNEEDED, same version is already published
palomino4Windows Server 2022 Datacenter / x64  OK    OK    WARNINGS    OK  UNNEEDED, same version is already published
lconwaymacOS 12.5.1 Monterey / x86_64  OK    OK    WARNINGS    OK  UNNEEDED, same version is already published
Package 24/183HostnameOS / ArchINSTALLBUILDCHECKBUILD BIN
CAGEr 2.4.0  (landing page)
Charles Plessy
git_last_commit: 4ce371f
git_last_commit_date: 2022-11-01 11:07:54 -0400
nebbiolo2Linux (Ubuntu 20.04.5 LTS) / x86_64  OK    OK    OK  UNNEEDED, same version is already published
palomino4Windows Server 2022 Datacenter / x64  OK    OK    OK    OK  UNNEEDED, same version is already published
lconwaymacOS 12.5.1 Monterey / x86_64  OK    OK    OK    OK  UNNEEDED, same version is already published
Package 25/183HostnameOS / ArchINSTALLBUILDCHECKBUILD BIN
casper 2.32.0  (landing page)
David Rossell
git_last_commit: d0c72cf
git_last_commit_date: 2022-11-01 11:07:47 -0400
nebbiolo2Linux (Ubuntu 20.04.5 LTS) / x86_64  OK    OK    WARNINGS  UNNEEDED, same version is already published
palomino4Windows Server 2022 Datacenter / x64  OK    OK    WARNINGS    OK  UNNEEDED, same version is already published
lconwaymacOS 12.5.1 Monterey / x86_64  OK    ERROR  skippedskipped
Package 26/183HostnameOS / ArchINSTALLBUILDCHECKBUILD BIN
cellbaseR 1.22.0  (landing page)
Mohammed OE Abdallah
git_last_commit: 03e6b83
git_last_commit_date: 2022-11-01 11:15:37 -0400
nebbiolo2Linux (Ubuntu 20.04.5 LTS) / x86_64  OK    OK    OK  UNNEEDED, same version is already published
palomino4Windows Server 2022 Datacenter / x64  OK    OK    OK    OK  UNNEEDED, same version is already published
lconwaymacOS 12.5.1 Monterey / x86_64  OK    OK    OK    OK  UNNEEDED, same version is already published
Package 27/183HostnameOS / ArchINSTALLBUILDCHECKBUILD BIN
CexoR 1.36.0  (landing page)
Pedro Madrigal
git_last_commit: 69bd679
git_last_commit_date: 2022-11-01 11:25:46 -0400
nebbiolo2Linux (Ubuntu 20.04.5 LTS) / x86_64  OK    OK    OK  UNNEEDED, same version is already published
palomino4Windows Server 2022 Datacenter / x64  OK    OK    OK    OK  UNNEEDED, same version is already published
lconwaymacOS 12.5.1 Monterey / x86_64  OK    OK    OK    OK  UNNEEDED, same version is already published
Package 28/183HostnameOS / ArchINSTALLBUILDCHECKBUILD BIN
cfDNAPro 1.4.0  (landing page)
Haichao Wang
git_last_commit: e32b87d
git_last_commit_date: 2022-11-01 11:25:24 -0400
nebbiolo2Linux (Ubuntu 20.04.5 LTS) / x86_64  OK    OK    OK  UNNEEDED, same version is already published
palomino4Windows Server 2022 Datacenter / x64  OK    OK    OK    OK  UNNEEDED, same version is already published
lconwaymacOS 12.5.1 Monterey / x86_64  OK    OK    OK    OK  UNNEEDED, same version is already published
Package 29/183HostnameOS / ArchINSTALLBUILDCHECKBUILD BIN
ChIC 1.18.0  (landing page)
Carmen Maria Livi
git_last_commit: 728615f
git_last_commit_date: 2022-11-01 11:17:36 -0400
nebbiolo2Linux (Ubuntu 20.04.5 LTS) / x86_64  ERROR    ERROR  skipped
palomino4Windows Server 2022 Datacenter / x64... NOT SUPPORTED ...
lconwaymacOS 12.5.1 Monterey / x86_64  ERROR    ERROR  skippedskipped
Package 30/183HostnameOS / ArchINSTALLBUILDCHECKBUILD BIN
chimeraviz 1.24.0  (landing page)
Stian Lågstad
git_last_commit: 0f9835a
git_last_commit_date: 2022-11-01 11:14:55 -0400
nebbiolo2Linux (Ubuntu 20.04.5 LTS) / x86_64  OK    OK    OK  UNNEEDED, same version is already published
palomino4Windows Server 2022 Datacenter / x64  OK    OK    OK    OK  UNNEEDED, same version is already published
lconwaymacOS 12.5.1 Monterey / x86_64  OK    OK    OK    OK  UNNEEDED, same version is already published
Package 31/183HostnameOS / ArchINSTALLBUILDCHECKBUILD BIN
ChIPComp 1.28.0  (landing page)
Li Chen
git_last_commit: 690350e
git_last_commit_date: 2022-11-01 11:12:04 -0400
nebbiolo2Linux (Ubuntu 20.04.5 LTS) / x86_64  OK    OK    OK  UNNEEDED, same version is already published
palomino4Windows Server 2022 Datacenter / x64  OK    OK    OK    OK  UNNEEDED, same version is already published
lconwaymacOS 12.5.1 Monterey / x86_64  OK    OK    OK    OK  UNNEEDED, same version is already published
Package 32/183HostnameOS / ArchINSTALLBUILDCHECKBUILD BIN
ChIPexoQual 1.22.0  (landing page)
Rene Welch
git_last_commit: 60f340b
git_last_commit_date: 2022-11-01 11:15:05 -0400
nebbiolo2Linux (Ubuntu 20.04.5 LTS) / x86_64  OK    OK    OK  UNNEEDED, same version is already published
palomino4Windows Server 2022 Datacenter / x64  OK    OK    OK    OK  UNNEEDED, same version is already published
lconwaymacOS 12.5.1 Monterey / x86_64  OK    OK    OK    OK  UNNEEDED, same version is already published
Package 33/183HostnameOS / ArchINSTALLBUILDCHECKBUILD BIN
ChIPpeakAnno 3.32.0  (landing page)
Jianhong Ou
git_last_commit: 016661f
git_last_commit_date: 2022-11-01 11:04:34 -0400
nebbiolo2Linux (Ubuntu 20.04.5 LTS) / x86_64  OK    OK    OK  UNNEEDED, same version is already published
palomino4Windows Server 2022 Datacenter / x64  OK    OK    OK    OK  UNNEEDED, same version is already published
lconwaymacOS 12.5.1 Monterey / x86_64  OK    OK    OK    OK  UNNEEDED, same version is already published
Package 34/183HostnameOS / ArchINSTALLBUILDCHECKBUILD BIN
ChIPQC 1.34.1  (landing page)
Tom Carroll , Rory Stark
git_last_commit: dabb39a
git_last_commit_date: 2023-01-10 07:39:10 -0400
nebbiolo2Linux (Ubuntu 20.04.5 LTS) / x86_64  OK    OK    WARNINGS  UNNEEDED, same version is already published
palomino4Windows Server 2022 Datacenter / x64  OK    OK    WARNINGS    OK  UNNEEDED, same version is already published
lconwaymacOS 12.5.1 Monterey / x86_64  OK    OK    WARNINGS    OK  UNNEEDED, same version is already published
Package 35/183HostnameOS / ArchINSTALLBUILDCHECKBUILD BIN
ChromSCape 1.8.0  (landing page)
Pacome Prompsy
git_last_commit: d32bd33
git_last_commit_date: 2022-11-01 11:23:01 -0400
nebbiolo2Linux (Ubuntu 20.04.5 LTS) / x86_64  OK    OK    WARNINGS  UNNEEDED, same version is already published
palomino4Windows Server 2022 Datacenter / x64  OK    OK    WARNINGS    OK  UNNEEDED, same version is already published
lconwaymacOS 12.5.1 Monterey / x86_64  OK    OK    WARNINGS    OK  UNNEEDED, same version is already published
Package 36/183HostnameOS / ArchINSTALLBUILDCHECKBUILD BIN
chromstaR 1.24.0  (landing page)
Aaron Taudt
git_last_commit: a38e62b
git_last_commit_date: 2022-11-01 11:13:56 -0400
nebbiolo2Linux (Ubuntu 20.04.5 LTS) / x86_64  OK    OK    OK  UNNEEDED, same version is already published
palomino4Windows Server 2022 Datacenter / x64  OK    OK    OK    OK  UNNEEDED, same version is already published
lconwaymacOS 12.5.1 Monterey / x86_64  OK    OK    OK    OK  UNNEEDED, same version is already published
Package 37/183HostnameOS / ArchINSTALLBUILDCHECKBUILD BIN
chromVAR 1.20.2  (landing page)
Alicia Schep
git_last_commit: 4e0ed21
git_last_commit_date: 2023-01-19 11:15:25 -0400
nebbiolo2Linux (Ubuntu 20.04.5 LTS) / x86_64  OK    OK    OK  UNNEEDED, same version is already published
palomino4Windows Server 2022 Datacenter / x64  OK    OK    OK    OK  UNNEEDED, same version is already published
lconwaymacOS 12.5.1 Monterey / x86_64  OK    OK    OK    OK  UNNEEDED, same version is already published
Package 38/183HostnameOS / ArchINSTALLBUILDCHECKBUILD BIN
CircSeqAlignTk 1.0.0  (landing page)
Jianqiang Sun
git_last_commit: 0166720
git_last_commit_date: 2022-11-01 11:27:37 -0400
nebbiolo2Linux (Ubuntu 20.04.5 LTS) / x86_64  OK    OK    OK  UNNEEDED, same version is already published
palomino4Windows Server 2022 Datacenter / x64  OK    OK    ERROR    OK  
lconwaymacOS 12.5.1 Monterey / x86_64  OK    OK    OK    OK  UNNEEDED, same version is already published
Package 39/183HostnameOS / ArchINSTALLBUILDCHECKBUILD BIN
cn.mops 1.44.0  (landing page)
Gundula Povysil
git_last_commit: 72945ca
git_last_commit_date: 2022-11-01 11:06:31 -0400
nebbiolo2Linux (Ubuntu 20.04.5 LTS) / x86_64  OK    OK    OK  UNNEEDED, same version is already published
palomino4Windows Server 2022 Datacenter / x64  OK    OK    OK    OK  UNNEEDED, same version is already published
lconwaymacOS 12.5.1 Monterey / x86_64  OK    OK    OK    OK  UNNEEDED, same version is already published
Package 40/183HostnameOS / ArchINSTALLBUILDCHECKBUILD BIN
CNVfilteR 1.12.2  (landing page)
Jose Marcos Moreno-Cabrera
git_last_commit: 77c9d47
git_last_commit_date: 2023-03-20 11:30:58 -0400
nebbiolo2Linux (Ubuntu 20.04.5 LTS) / x86_64  OK    OK    OK  UNNEEDED, same version is already published
palomino4Windows Server 2022 Datacenter / x64  OK    OK    OK    OK  UNNEEDED, same version is already published
lconwaymacOS 12.5.1 Monterey / x86_64  OK    OK    OK    OK  UNNEEDED, same version is already published
Package 41/183HostnameOS / ArchINSTALLBUILDCHECKBUILD BIN
CNVPanelizer 1.30.0  (landing page)
Thomas Wolf
git_last_commit: e0047ba
git_last_commit_date: 2022-11-01 11:11:51 -0400
nebbiolo2Linux (Ubuntu 20.04.5 LTS) / x86_64  OK    OK    OK  UNNEEDED, same version is already published
palomino4Windows Server 2022 Datacenter / x64  OK    OK    OK    OK  UNNEEDED, same version is already published
lconwaymacOS 12.5.1 Monterey / x86_64  OK    OK    OK    OK  UNNEEDED, same version is already published
Package 42/183HostnameOS / ArchINSTALLBUILDCHECKBUILD BIN
CNVrd2 1.36.0  (landing page)
Hoang Tan Nguyen
git_last_commit: 27b3c4c
git_last_commit_date: 2022-11-01 11:08:58 -0400
nebbiolo2Linux (Ubuntu 20.04.5 LTS) / x86_64  OK    OK    OK  UNNEEDED, same version is already published
palomino4Windows Server 2022 Datacenter / x64  OK    OK    OK    OK  UNNEEDED, same version is already published
lconwaymacOS 12.5.1 Monterey / x86_64  OK    OK    OK    OK  UNNEEDED, same version is already published
Package 43/183HostnameOS / ArchINSTALLBUILDCHECKBUILD BIN
CODEX 1.30.0  (landing page)
Yuchao Jiang
git_last_commit: 0694f11
git_last_commit_date: 2022-11-01 11:10:55 -0400
nebbiolo2Linux (Ubuntu 20.04.5 LTS) / x86_64  OK    OK    OK  UNNEEDED, same version is already published
palomino4Windows Server 2022 Datacenter / x64  OK    OK    OK    OK  UNNEEDED, same version is already published
lconwaymacOS 12.5.1 Monterey / x86_64  OK    OK    OK    OK  UNNEEDED, same version is already published
Package 44/183HostnameOS / ArchINSTALLBUILDCHECKBUILD BIN
compEpiTools 1.32.0  (landing page)
Kamal Kishore
git_last_commit: a41173d
git_last_commit_date: 2022-11-01 11:10:09 -0400
nebbiolo2Linux (Ubuntu 20.04.5 LTS) / x86_64  OK    OK    WARNINGS  UNNEEDED, same version is already published
palomino4Windows Server 2022 Datacenter / x64  OK    OK    WARNINGS    OK  UNNEEDED, same version is already published
lconwaymacOS 12.5.1 Monterey / x86_64  OK    OK    WARNINGS    OK  UNNEEDED, same version is already published
Package 45/183HostnameOS / ArchINSTALLBUILDCHECKBUILD BIN
consensusDE 1.16.0  (landing page)
Ashley J. Waardenberg
git_last_commit: 4b085f5
git_last_commit_date: 2022-11-01 11:18:46 -0400
nebbiolo2Linux (Ubuntu 20.04.5 LTS) / x86_64  OK    OK    OK  UNNEEDED, same version is already published
palomino4Windows Server 2022 Datacenter / x64  OK    OK    OK    OK  UNNEEDED, same version is already published
lconwaymacOS 12.5.1 Monterey / x86_64  OK    OK    OK    OK  UNNEEDED, same version is already published
Package 46/183HostnameOS / ArchINSTALLBUILDCHECKBUILD BIN
contiBAIT 1.26.0  (landing page)
Kieran O'Neill
git_last_commit: e8a94bc
git_last_commit_date: 2022-11-01 11:12:55 -0400
nebbiolo2Linux (Ubuntu 20.04.5 LTS) / x86_64  OK    OK    WARNINGS  UNNEEDED, same version is already published
palomino4Windows Server 2022 Datacenter / x64  OK    OK    WARNINGS    OK  UNNEEDED, same version is already published
lconwaymacOS 12.5.1 Monterey / x86_64  OK    OK    WARNINGS    OK  UNNEEDED, same version is already published
Package 47/183HostnameOS / ArchINSTALLBUILDCHECKBUILD BIN
CopyNumberPlots 1.14.0  (landing page)
Bernat Gel
git_last_commit: aa4e71a
git_last_commit_date: 2022-11-01 11:19:46 -0400
nebbiolo2Linux (Ubuntu 20.04.5 LTS) / x86_64  OK    OK    OK  UNNEEDED, same version is already published
palomino4Windows Server 2022 Datacenter / x64  OK    OK    OK    OK  UNNEEDED, same version is already published
lconwaymacOS 12.5.1 Monterey / x86_64  OK    OK    OK    OK  UNNEEDED, same version is already published
Package 48/183HostnameOS / ArchINSTALLBUILDCHECKBUILD BIN
CopywriteR 2.30.0  (landing page)
Oscar Krijgsman
git_last_commit: ce2281e
git_last_commit_date: 2022-11-01 11:11:29 -0400
nebbiolo2Linux (Ubuntu 20.04.5 LTS) / x86_64  OK    OK    ERROR  
palomino4Windows Server 2022 Datacenter / x64  OK    OK    OK    OK  UNNEEDED, same version is already published
lconwaymacOS 12.5.1 Monterey / x86_64  OK    OK    OK    OK  UNNEEDED, same version is already published
Package 49/183HostnameOS / ArchINSTALLBUILDCHECKBUILD BIN
CoverageView 1.36.0  (landing page)
Ernesto Lowy
git_last_commit: 76c28ab
git_last_commit_date: 2022-11-01 11:09:32 -0400
nebbiolo2Linux (Ubuntu 20.04.5 LTS) / x86_64  OK    OK    WARNINGS  UNNEEDED, same version is already published
palomino4Windows Server 2022 Datacenter / x64... NOT SUPPORTED ...
lconwaymacOS 12.5.1 Monterey / x86_64  OK    OK    WARNINGS    OK  UNNEEDED, same version is already published
Package 50/183HostnameOS / ArchINSTALLBUILDCHECKBUILD BIN
CrispRVariants 1.26.0  (landing page)
Helen Lindsay
git_last_commit: f5240e3
git_last_commit_date: 2022-11-01 11:12:41 -0400
nebbiolo2Linux (Ubuntu 20.04.5 LTS) / x86_64  OK    OK    WARNINGS  UNNEEDED, same version is already published
palomino4Windows Server 2022 Datacenter / x64  OK    OK    WARNINGS    OK  UNNEEDED, same version is already published
lconwaymacOS 12.5.1 Monterey / x86_64  OK    OK    WARNINGS    OK  UNNEEDED, same version is already published
Package 51/183HostnameOS / ArchINSTALLBUILDCHECKBUILD BIN
csaw 1.32.0  (landing page)
Aaron Lun
git_last_commit: 7ab51d6
git_last_commit_date: 2022-11-01 11:10:35 -0400
nebbiolo2Linux (Ubuntu 20.04.5 LTS) / x86_64  OK    OK    OK  UNNEEDED, same version is already published
palomino4Windows Server 2022 Datacenter / x64  OK    OK    OK    OK  UNNEEDED, same version is already published
lconwaymacOS 12.5.1 Monterey / x86_64  OK    OK    OK    OK  UNNEEDED, same version is already published
Package 52/183HostnameOS / ArchINSTALLBUILDCHECKBUILD BIN
CSSQ 1.10.0  (landing page)
Fan Lab at Georgia Institute of Technology
git_last_commit: cd559b3
git_last_commit_date: 2022-11-01 11:21:05 -0400
nebbiolo2Linux (Ubuntu 20.04.5 LTS) / x86_64  OK    OK    OK  UNNEEDED, same version is already published
palomino4Windows Server 2022 Datacenter / x64  OK    OK    OK    OK  UNNEEDED, same version is already published
lconwaymacOS 12.5.1 Monterey / x86_64  OK    OK    OK    OK  UNNEEDED, same version is already published
Package 53/183HostnameOS / ArchINSTALLBUILDCHECKBUILD BIN
customProDB 1.38.0  (landing page)
Xiaojing Wang
git_last_commit: cfe95f1
git_last_commit_date: 2022-11-01 11:08:20 -0400
nebbiolo2Linux (Ubuntu 20.04.5 LTS) / x86_64  OK    OK    OK  UNNEEDED, same version is already published
palomino4Windows Server 2022 Datacenter / x64  OK    OK    OK    OK  UNNEEDED, same version is already published
lconwaymacOS 12.5.1 Monterey / x86_64  OK    OK    OK    OK  UNNEEDED, same version is already published
Package 54/183HostnameOS / ArchINSTALLBUILDCHECKBUILD BIN
DAMEfinder 1.10.1  (landing page)
Stephany Orjuela
git_last_commit: 731e855
git_last_commit_date: 2022-12-06 08:47:57 -0400
nebbiolo2Linux (Ubuntu 20.04.5 LTS) / x86_64  OK    OK    OK  UNNEEDED, same version is already published
palomino4Windows Server 2022 Datacenter / x64  OK    OK    OK    OK  UNNEEDED, same version is already published
lconwaymacOS 12.5.1 Monterey / x86_64  OK    OK    OK    OK  UNNEEDED, same version is already published
Package 55/183HostnameOS / ArchINSTALLBUILDCHECKBUILD BIN
DegNorm 1.8.2  (landing page)
Ji-Ping Wang
git_last_commit: cfa5bdd
git_last_commit_date: 2023-01-19 11:15:53 -0400
nebbiolo2Linux (Ubuntu 20.04.5 LTS) / x86_64  OK    OK    OK  UNNEEDED, same version is already published
palomino4Windows Server 2022 Datacenter / x64  OK    OK    OK    OK  UNNEEDED, same version is already published
lconwaymacOS 12.5.1 Monterey / x86_64  OK    OK    OK    OK  UNNEEDED, same version is already published
Package 56/183HostnameOS / ArchINSTALLBUILDCHECKBUILD BIN
derfinder 1.32.0  (landing page)
Leonardo Collado-Torres
git_last_commit: d837971
git_last_commit_date: 2022-11-01 11:10:24 -0400
nebbiolo2Linux (Ubuntu 20.04.5 LTS) / x86_64  OK    OK    OK  UNNEEDED, same version is already published
palomino4Windows Server 2022 Datacenter / x64  OK    OK    OK    OK  UNNEEDED, same version is already published
lconwaymacOS 12.5.1 Monterey / x86_64  OK    OK    OK    OK  UNNEEDED, same version is already published
Package 57/183HostnameOS / ArchINSTALLBUILDCHECKBUILD BIN
DEXSeq 1.44.0  (landing page)
Alejandro Reyes
git_last_commit: 9660d73
git_last_commit_date: 2022-11-01 11:05:59 -0400
nebbiolo2Linux (Ubuntu 20.04.5 LTS) / x86_64  OK    OK    OK  UNNEEDED, same version is already published
palomino4Windows Server 2022 Datacenter / x64  OK    OK    OK    OK  UNNEEDED, same version is already published
lconwaymacOS 12.5.1 Monterey / x86_64  OK    OK    OK    OK  UNNEEDED, same version is already published
Package 58/183HostnameOS / ArchINSTALLBUILDCHECKBUILD BIN
DiffBind 3.8.4  (landing page)
Rory Stark
git_last_commit: 846ee10
git_last_commit_date: 2023-01-12 07:26:55 -0400
nebbiolo2Linux (Ubuntu 20.04.5 LTS) / x86_64  OK    OK    OK  UNNEEDED, same version is already published
palomino4Windows Server 2022 Datacenter / x64  OK    OK    OK    OK  UNNEEDED, same version is already published
lconwaymacOS 12.5.1 Monterey / x86_64  OK    OK    OK    OK  UNNEEDED, same version is already published
Package 59/183HostnameOS / ArchINSTALLBUILDCHECKBUILD BIN
diffHic 1.30.0  (landing page)
Aaron Lun
git_last_commit: c42accb
git_last_commit_date: 2022-11-01 11:11:37 -0400
nebbiolo2Linux (Ubuntu 20.04.5 LTS) / x86_64  OK    OK    OK  UNNEEDED, same version is already published
palomino4Windows Server 2022 Datacenter / x64  OK    OK    OK    OK  UNNEEDED, same version is already published
lconwaymacOS 12.5.1 Monterey / x86_64  OK    OK    OK    OK  UNNEEDED, same version is already published
Package 60/183HostnameOS / ArchINSTALLBUILDCHECKBUILD BIN
DNAfusion 1.0.0  (landing page)
Christoffer Trier Maansson
git_last_commit: 163dcf2
git_last_commit_date: 2022-11-01 11:27:49 -0400
nebbiolo2Linux (Ubuntu 20.04.5 LTS) / x86_64  OK    OK    OK  UNNEEDED, same version is already published
palomino4Windows Server 2022 Datacenter / x64  OK    OK    OK    OK  UNNEEDED, same version is already published
lconwaymacOS 12.5.1 Monterey / x86_64  OK    OK    OK    OK  UNNEEDED, same version is already published
Package 61/183HostnameOS / ArchINSTALLBUILDCHECKBUILD BIN
easyRNASeq 2.34.0  (landing page)
Nicolas Delhomme
git_last_commit: 37ce549
git_last_commit_date: 2022-11-01 11:06:37 -0400
nebbiolo2Linux (Ubuntu 20.04.5 LTS) / x86_64  OK    OK    OK  UNNEEDED, same version is already published
palomino4Windows Server 2022 Datacenter / x64  OK    OK    OK    OK  UNNEEDED, same version is already published
lconwaymacOS 12.5.1 Monterey / x86_64  OK    OK    OK    OK  UNNEEDED, same version is already published
Package 62/183HostnameOS / ArchINSTALLBUILDCHECKBUILD BIN
EDASeq 2.32.0  (landing page)
Davide Risso
git_last_commit: 06df5a3
git_last_commit_date: 2022-11-01 11:06:16 -0400
nebbiolo2Linux (Ubuntu 20.04.5 LTS) / x86_64  OK    OK    OK  UNNEEDED, same version is already published
palomino4Windows Server 2022 Datacenter / x64  OK    OK    OK    OK  UNNEEDED, same version is already published
lconwaymacOS 12.5.1 Monterey / x86_64  OK    OK    OK    OK  UNNEEDED, same version is already published
Package 63/183HostnameOS / ArchINSTALLBUILDCHECKBUILD BIN
ensembldb 2.22.0  (landing page)
Johannes Rainer
git_last_commit: 4dda178
git_last_commit_date: 2022-11-01 11:11:20 -0400
nebbiolo2Linux (Ubuntu 20.04.5 LTS) / x86_64  OK    OK    OK  UNNEEDED, same version is already published
palomino4Windows Server 2022 Datacenter / x64  OK    OK    OK    OK  UNNEEDED, same version is already published
lconwaymacOS 12.5.1 Monterey / x86_64  OK    OK    OK    OK  UNNEEDED, same version is already published
Package 64/183HostnameOS / ArchINSTALLBUILDCHECKBUILD BIN
epigenomix 1.38.0  (landing page)
Hans-Ulrich Klein
git_last_commit: 3022714
git_last_commit_date: 2022-11-01 11:07:58 -0400
nebbiolo2Linux (Ubuntu 20.04.5 LTS) / x86_64  OK    OK    OK  UNNEEDED, same version is already published
palomino4Windows Server 2022 Datacenter / x64  OK    OK    OK    OK  UNNEEDED, same version is already published
lconwaymacOS 12.5.1 Monterey / x86_64  OK    OK    OK    OK  UNNEEDED, same version is already published
Package 65/183HostnameOS / ArchINSTALLBUILDCHECKBUILD BIN
epigraHMM 1.6.4  (landing page)
Pedro Baldoni
git_last_commit: 5055b06
git_last_commit_date: 2023-03-22 18:07:04 -0400
nebbiolo2Linux (Ubuntu 20.04.5 LTS) / x86_64  OK    OK    OK  UNNEEDED, same version is already published
palomino4Windows Server 2022 Datacenter / x64  OK    OK    OK    OK  UNNEEDED, same version is already published
lconwaymacOS 12.5.1 Monterey / x86_64  OK    OK    OK    OK  UNNEEDED, same version is already published
Package 66/183HostnameOS / ArchINSTALLBUILDCHECKBUILD BIN
esATAC 1.20.0  (landing page)
Zheng Wei
git_last_commit: 6c9fe81
git_last_commit_date: 2022-11-01 11:16:47 -0400
nebbiolo2Linux (Ubuntu 20.04.5 LTS) / x86_64  OK    OK    WARNINGS  UNNEEDED, same version is already published
palomino4Windows Server 2022 Datacenter / x64  OK    OK    WARNINGS    OK  UNNEEDED, same version is already published
lconwaymacOS 12.5.1 Monterey / x86_64  OK    OK    WARNINGS    OK  UNNEEDED, same version is already published
Package 67/183HostnameOS / ArchINSTALLBUILDCHECKBUILD BIN
eudysbiome 1.28.0  (landing page)
Xiaoyuan Zhou
git_last_commit: 27a1602
git_last_commit_date: 2022-11-01 11:12:00 -0400
nebbiolo2Linux (Ubuntu 20.04.5 LTS) / x86_64  OK    OK    OK  UNNEEDED, same version is already published
palomino4Windows Server 2022 Datacenter / x64  OK    OK    OK    OK  UNNEEDED, same version is already published
lconwaymacOS 12.5.1 Monterey / x86_64  OK    OK    OK    OK  UNNEEDED, same version is already published
Package 68/183HostnameOS / ArchINSTALLBUILDCHECKBUILD BIN
exomeCopy 1.44.0  (landing page)
Michael Love
git_last_commit: 2dd6598
git_last_commit_date: 2022-11-01 11:06:27 -0400
nebbiolo2Linux (Ubuntu 20.04.5 LTS) / x86_64  OK    OK    OK  UNNEEDED, same version is already published
palomino4Windows Server 2022 Datacenter / x64  OK    OK    OK    OK  UNNEEDED, same version is already published
lconwaymacOS 12.5.1 Monterey / x86_64  OK    OK    OK    OK  UNNEEDED, same version is already published
Package 69/183HostnameOS / ArchINSTALLBUILDCHECKBUILD BIN
exomePeak2 1.10.0  (landing page)
Zhen Wei
git_last_commit: ca31d66
git_last_commit_date: 2022-11-01 11:21:28 -0400
nebbiolo2Linux (Ubuntu 20.04.5 LTS) / x86_64  OK    OK    OK  UNNEEDED, same version is already published
palomino4Windows Server 2022 Datacenter / x64  OK    OK    OK    OK  UNNEEDED, same version is already published
lconwaymacOS 12.5.1 Monterey / x86_64  OK    OK    OK    OK  UNNEEDED, same version is already published
Package 70/183HostnameOS / ArchINSTALLBUILDCHECKBUILD BIN
extraChIPs 1.2.4  (landing page)
Stephen Pederson
git_last_commit: 52e1f70
git_last_commit_date: 2023-01-31 08:58:44 -0400
nebbiolo2Linux (Ubuntu 20.04.5 LTS) / x86_64  OK    OK    OK  UNNEEDED, same version is already published
palomino4Windows Server 2022 Datacenter / x64  OK    OK    OK    OK  UNNEEDED, same version is already published
lconwaymacOS 12.5.1 Monterey / x86_64  OK    OK    OK    OK  UNNEEDED, same version is already published
Package 71/183HostnameOS / ArchINSTALLBUILDCHECKBUILD BIN
FilterFFPE 1.8.0  (landing page)
Lanying Wei
git_last_commit: 8561ba8
git_last_commit_date: 2022-11-01 11:22:50 -0400
nebbiolo2Linux (Ubuntu 20.04.5 LTS) / x86_64  OK    OK    OK  UNNEEDED, same version is already published
palomino4Windows Server 2022 Datacenter / x64  OK    OK    OK    OK  UNNEEDED, same version is already published
lconwaymacOS 12.5.1 Monterey / x86_64  OK    OK    OK    OK  UNNEEDED, same version is already published
Package 72/183HostnameOS / ArchINSTALLBUILDCHECKBUILD BIN
FLAMES 1.4.3  (landing page)
Oliver Voogd
git_last_commit: 8e3c42d
git_last_commit_date: 2023-03-06 01:05:53 -0400
nebbiolo2Linux (Ubuntu 20.04.5 LTS) / x86_64  OK    OK    OK  UNNEEDED, same version is already published
palomino4Windows Server 2022 Datacenter / x64  OK    OK    OK    OK  UNNEEDED, same version is already published
lconwaymacOS 12.5.1 Monterey / x86_64  OK    OK    OK    OK  UNNEEDED, same version is already published
Package 73/183HostnameOS / ArchINSTALLBUILDCHECKBUILD BIN
FRASER 1.10.2  (landing page)
Christian Mertes
git_last_commit: 411304e
git_last_commit_date: 2023-01-19 11:17:01 -0400
nebbiolo2Linux (Ubuntu 20.04.5 LTS) / x86_64  OK    OK    OK  UNNEEDED, same version is already published
palomino4Windows Server 2022 Datacenter / x64  OK    OK    OK    OK  UNNEEDED, same version is already published
lconwaymacOS 12.5.1 Monterey / x86_64  OK    OK    OK    OK  UNNEEDED, same version is already published
Package 74/183HostnameOS / ArchINSTALLBUILDCHECKBUILD BIN
FunChIP 1.24.0  (landing page)
Alice Parodi
git_last_commit: 88132da
git_last_commit_date: 2022-11-01 11:13:49 -0400
nebbiolo2Linux (Ubuntu 20.04.5 LTS) / x86_64  OK    OK    WARNINGS  UNNEEDED, same version is already published
palomino4Windows Server 2022 Datacenter / x64  OK    OK    WARNINGS    OK  UNNEEDED, same version is already published
lconwaymacOS 12.5.1 Monterey / x86_64  OK    OK    OK    OK  UNNEEDED, same version is already published
Package 75/183HostnameOS / ArchINSTALLBUILDCHECKBUILD BIN
gcapc 1.22.0  (landing page)
Mingxiang Teng
git_last_commit: 968eb62
git_last_commit_date: 2022-11-01 11:14:56 -0400
nebbiolo2Linux (Ubuntu 20.04.5 LTS) / x86_64  OK    OK    OK  UNNEEDED, same version is already published
palomino4Windows Server 2022 Datacenter / x64  OK    OK    OK    OK  UNNEEDED, same version is already published
lconwaymacOS 12.5.1 Monterey / x86_64  OK    OK    OK    OK  UNNEEDED, same version is already published
Package 76/183HostnameOS / ArchINSTALLBUILDCHECKBUILD BIN
GeneGeneInteR 1.24.0  (landing page)
Mathieu Emily
git_last_commit: b97e029
git_last_commit_date: 2022-11-01 11:14:08 -0400
nebbiolo2Linux (Ubuntu 20.04.5 LTS) / x86_64  OK    OK    OK  UNNEEDED, same version is already published
palomino4Windows Server 2022 Datacenter / x64  OK    OK    OK    OK  UNNEEDED, same version is already published
lconwaymacOS 12.5.1 Monterey / x86_64  OK    OK    OK    OK  UNNEEDED, same version is already published
Package 77/183HostnameOS / ArchINSTALLBUILDCHECKBUILD BIN
genomation 1.30.0  (landing page)
Altuna Akalin , Vedran Franke
git_last_commit: 99239c1
git_last_commit_date: 2022-11-01 11:10:49 -0400
nebbiolo2Linux (Ubuntu 20.04.5 LTS) / x86_64  OK    OK    WARNINGS  UNNEEDED, same version is already published
palomino4Windows Server 2022 Datacenter / x64  OK    OK    WARNINGS    OK  UNNEEDED, same version is already published
lconwaymacOS 12.5.1 Monterey / x86_64  OK    OK    WARNINGS    OK  UNNEEDED, same version is already published
Package 78/183HostnameOS / ArchINSTALLBUILDCHECKBUILD BIN
GenomicAlignments 1.34.1  (landing page)
Hervé Pagès
git_last_commit: f65563c
git_last_commit_date: 2023-03-08 18:26:20 -0400
nebbiolo2Linux (Ubuntu 20.04.5 LTS) / x86_64  OK    OK    OK  UNNEEDED, same version is already published
palomino4Windows Server 2022 Datacenter / x64  OK    OK    OK    OK  UNNEEDED, same version is already published
lconwaymacOS 12.5.1 Monterey / x86_64  OK    OK    OK    OK  UNNEEDED, same version is already published
Package 79/183HostnameOS / ArchINSTALLBUILDCHECKBUILD BIN
GenomicFiles 1.34.0  (landing page)
Bioconductor Package Maintainer
git_last_commit: 65f9a64
git_last_commit_date: 2022-11-01 11:09:37 -0400
nebbiolo2Linux (Ubuntu 20.04.5 LTS) / x86_64  OK    OK    OK  UNNEEDED, same version is already published
palomino4Windows Server 2022 Datacenter / x64  OK    OK    OK    OK  UNNEEDED, same version is already published
lconwaymacOS 12.5.1 Monterey / x86_64  OK    OK    OK    OK  UNNEEDED, same version is already published
Package 80/183HostnameOS / ArchINSTALLBUILDCHECKBUILD BIN
GenomicInteractions 1.32.0  (landing page)
Liz Ing-Simmons
git_last_commit: bc2d152
git_last_commit_date: 2022-11-01 11:10:21 -0400
nebbiolo2Linux (Ubuntu 20.04.5 LTS) / x86_64  OK    OK    OK  UNNEEDED, same version is already published
palomino4Windows Server 2022 Datacenter / x64  OK    OK    OK    OK  UNNEEDED, same version is already published
lconwaymacOS 12.5.1 Monterey / x86_64  OK    OK    OK    OK  UNNEEDED, same version is already published
Package 81/183HostnameOS / ArchINSTALLBUILDCHECKBUILD BIN
GenVisR 1.30.0  (landing page)
Zachary Skidmore
git_last_commit: ad1791a
git_last_commit_date: 2022-11-01 11:12:48 -0400
nebbiolo2Linux (Ubuntu 20.04.5 LTS) / x86_64  OK    OK    ERROR  
palomino4Windows Server 2022 Datacenter / x64  OK    OK    WARNINGS    OK  UNNEEDED, same version is already published
lconwaymacOS 12.5.1 Monterey / x86_64  OK    OK    WARNINGS    OK  UNNEEDED, same version is already published
Package 82/183HostnameOS / ArchINSTALLBUILDCHECKBUILD BIN
ggbio 1.46.0  (landing page)
Michael Lawrence
git_last_commit: d9c6cb4
git_last_commit_date: 2022-11-01 11:06:25 -0400
nebbiolo2Linux (Ubuntu 20.04.5 LTS) / x86_64  OK    OK    WARNINGS  UNNEEDED, same version is already published
palomino4Windows Server 2022 Datacenter / x64  OK    OK    WARNINGS    OK  UNNEEDED, same version is already published
lconwaymacOS 12.5.1 Monterey / x86_64  OK    OK    WARNINGS    OK  UNNEEDED, same version is already published
Package 83/183HostnameOS / ArchINSTALLBUILDCHECKBUILD BIN
girafe 1.50.0  (landing page)
J. Toedling
git_last_commit: 18b1d36
git_last_commit_date: 2022-11-01 11:04:57 -0400
nebbiolo2Linux (Ubuntu 20.04.5 LTS) / x86_64  OK    OK    OK  UNNEEDED, same version is already published
palomino4Windows Server 2022 Datacenter / x64  OK    OK    OK    OK  UNNEEDED, same version is already published
lconwaymacOS 12.5.1 Monterey / x86_64  OK    OK    OK    OK  UNNEEDED, same version is already published
Package 84/183HostnameOS / ArchINSTALLBUILDCHECKBUILD BIN
gmapR 1.40.0  (landing page)
Michael Lawrence
git_last_commit: ba9a187
git_last_commit_date: 2022-11-01 11:07:10 -0400
nebbiolo2Linux (Ubuntu 20.04.5 LTS) / x86_64  OK    OK    WARNINGS  UNNEEDED, same version is already published
palomino4Windows Server 2022 Datacenter / x64... NOT SUPPORTED ...
lconwaymacOS 12.5.1 Monterey / x86_64  ERROR    ERROR  skippedskipped
Package 85/183HostnameOS / ArchINSTALLBUILDCHECKBUILD BIN
gmoviz 1.10.0  (landing page)
Kathleen Zeglinski
git_last_commit: 52ebafb
git_last_commit_date: 2022-11-01 11:21:38 -0400
nebbiolo2Linux (Ubuntu 20.04.5 LTS) / x86_64  OK    OK    OK  UNNEEDED, same version is already published
palomino4Windows Server 2022 Datacenter / x64  OK    OK    OK    OK  UNNEEDED, same version is already published
lconwaymacOS 12.5.1 Monterey / x86_64  OK    OK    OK    OK  UNNEEDED, same version is already published
Package 86/183HostnameOS / ArchINSTALLBUILDCHECKBUILD BIN
GOTHiC 1.34.0  (landing page)
Borbala Mifsud
git_last_commit: 58e54f9
git_last_commit_date: 2022-11-01 11:20:09 -0400
nebbiolo2Linux (Ubuntu 20.04.5 LTS) / x86_64  OK    OK    OK  UNNEEDED, same version is already published
palomino4Windows Server 2022 Datacenter / x64  OK    OK    OK    OK  UNNEEDED, same version is already published
lconwaymacOS 12.5.1 Monterey / x86_64  OK    OK    OK    OK  UNNEEDED, same version is already published
Package 87/183HostnameOS / ArchINSTALLBUILDCHECKBUILD BIN
GreyListChIP 1.30.0  (landing page)
Rory Stark
git_last_commit: 9d65d34
git_last_commit_date: 2022-11-01 11:11:03 -0400
nebbiolo2Linux (Ubuntu 20.04.5 LTS) / x86_64  OK    OK    OK  UNNEEDED, same version is already published
palomino4Windows Server 2022 Datacenter / x64  OK    OK    OK    OK  UNNEEDED, same version is already published
lconwaymacOS 12.5.1 Monterey / x86_64  OK    OK    OK    OK  UNNEEDED, same version is already published
Package 88/183HostnameOS / ArchINSTALLBUILDCHECKBUILD BIN
GUIDEseq 1.28.0  (landing page)
Lihua Julie Zhu
git_last_commit: e29dcac
git_last_commit_date: 2022-11-01 11:12:23 -0400
nebbiolo2Linux (Ubuntu 20.04.5 LTS) / x86_64  OK    OK    OK  UNNEEDED, same version is already published
palomino4Windows Server 2022 Datacenter / x64  OK    OK    OK    OK  UNNEEDED, same version is already published
lconwaymacOS 12.5.1 Monterey / x86_64  OK    OK    OK    OK  UNNEEDED, same version is already published
Package 89/183HostnameOS / ArchINSTALLBUILDCHECKBUILD BIN
Gviz 1.42.1  (landing page)
Robert Ivanek
git_last_commit: 9839dbb
git_last_commit_date: 2023-03-15 06:31:07 -0400
nebbiolo2Linux (Ubuntu 20.04.5 LTS) / x86_64  OK    OK    OK  UNNEEDED, same version is already published
palomino4Windows Server 2022 Datacenter / x64  OK    OK    OK    OK  UNNEEDED, same version is already published
lconwaymacOS 12.5.1 Monterey / x86_64  OK    OK    OK    OK  UNNEEDED, same version is already published
Package 90/183HostnameOS / ArchINSTALLBUILDCHECKBUILD BIN
h5vc 2.32.0  (landing page)
Paul Theodor Pyl
git_last_commit: c234c80
git_last_commit_date: 2022-11-01 11:08:58 -0400
nebbiolo2Linux (Ubuntu 20.04.5 LTS) / x86_64  OK    OK    ERROR  
palomino4Windows Server 2022 Datacenter / x64  OK    OK    WARNINGS    OK  UNNEEDED, same version is already published
lconwaymacOS 12.5.1 Monterey / x86_64  OK    OK    WARNINGS    OK  UNNEEDED, same version is already published
Package 91/183HostnameOS / ArchINSTALLBUILDCHECKBUILD BIN
HelloRanges 1.24.0  (landing page)
Michael Lawrence
git_last_commit: b43be74
git_last_commit_date: 2022-11-01 11:14:42 -0400
nebbiolo2Linux (Ubuntu 20.04.5 LTS) / x86_64  OK    OK    OK  UNNEEDED, same version is already published
palomino4Windows Server 2022 Datacenter / x64  OK    OK    OK    OK  UNNEEDED, same version is already published
lconwaymacOS 12.5.1 Monterey / x86_64  OK    OK    OK    OK  UNNEEDED, same version is already published
Package 92/183HostnameOS / ArchINSTALLBUILDCHECKBUILD BIN
HTSeqGenie 4.28.1  (landing page)
Jens Reeder
git_last_commit: fb9d357
git_last_commit_date: 2023-01-20 12:44:04 -0400
nebbiolo2Linux (Ubuntu 20.04.5 LTS) / x86_64  OK    OK    OK  UNNEEDED, same version is already published
palomino4Windows Server 2022 Datacenter / x64... NOT SUPPORTED ...
lconwaymacOS 12.5.1 Monterey / x86_64... NOT SUPPORTED ...
Package 93/183HostnameOS / ArchINSTALLBUILDCHECKBUILD BIN
icetea 1.16.0  (landing page)
Vivek Bhardwaj
git_last_commit: d148550
git_last_commit_date: 2022-11-01 11:18:00 -0400
nebbiolo2Linux (Ubuntu 20.04.5 LTS) / x86_64  OK    OK    OK  UNNEEDED, same version is already published
palomino4Windows Server 2022 Datacenter / x64  OK    OK    OK    OK  UNNEEDED, same version is already published
lconwaymacOS 12.5.1 Monterey / x86_64  OK    OK    OK    OK  UNNEEDED, same version is already published
Package 94/183HostnameOS / ArchINSTALLBUILDCHECKBUILD BIN
IMAS 1.22.0  (landing page)
Seonggyun Han
git_last_commit: 662ff82
git_last_commit_date: 2022-11-01 11:15:33 -0400
nebbiolo2Linux (Ubuntu 20.04.5 LTS) / x86_64  OK    OK    OK  UNNEEDED, same version is already published
palomino4Windows Server 2022 Datacenter / x64  OK    OK    OK    OK  UNNEEDED, same version is already published
lconwaymacOS 12.5.1 Monterey / x86_64  OK    OK    OK    OK  UNNEEDED, same version is already published
Package 95/183HostnameOS / ArchINSTALLBUILDCHECKBUILD BIN
INSPEcT 1.28.0  (landing page)
Stefano de Pretis
git_last_commit: aff3971
git_last_commit_date: 2022-11-01 11:11:51 -0400
nebbiolo2Linux (Ubuntu 20.04.5 LTS) / x86_64  OK    OK    OK  UNNEEDED, same version is already published
palomino4Windows Server 2022 Datacenter / x64  OK    OK    OK    OK  UNNEEDED, same version is already published
lconwaymacOS 12.5.1 Monterey / x86_64  OK    OK    OK    OK  UNNEEDED, same version is already published
Package 96/183HostnameOS / ArchINSTALLBUILDCHECKBUILD BIN
IntEREst 1.22.2  (landing page)
Ali Oghabian , Mikko Frilander
git_last_commit: 4c44b57
git_last_commit_date: 2022-11-07 08:34:48 -0400
nebbiolo2Linux (Ubuntu 20.04.5 LTS) / x86_64  OK    OK    OK  UNNEEDED, same version is already published
palomino4Windows Server 2022 Datacenter / x64  OK    OK    OK    OK  UNNEEDED, same version is already published
lconwaymacOS 12.5.1 Monterey / x86_64  OK    OK    OK    OK  UNNEEDED, same version is already published
Package 97/183HostnameOS / ArchINSTALLBUILDCHECKBUILD BIN
karyoploteR 1.24.0  (landing page)
Bernat Gel
git_last_commit: 442c9e7
git_last_commit_date: 2022-11-01 11:15:07 -0400
nebbiolo2Linux (Ubuntu 20.04.5 LTS) / x86_64  OK    OK    OK  UNNEEDED, same version is already published
palomino4Windows Server 2022 Datacenter / x64  OK    OK    OK    OK  UNNEEDED, same version is already published
lconwaymacOS 12.5.1 Monterey / x86_64  OK    OK    OK    OK  UNNEEDED, same version is already published
Package 98/183HostnameOS / ArchINSTALLBUILDCHECKBUILD BIN
MACPET 1.18.0  (landing page)
Ioannis Vardaxis
git_last_commit: e36a36d
git_last_commit_date: 2022-11-01 11:17:11 -0400
nebbiolo2Linux (Ubuntu 20.04.5 LTS) / x86_64  ERROR    ERROR  skipped
palomino4Windows Server 2022 Datacenter / x64  ERROR    ERROR  skippedskipped
lconwaymacOS 12.5.1 Monterey / x86_64  ERROR    ERROR  skippedskipped
Package 99/183HostnameOS / ArchINSTALLBUILDCHECKBUILD BIN
MADSEQ 1.24.0  (landing page)
Yu Kong
git_last_commit: 698f059
git_last_commit_date: 2022-11-01 11:13:50 -0400
nebbiolo2Linux (Ubuntu 20.04.5 LTS) / x86_64  OK    OK    OK  UNNEEDED, same version is already published
palomino4Windows Server 2022 Datacenter / x64  OK    OK    OK    OK  UNNEEDED, same version is already published
lconwaymacOS 12.5.1 Monterey / x86_64  OK    OK    OK    OK  UNNEEDED, same version is already published
Package 100/183HostnameOS / ArchINSTALLBUILDCHECKBUILD BIN
MDTS 1.18.0  (landing page)
Jack M.. Fu
git_last_commit: c9870c5
git_last_commit_date: 2022-11-01 11:17:17 -0400
nebbiolo2Linux (Ubuntu 20.04.5 LTS) / x86_64  OK    OK    OK  UNNEEDED, same version is already published
palomino4Windows Server 2022 Datacenter / x64  OK    OK    OK    OK  UNNEEDED, same version is already published
lconwaymacOS 12.5.1 Monterey / x86_64  OK    OK    OK    OK  UNNEEDED, same version is already published
Package 101/183HostnameOS / ArchINSTALLBUILDCHECKBUILD BIN
MEDIPS 1.50.0  (landing page)
Lukas Chavez
git_last_commit: 04e00ee
git_last_commit_date: 2022-11-01 11:05:24 -0400
nebbiolo2Linux (Ubuntu 20.04.5 LTS) / x86_64  OK    OK    OK  UNNEEDED, same version is already published
palomino4Windows Server 2022 Datacenter / x64  OK    OK    OK    OK  UNNEEDED, same version is already published
lconwaymacOS 12.5.1 Monterey / x86_64  OK    OK    OK    OK  UNNEEDED, same version is already published
Package 102/183HostnameOS / ArchINSTALLBUILDCHECKBUILD BIN
metagene 2.30.0  (landing page)
Charles Joly Beauparlant
git_last_commit: 3dc7c03
git_last_commit_date: 2022-11-01 11:10:04 -0400
nebbiolo2Linux (Ubuntu 20.04.5 LTS) / x86_64  OK    OK    OK  UNNEEDED, same version is already published
palomino4Windows Server 2022 Datacenter / x64  OK    OK    OK    OK  UNNEEDED, same version is already published
lconwaymacOS 12.5.1 Monterey / x86_64  OK    OK    OK    OK  UNNEEDED, same version is already published
Package 103/183HostnameOS / ArchINSTALLBUILDCHECKBUILD BIN
metagene2 1.14.0  (landing page)
Eric Fournier
git_last_commit: 1b39327
git_last_commit_date: 2022-11-01 11:19:52 -0400
nebbiolo2Linux (Ubuntu 20.04.5 LTS) / x86_64  OK    OK    OK  UNNEEDED, same version is already published
palomino4Windows Server 2022 Datacenter / x64  OK    OK    OK    OK  UNNEEDED, same version is already published
lconwaymacOS 12.5.1 Monterey / x86_64  OK    OK    OK    OK  UNNEEDED, same version is already published
Package 104/183HostnameOS / ArchINSTALLBUILDCHECKBUILD BIN
metaseqR2 1.10.0  (landing page)
Panagiotis Moulos
git_last_commit: 73e2738
git_last_commit_date: 2022-11-01 11:22:03 -0400
nebbiolo2Linux (Ubuntu 20.04.5 LTS) / x86_64  OK    OK    WARNINGS  UNNEEDED, same version is already published
palomino4Windows Server 2022 Datacenter / x64  OK    OK    WARNINGS    OK  UNNEEDED, same version is already published
lconwaymacOS 12.5.1 Monterey / x86_64  OK    OK    WARNINGS    OK  UNNEEDED, same version is already published
Package 105/183HostnameOS / ArchINSTALLBUILDCHECKBUILD BIN
methylKit 1.24.0  (landing page)
Altuna Akalin , Alexander Gosdschan
git_last_commit: 9870e27
git_last_commit_date: 2022-11-01 11:14:04 -0400
nebbiolo2Linux (Ubuntu 20.04.5 LTS) / x86_64  OK    OK    WARNINGS  UNNEEDED, same version is already published
palomino4Windows Server 2022 Datacenter / x64  OK    OK    WARNINGS    OK  UNNEEDED, same version is already published
lconwaymacOS 12.5.1 Monterey / x86_64  OK    OK    WARNINGS    OK  UNNEEDED, same version is already published
Package 106/183HostnameOS / ArchINSTALLBUILDCHECKBUILD BIN
methylPipe 1.32.0  (landing page)
Kamal Kishore
git_last_commit: 954da5d
git_last_commit_date: 2022-11-01 11:10:11 -0400
nebbiolo2Linux (Ubuntu 20.04.5 LTS) / x86_64  OK    OK    WARNINGS  UNNEEDED, same version is already published
palomino4Windows Server 2022 Datacenter / x64  OK    OK    WARNINGS    OK  UNNEEDED, same version is already published
lconwaymacOS 12.5.1 Monterey / x86_64  OK    OK    WARNINGS    OK  UNNEEDED, same version is already published
Package 107/183HostnameOS / ArchINSTALLBUILDCHECKBUILD BIN
MMAPPR2 1.12.0  (landing page)
Jonathon Hill
git_last_commit: d984d12
git_last_commit_date: 2022-11-01 11:20:05 -0400
nebbiolo2Linux (Ubuntu 20.04.5 LTS) / x86_64  OK    OK    OK  UNNEEDED, same version is already published
palomino4Windows Server 2022 Datacenter / x64... NOT SUPPORTED ...
lconwaymacOS 12.5.1 Monterey / x86_64  ERROR    ERROR  skippedskipped
Package 108/183HostnameOS / ArchINSTALLBUILDCHECKBUILD BIN
MMDiff2 1.26.0  (landing page)
Gabriele Schweikert
git_last_commit: 662ecc9
git_last_commit_date: 2022-11-01 11:13:41 -0400
nebbiolo2Linux (Ubuntu 20.04.5 LTS) / x86_64  OK    OK    OK  UNNEEDED, same version is already published
palomino4Windows Server 2022 Datacenter / x64  OK    OK    WARNINGS    OK  UNNEEDED, same version is already published
lconwaymacOS 12.5.1 Monterey / x86_64  OK    OK    OK    OK  UNNEEDED, same version is already published
Package 109/183HostnameOS / ArchINSTALLBUILDCHECKBUILD BIN
mosaics 2.36.0  (landing page)
Dongjun Chung
git_last_commit: 3166c3a
git_last_commit_date: 2022-11-01 11:05:34 -0400
nebbiolo2Linux (Ubuntu 20.04.5 LTS) / x86_64  OK    OK    OK  UNNEEDED, same version is already published
palomino4Windows Server 2022 Datacenter / x64  OK    OK    OK    OK  UNNEEDED, same version is already published
lconwaymacOS 12.5.1 Monterey / x86_64  OK    OK    OK    OK  UNNEEDED, same version is already published
Package 110/183HostnameOS / ArchINSTALLBUILDCHECKBUILD BIN
motifmatchr 1.20.0  (landing page)
Alicia Schep
git_last_commit: 3a72a09
git_last_commit_date: 2022-11-01 11:15:47 -0400
nebbiolo2Linux (Ubuntu 20.04.5 LTS) / x86_64  OK    OK    OK  UNNEEDED, same version is already published
palomino4Windows Server 2022 Datacenter / x64  OK    OK    OK    OK  UNNEEDED, same version is already published
lconwaymacOS 12.5.1 Monterey / x86_64  OK    OK    OK    OK  UNNEEDED, same version is already published
Package 111/183HostnameOS / ArchINSTALLBUILDCHECKBUILD BIN
msgbsR 1.22.0  (landing page)
Benjamin Mayne
git_last_commit: a480eaf
git_last_commit_date: 2022-11-01 11:15:43 -0400
nebbiolo2Linux (Ubuntu 20.04.5 LTS) / x86_64  OK    OK    OK  UNNEEDED, same version is already published
palomino4Windows Server 2022 Datacenter / x64  OK    OK    OK    OK  UNNEEDED, same version is already published
lconwaymacOS 12.5.1 Monterey / x86_64  OK    OK    OK    OK  UNNEEDED, same version is already published
Package 112/183HostnameOS / ArchINSTALLBUILDCHECKBUILD BIN
NADfinder 1.22.0  (landing page)
Jianhong Ou
git_last_commit: 067b49b
git_last_commit_date: 2022-11-01 11:15:27 -0400
nebbiolo2Linux (Ubuntu 20.04.5 LTS) / x86_64  OK    OK    OK  UNNEEDED, same version is already published
palomino4Windows Server 2022 Datacenter / x64  OK    OK    OK    OK  UNNEEDED, same version is already published
lconwaymacOS 12.5.1 Monterey / x86_64  OK    OK    OK    OK  UNNEEDED, same version is already published
Package 113/183HostnameOS / ArchINSTALLBUILDCHECKBUILD BIN
NanoMethViz 2.4.2  (landing page)
Shian Su
git_last_commit: 8db7fbf
git_last_commit_date: 2023-02-13 00:07:07 -0400
nebbiolo2Linux (Ubuntu 20.04.5 LTS) / x86_64  OK    OK    OK  UNNEEDED, same version is already published
palomino4Windows Server 2022 Datacenter / x64  OK    OK    OK    OK  UNNEEDED, same version is already published
lconwaymacOS 12.5.1 Monterey / x86_64  OK    OK    OK    OK  UNNEEDED, same version is already published
Package 114/183HostnameOS / ArchINSTALLBUILDCHECKBUILD BIN
nearBynding 1.8.0  (landing page)
Veronica Busa
git_last_commit: 5cd681f
git_last_commit_date: 2022-11-01 11:22:51 -0400
nebbiolo2Linux (Ubuntu 20.04.5 LTS) / x86_64  OK    OK    OK  UNNEEDED, same version is already published
palomino4Windows Server 2022 Datacenter / x64  OK    OK    OK    OK  UNNEEDED, same version is already published
lconwaymacOS 12.5.1 Monterey / x86_64  OK    OK    OK    OK  UNNEEDED, same version is already published
Package 115/183HostnameOS / ArchINSTALLBUILDCHECKBUILD BIN
nucleR 2.30.0  (landing page)
Alba Sala
git_last_commit: 8697d8d
git_last_commit_date: 2022-11-01 11:06:05 -0400
nebbiolo2Linux (Ubuntu 20.04.5 LTS) / x86_64  OK    OK    WARNINGS  UNNEEDED, same version is already published
palomino4Windows Server 2022 Datacenter / x64  OK    OK    WARNINGS    OK  UNNEEDED, same version is already published
lconwaymacOS 12.5.1 Monterey / x86_64  OK    OK    WARNINGS    OK  UNNEEDED, same version is already published
Package 116/183HostnameOS / ArchINSTALLBUILDCHECKBUILD BIN
ORFik 1.18.2  (landing page)
Haakon Tjeldnes
git_last_commit: 4ab60c3
git_last_commit_date: 2023-01-13 19:50:22 -0400
nebbiolo2Linux (Ubuntu 20.04.5 LTS) / x86_64  OK    OK    OK  UNNEEDED, same version is already published
palomino4Windows Server 2022 Datacenter / x64  OK    OK    OK    OK  UNNEEDED, same version is already published
lconwaymacOS 12.5.1 Monterey / x86_64  OK    OK    OK    OK  UNNEEDED, same version is already published
Package 117/183HostnameOS / ArchINSTALLBUILDCHECKBUILD BIN
panelcn.mops 1.20.0  (landing page)
Gundula Povysil
git_last_commit: 498d88f
git_last_commit_date: 2022-11-01 11:16:24 -0400
nebbiolo2Linux (Ubuntu 20.04.5 LTS) / x86_64  OK    OK    OK  UNNEEDED, same version is already published
palomino4Windows Server 2022 Datacenter / x64  OK    OK    OK    OK  UNNEEDED, same version is already published
lconwaymacOS 12.5.1 Monterey / x86_64  OK    OK    OK    OK  UNNEEDED, same version is already published
Package 118/183HostnameOS / ArchINSTALLBUILDCHECKBUILD BIN
PICS 2.42.0  (landing page)
Renan Sauteraud
git_last_commit: 135440e
git_last_commit_date: 2022-11-01 11:05:01 -0400
nebbiolo2Linux (Ubuntu 20.04.5 LTS) / x86_64  OK    OK    OK  UNNEEDED, same version is already published
palomino4Windows Server 2022 Datacenter / x64  OK    OK    OK    OK  UNNEEDED, same version is already published
lconwaymacOS 12.5.1 Monterey / x86_64  OK    OK    OK    OK  UNNEEDED, same version is already published
Package 119/183HostnameOS / ArchINSTALLBUILDCHECKBUILD BIN
plyranges 1.18.0  (landing page)
Stuart Lee
git_last_commit: 580a5e1
git_last_commit_date: 2022-11-01 11:17:28 -0400
nebbiolo2Linux (Ubuntu 20.04.5 LTS) / x86_64  OK    OK    WARNINGS  UNNEEDED, same version is already published
palomino4Windows Server 2022 Datacenter / x64  OK    OK    WARNINGS    OK  UNNEEDED, same version is already published
lconwaymacOS 12.5.1 Monterey / x86_64  OK    OK    WARNINGS    OK  UNNEEDED, same version is already published
Package 120/183HostnameOS / ArchINSTALLBUILDCHECKBUILD BIN
podkat 1.30.0  (landing page)
Ulrich Bodenhofer
git_last_commit: e58e132
git_last_commit_date: 2022-11-01 11:11:23 -0400
nebbiolo2Linux (Ubuntu 20.04.5 LTS) / x86_64  OK    OK    OK  UNNEEDED, same version is already published
palomino4Windows Server 2022 Datacenter / x64  OK    OK    OK    OK  UNNEEDED, same version is already published
lconwaymacOS 12.5.1 Monterey / x86_64  OK    OK    OK    OK  UNNEEDED, same version is already published
Package 121/183HostnameOS / ArchINSTALLBUILDCHECKBUILD BIN
pram 1.14.0  (landing page)
Peng Liu
git_last_commit: 5eb27f7
git_last_commit_date: 2022-11-01 11:19:24 -0400
nebbiolo2Linux (Ubuntu 20.04.5 LTS) / x86_64  OK    OK    OK  UNNEEDED, same version is already published
palomino4Windows Server 2022 Datacenter / x64  OK    OK    OK    OK  UNNEEDED, same version is already published
lconwaymacOS 12.5.1 Monterey / x86_64  OK    OK    OK    OK  UNNEEDED, same version is already published
Package 122/183HostnameOS / ArchINSTALLBUILDCHECKBUILD BIN
profileplyr 1.14.1  (landing page)
Tom Carroll , Doug Barrows
git_last_commit: 415d29e
git_last_commit_date: 2023-01-18 16:15:48 -0400
nebbiolo2Linux (Ubuntu 20.04.5 LTS) / x86_64  OK    OK    OK  UNNEEDED, same version is already published
palomino4Windows Server 2022 Datacenter / x64  OK    OK    OK    OK  UNNEEDED, same version is already published
lconwaymacOS 12.5.1 Monterey / x86_64  OK    OK    OK    OK  UNNEEDED, same version is already published
Package 123/183HostnameOS / ArchINSTALLBUILDCHECKBUILD BIN
PureCN 2.4.0  (landing page)
Markus Riester
git_last_commit: 639f2a8
git_last_commit_date: 2022-11-01 11:13:36 -0400
nebbiolo2Linux (Ubuntu 20.04.5 LTS) / x86_64  OK    OK    OK  UNNEEDED, same version is already published
palomino4Windows Server 2022 Datacenter / x64  OK    OK    OK    OK  UNNEEDED, same version is already published
lconwaymacOS 12.5.1 Monterey / x86_64  OK    OK    OK    OK  UNNEEDED, same version is already published
Package 124/183HostnameOS / ArchINSTALLBUILDCHECKBUILD BIN
QDNAseq 1.34.0  (landing page)
Daoud Sie
git_last_commit: 727c1cb
git_last_commit_date: 2022-11-01 11:09:22 -0400
nebbiolo2Linux (Ubuntu 20.04.5 LTS) / x86_64  OK    OK    OK  UNNEEDED, same version is already published
palomino4Windows Server 2022 Datacenter / x64  OK    OK    OK    OK  UNNEEDED, same version is already published
lconwaymacOS 12.5.1 Monterey / x86_64  OK    OK    OK    OK  UNNEEDED, same version is already published
Package 125/183HostnameOS / ArchINSTALLBUILDCHECKBUILD BIN
qsea 1.24.0  (landing page)
Matthias Lienhard
git_last_commit: 662ea99
git_last_commit_date: 2022-11-01 11:13:58 -0400
nebbiolo2Linux (Ubuntu 20.04.5 LTS) / x86_64  OK    OK    WARNINGS  UNNEEDED, same version is already published
palomino4Windows Server 2022 Datacenter / x64  OK    OK    WARNINGS    OK  UNNEEDED, same version is already published
lconwaymacOS 12.5.1 Monterey / x86_64  OK    OK    WARNINGS    OK  UNNEEDED, same version is already published
Package 126/183HostnameOS / ArchINSTALLBUILDCHECKBUILD BIN
QuasR 1.38.0  (landing page)
Michael Stadler
git_last_commit: 0d658f7
git_last_commit_date: 2022-11-01 11:07:45 -0400
nebbiolo2Linux (Ubuntu 20.04.5 LTS) / x86_64  OK    OK    OK  UNNEEDED, same version is already published
palomino4Windows Server 2022 Datacenter / x64  OK    OK    OK    OK  UNNEEDED, same version is already published
lconwaymacOS 12.5.1 Monterey / x86_64  OK    OK    OK    OK  UNNEEDED, same version is already published
Package 127/183HostnameOS / ArchINSTALLBUILDCHECKBUILD BIN
r3Cseq 1.44.0  (landing page)
Supat Thongjuea or
git_last_commit: d21d569
git_last_commit_date: 2022-11-01 11:06:25 -0400
nebbiolo2Linux (Ubuntu 20.04.5 LTS) / x86_64  OK    OK    OK  UNNEEDED, same version is already published
palomino4Windows Server 2022 Datacenter / x64  OK    OK    OK    OK  UNNEEDED, same version is already published
lconwaymacOS 12.5.1 Monterey / x86_64  OK    OK    OK    OK  UNNEEDED, same version is already published
Package 128/183HostnameOS / ArchINSTALLBUILDCHECKBUILD BIN
R453Plus1Toolbox 1.48.0  (landing page)
Hans-Ulrich Klein
git_last_commit: 93bf3f8
git_last_commit_date: 2022-11-01 11:05:23 -0400
nebbiolo2Linux (Ubuntu 20.04.5 LTS) / x86_64  OK    OK    OK  UNNEEDED, same version is already published
palomino4Windows Server 2022 Datacenter / x64  OK    OK    OK    OK  UNNEEDED, same version is already published
lconwaymacOS 12.5.1 Monterey / x86_64  OK    OK    OK    OK  UNNEEDED, same version is already published
Package 129/183HostnameOS / ArchINSTALLBUILDCHECKBUILD BIN
ramwas 1.22.0  (landing page)
Andrey A Shabalin
git_last_commit: 012c3d4
git_last_commit_date: 2022-11-01 11:14:58 -0400
nebbiolo2Linux (Ubuntu 20.04.5 LTS) / x86_64  OK    OK    OK  UNNEEDED, same version is already published
palomino4Windows Server 2022 Datacenter / x64  OK    OK    OK    OK  UNNEEDED, same version is already published
lconwaymacOS 12.5.1 Monterey / x86_64  OK    OK    OK    OK  UNNEEDED, same version is already published
Package 130/183HostnameOS / ArchINSTALLBUILDCHECKBUILD BIN
Rbowtie2 2.4.2  (landing page)
Zheng Wei
git_last_commit: e55c9b7
git_last_commit_date: 2023-02-24 03:54:22 -0400
nebbiolo2Linux (Ubuntu 20.04.5 LTS) / x86_64  OK    OK    OK  UNNEEDED, same version is already published
palomino4Windows Server 2022 Datacenter / x64  OK    OK    OK    OK  UNNEEDED, same version is already published
lconwaymacOS 12.5.1 Monterey / x86_64  OK    OK    OK    OK  UNNEEDED, same version is already published
Package 131/183HostnameOS / ArchINSTALLBUILDCHECKBUILD BIN
Rcade 1.40.0  (landing page)
Jonathan Cairns
git_last_commit: 2290b0f
git_last_commit_date: 2022-11-01 11:07:31 -0400
nebbiolo2Linux (Ubuntu 20.04.5 LTS) / x86_64  OK    OK    ERROR  
palomino4Windows Server 2022 Datacenter / x64  OK    OK    ERROR    OK  
lconwaymacOS 12.5.1 Monterey / x86_64  OK    OK    ERROR    OK  
Package 132/183HostnameOS / ArchINSTALLBUILDCHECKBUILD BIN
recoup 1.26.0  (landing page)
Panagiotis Moulos
git_last_commit: c384eae
git_last_commit_date: 2022-11-01 11:13:20 -0400
nebbiolo2Linux (Ubuntu 20.04.5 LTS) / x86_64  OK    OK    OK  UNNEEDED, same version is already published
palomino4Windows Server 2022 Datacenter / x64  OK    OK    OK    OK  UNNEEDED, same version is already published
lconwaymacOS 12.5.1 Monterey / x86_64  OK    OK    OK    OK  UNNEEDED, same version is already published
Package 133/183HostnameOS / ArchINSTALLBUILDCHECKBUILD BIN
Repitools 1.44.0  (landing page)
Mark Robinson
git_last_commit: 5f359d2
git_last_commit_date: 2022-11-01 11:06:01 -0400
nebbiolo2Linux (Ubuntu 20.04.5 LTS) / x86_64  OK    OK    OK  UNNEEDED, same version is already published
palomino4Windows Server 2022 Datacenter / x64  OK    OK    OK    OK  UNNEEDED, same version is already published
lconwaymacOS 12.5.1 Monterey / x86_64  OK    OK    OK    OK  UNNEEDED, same version is already published
Package 134/183HostnameOS / ArchINSTALLBUILDCHECKBUILD BIN
RepViz 1.14.0  (landing page)
Thomas Faux, Asta Laiho
git_last_commit: a1e1628
git_last_commit_date: 2022-11-01 11:19:41 -0400
nebbiolo2Linux (Ubuntu 20.04.5 LTS) / x86_64  OK    OK    WARNINGS  UNNEEDED, same version is already published
palomino4Windows Server 2022 Datacenter / x64  OK    OK    WARNINGS    OK  UNNEEDED, same version is already published
lconwaymacOS 12.5.1 Monterey / x86_64  OK    OK    WARNINGS    OK  UNNEEDED, same version is already published
Package 135/183HostnameOS / ArchINSTALLBUILDCHECKBUILD BIN
ReQON 1.44.0  (landing page)
Christopher Cabanski
git_last_commit: 1505281
git_last_commit_date: 2022-11-01 11:06:28 -0400
nebbiolo2Linux (Ubuntu 20.04.5 LTS) / x86_64  OK    OK    OK  UNNEEDED, same version is already published
palomino4Windows Server 2022 Datacenter / x64  OK    OK    OK    OK  UNNEEDED, same version is already published
lconwaymacOS 12.5.1 Monterey / x86_64  OK    OK    OK    OK  UNNEEDED, same version is already published
Package 136/183HostnameOS / ArchINSTALLBUILDCHECKBUILD BIN
rfPred 1.36.0  (landing page)
Hugo Varet
git_last_commit: 3ea3c6f
git_last_commit_date: 2022-11-01 11:08:31 -0400
nebbiolo2Linux (Ubuntu 20.04.5 LTS) / x86_64  OK    OK    OK  UNNEEDED, same version is already published
palomino4Windows Server 2022 Datacenter / x64  OK    OK    OK    OK  UNNEEDED, same version is already published
lconwaymacOS 12.5.1 Monterey / x86_64  OK    OK    OK    OK  UNNEEDED, same version is already published
Package 137/183HostnameOS / ArchINSTALLBUILDCHECKBUILD BIN
RiboDiPA 1.6.0  (landing page)
Ji-Ping Wang
git_last_commit: eeafa07
git_last_commit_date: 2022-11-01 11:23:51 -0400
nebbiolo2Linux (Ubuntu 20.04.5 LTS) / x86_64  OK    OK    OK  UNNEEDED, same version is already published
palomino4Windows Server 2022 Datacenter / x64  OK    OK    OK    OK  UNNEEDED, same version is already published
lconwaymacOS 12.5.1 Monterey / x86_64  OK    OK    OK    OK  UNNEEDED, same version is already published
Package 138/183HostnameOS / ArchINSTALLBUILDCHECKBUILD BIN
RiboProfiling 1.28.0  (landing page)
A. Popa
git_last_commit: 0553477
git_last_commit_date: 2022-11-01 11:12:25 -0400
nebbiolo2Linux (Ubuntu 20.04.5 LTS) / x86_64  OK    OK    WARNINGS  UNNEEDED, same version is already published
palomino4Windows Server 2022 Datacenter / x64  OK    OK    WARNINGS    OK  UNNEEDED, same version is already published
lconwaymacOS 12.5.1 Monterey / x86_64  OK    OK    WARNINGS    OK  UNNEEDED, same version is already published
Package 139/183HostnameOS / ArchINSTALLBUILDCHECKBUILD BIN
riboSeqR 1.32.0  (landing page)
Thomas J. Hardcastle
git_last_commit: b37a6c6
git_last_commit_date: 2022-11-01 11:09:52 -0400
nebbiolo2Linux (Ubuntu 20.04.5 LTS) / x86_64  OK    OK    OK  UNNEEDED, same version is already published
palomino4Windows Server 2022 Datacenter / x64  OK    OK    OK    OK  UNNEEDED, same version is already published
lconwaymacOS 12.5.1 Monterey / x86_64  OK    OK    OK    OK  UNNEEDED, same version is already published
Package 140/183HostnameOS / ArchINSTALLBUILDCHECKBUILD BIN
ribosomeProfilingQC 1.10.0  (landing page)
Jianhong Ou
git_last_commit: 1fb3d93
git_last_commit_date: 2022-11-01 11:21:25 -0400
nebbiolo2Linux (Ubuntu 20.04.5 LTS) / x86_64  OK    OK    OK  UNNEEDED, same version is already published
palomino4Windows Server 2022 Datacenter / x64  OK    OK    OK    OK  UNNEEDED, same version is already published
lconwaymacOS 12.5.1 Monterey / x86_64  OK    OK    OK    OK  UNNEEDED, same version is already published
Package 141/183HostnameOS / ArchINSTALLBUILDCHECKBUILD BIN
RNAmodR 1.12.0  (landing page)
Felix G.M. Ernst
git_last_commit: 6cf3f83
git_last_commit_date: 2022-11-01 11:20:02 -0400
nebbiolo2Linux (Ubuntu 20.04.5 LTS) / x86_64  OK    OK    OK  UNNEEDED, same version is already published
palomino4Windows Server 2022 Datacenter / x64  OK    OK    OK    OK  UNNEEDED, same version is already published
lconwaymacOS 12.5.1 Monterey / x86_64  OK    OK    OK    OK  UNNEEDED, same version is already published
Package 142/183HostnameOS / ArchINSTALLBUILDCHECKBUILD BIN
RNASeqR 1.16.0  (landing page)
Kuan-Hao Chao
git_last_commit: 0f6d741
git_last_commit_date: 2022-11-01 11:18:37 -0400
nebbiolo2Linux (Ubuntu 20.04.5 LTS) / x86_64  OK    OK    ERROR  
palomino4Windows Server 2022 Datacenter / x64... NOT SUPPORTED ...
lconwaymacOS 12.5.1 Monterey / x86_64  OK    OK    ERROR    OK  
Package 143/183HostnameOS / ArchINSTALLBUILDCHECKBUILD BIN
Rqc 1.32.0  (landing page)
Welliton Souza
git_last_commit: 1691219
git_last_commit_date: 2022-11-01 11:10:42 -0400
nebbiolo2Linux (Ubuntu 20.04.5 LTS) / x86_64  OK    OK    OK  UNNEEDED, same version is already published
palomino4Windows Server 2022 Datacenter / x64  OK    OK    OK    OK  UNNEEDED, same version is already published
lconwaymacOS 12.5.1 Monterey / x86_64  OK    OK    OK    OK  UNNEEDED, same version is already published
Package 144/183HostnameOS / ArchINSTALLBUILDCHECKBUILD BIN
rtracklayer 1.58.0  (landing page)
Michael Lawrence
git_last_commit: 54a7497
git_last_commit_date: 2022-11-01 11:03:49 -0400
nebbiolo2Linux (Ubuntu 20.04.5 LTS) / x86_64  OK    OK    WARNINGS  UNNEEDED, same version is already published
palomino4Windows Server 2022 Datacenter / x64  OK    OK    WARNINGS    OK  UNNEEDED, same version is already published
lconwaymacOS 12.5.1 Monterey / x86_64  OK    OK    WARNINGS    OK  UNNEEDED, same version is already published
Package 145/183HostnameOS / ArchINSTALLBUILDCHECKBUILD BIN
scDblFinder 1.12.0  (landing page)
Pierre-Luc Germain
git_last_commit: 65a88be
git_last_commit_date: 2022-11-04 12:31:15 -0400
nebbiolo2Linux (Ubuntu 20.04.5 LTS) / x86_64  OK    OK    OK  UNNEEDED, same version is already published
palomino4Windows Server 2022 Datacenter / x64  OK    OK    OK    OK  UNNEEDED, same version is already published
lconwaymacOS 12.5.1 Monterey / x86_64  OK    OK    OK    OK  UNNEEDED, same version is already published
Package 146/183HostnameOS / ArchINSTALLBUILDCHECKBUILD BIN
SCOPE 1.10.0  (landing page)
Rujin Wang
git_last_commit: cd8f6c9
git_last_commit_date: 2022-11-01 11:21:21 -0400
nebbiolo2Linux (Ubuntu 20.04.5 LTS) / x86_64  OK    OK    OK  UNNEEDED, same version is already published
palomino4Windows Server 2022 Datacenter / x64  OK    OK    OK    OK  UNNEEDED, same version is already published
lconwaymacOS 12.5.1 Monterey / x86_64  OK    OK    OK    OK  UNNEEDED, same version is already published
Package 147/183HostnameOS / ArchINSTALLBUILDCHECKBUILD BIN
scPipe 1.20.6  (landing page)
Shian Su
git_last_commit: defa6ff
git_last_commit_date: 2023-03-06 19:45:39 -0400
nebbiolo2Linux (Ubuntu 20.04.5 LTS) / x86_64  OK    OK    OK  UNNEEDED, same version is already published
palomino4Windows Server 2022 Datacenter / x64  OK    OK    OK    OK  UNNEEDED, same version is already published
lconwaymacOS 12.5.1 Monterey / x86_64  OK    OK    OK    OK  UNNEEDED, same version is already published
Package 148/183HostnameOS / ArchINSTALLBUILDCHECKBUILD BIN
scruff 1.16.0  (landing page)
Zhe Wang
git_last_commit: 6d4b87c
git_last_commit_date: 2022-11-01 11:18:08 -0400
nebbiolo2Linux (Ubuntu 20.04.5 LTS) / x86_64  OK    OK    OK  UNNEEDED, same version is already published
palomino4Windows Server 2022 Datacenter / x64  OK    OK    OK    OK  UNNEEDED, same version is already published
lconwaymacOS 12.5.1 Monterey / x86_64  OK    OK    OK    OK  UNNEEDED, same version is already published
Package 149/183HostnameOS / ArchINSTALLBUILDCHECKBUILD BIN
segmentSeq 2.32.0  (landing page)
Thomas J. Hardcastle
git_last_commit: 4376804
git_last_commit_date: 2022-11-01 11:04:54 -0400
nebbiolo2Linux (Ubuntu 20.04.5 LTS) / x86_64  OK    OK    OK  UNNEEDED, same version is already published
palomino4Windows Server 2022 Datacenter / x64  OK    OK    OK    OK  UNNEEDED, same version is already published
lconwaymacOS 12.5.1 Monterey / x86_64  OK    OK    OK    OK  UNNEEDED, same version is already published
Package 150/183HostnameOS / ArchINSTALLBUILDCHECKBUILD BIN
seqsetvis 1.18.1  (landing page)
Joseph R Boyd
git_last_commit: 70b164b
git_last_commit_date: 2023-02-24 08:53:30 -0400
nebbiolo2Linux (Ubuntu 20.04.5 LTS) / x86_64  OK    OK    OK  UNNEEDED, same version is already published
palomino4Windows Server 2022 Datacenter / x64  OK    OK    OK    OK  UNNEEDED, same version is already published
lconwaymacOS 12.5.1 Monterey / x86_64  OK    OK    OK    OK  UNNEEDED, same version is already published
Package 151/183HostnameOS / ArchINSTALLBUILDCHECKBUILD BIN
SGSeq 1.32.0  (landing page)
Leonard Goldstein
git_last_commit: dfa228e
git_last_commit_date: 2022-11-01 11:10:36 -0400
nebbiolo2Linux (Ubuntu 20.04.5 LTS) / x86_64  OK    OK    OK  UNNEEDED, same version is already published
palomino4Windows Server 2022 Datacenter / x64  OK    OK    OK    OK  UNNEEDED, same version is already published
lconwaymacOS 12.5.1 Monterey / x86_64  OK    OK    OK    OK  UNNEEDED, same version is already published
Package 152/183HostnameOS / ArchINSTALLBUILDCHECKBUILD BIN
ShortRead 1.56.1  (landing page)
Bioconductor Package Maintainer
git_last_commit: e5758ff
git_last_commit_date: 2022-11-16 07:57:29 -0400
nebbiolo2Linux (Ubuntu 20.04.5 LTS) / x86_64  OK    OK    WARNINGS  UNNEEDED, same version is already published
palomino4Windows Server 2022 Datacenter / x64  OK    OK    OK    OK  UNNEEDED, same version is already published
lconwaymacOS 12.5.1 Monterey / x86_64  OK    OK    OK    OK  UNNEEDED, same version is already published
Package 153/183HostnameOS / ArchINSTALLBUILDCHECKBUILD BIN
SICtools 1.28.0  (landing page)
Xiaobin Xing
git_last_commit: cbc5c48
git_last_commit_date: 2022-11-01 11:12:21 -0400
nebbiolo2Linux (Ubuntu 20.04.5 LTS) / x86_64  OK    OK    WARNINGS  UNNEEDED, same version is already published
palomino4Windows Server 2022 Datacenter / x64... NOT SUPPORTED ...
lconwaymacOS 12.5.1 Monterey / x86_64  OK    OK    WARNINGS    OK  UNNEEDED, same version is already published
Package 154/183HostnameOS / ArchINSTALLBUILDCHECKBUILD BIN
SimFFPE 1.10.0  (landing page)
Lanying Wei
git_last_commit: dd10988
git_last_commit_date: 2022-11-01 11:21:13 -0400
nebbiolo2Linux (Ubuntu 20.04.5 LTS) / x86_64  OK    OK    OK  UNNEEDED, same version is already published
palomino4Windows Server 2022 Datacenter / x64  OK    OK    OK    OK  UNNEEDED, same version is already published
lconwaymacOS 12.5.1 Monterey / x86_64  OK    OK    OK    OK  UNNEEDED, same version is already published
Package 155/183HostnameOS / ArchINSTALLBUILDCHECKBUILD BIN
single 1.2.0  (landing page)
Rocio Espada
git_last_commit: c6b958b
git_last_commit_date: 2023-01-18 05:18:57 -0400
nebbiolo2Linux (Ubuntu 20.04.5 LTS) / x86_64  OK    OK    ERROR  
palomino4Windows Server 2022 Datacenter / x64  OK    OK    ERROR    OK  
lconwaymacOS 12.5.1 Monterey / x86_64  OK    OK    ERROR    OK  
Package 156/183HostnameOS / ArchINSTALLBUILDCHECKBUILD BIN
sitadela 1.6.0  (landing page)
Panagiotis Moulos
git_last_commit: 0733c99
git_last_commit_date: 2022-11-01 11:24:14 -0400
nebbiolo2Linux (Ubuntu 20.04.5 LTS) / x86_64  OK    OK    OK  UNNEEDED, same version is already published
palomino4Windows Server 2022 Datacenter / x64  OK    OK    OK    OK  UNNEEDED, same version is already published
lconwaymacOS 12.5.1 Monterey / x86_64  OK    OK    OK    OK  UNNEEDED, same version is already published
Package 157/183HostnameOS / ArchINSTALLBUILDCHECKBUILD BIN
SNPhood 1.28.0  (landing page)
Christian Arnold
git_last_commit: a928670
git_last_commit_date: 2022-11-01 11:12:26 -0400
nebbiolo2Linux (Ubuntu 20.04.5 LTS) / x86_64  OK    OK    OK  UNNEEDED, same version is already published
palomino4Windows Server 2022 Datacenter / x64  OK    OK    OK    OK  UNNEEDED, same version is already published
lconwaymacOS 12.5.1 Monterey / x86_64  OK    OK    OK    OK  UNNEEDED, same version is already published
Package 158/183HostnameOS / ArchINSTALLBUILDCHECKBUILD BIN
soGGi 1.30.0  (landing page)
Tom Carroll
git_last_commit: 81e9ccd
git_last_commit_date: 2022-11-01 11:11:34 -0400
nebbiolo2Linux (Ubuntu 20.04.5 LTS) / x86_64  OK    OK    OK  UNNEEDED, same version is already published
palomino4Windows Server 2022 Datacenter / x64  OK    OK    OK    OK  UNNEEDED, same version is already published
lconwaymacOS 12.5.1 Monterey / x86_64  OK    OK    OK    OK  UNNEEDED, same version is already published
Package 159/183HostnameOS / ArchINSTALLBUILDCHECKBUILD BIN
spiky 1.4.0  (landing page)
Tim Triche
git_last_commit: ca789a4
git_last_commit_date: 2022-11-01 11:25:11 -0400
nebbiolo2Linux (Ubuntu 20.04.5 LTS) / x86_64  OK    OK    OK  UNNEEDED, same version is already published
palomino4Windows Server 2022 Datacenter / x64  OK    OK    OK    OK  UNNEEDED, same version is already published
lconwaymacOS 12.5.1 Monterey / x86_64  OK    OK    OK    OK  UNNEEDED, same version is already published
Package 160/183HostnameOS / ArchINSTALLBUILDCHECKBUILD BIN
SplicingGraphs 1.38.0  (landing page)
H. Pagès
git_last_commit: 37dc46c
git_last_commit_date: 2022-11-01 11:08:13 -0400
nebbiolo2Linux (Ubuntu 20.04.5 LTS) / x86_64  OK    OK    ERROR  
palomino4Windows Server 2022 Datacenter / x64  OK    OK    ERROR    OK  
lconwaymacOS 12.5.1 Monterey / x86_64  OK    OK    ERROR    OK  
Package 161/183HostnameOS / ArchINSTALLBUILDCHECKBUILD BIN
srnadiff 1.18.2  (landing page)
Zytnicki Matthias
git_last_commit: 53b3bbd
git_last_commit_date: 2023-03-06 15:38:52 -0400
nebbiolo2Linux (Ubuntu 20.04.5 LTS) / x86_64  OK    OK    WARNINGS  UNNEEDED, same version is already published
palomino4Windows Server 2022 Datacenter / x64  OK    OK    WARNINGS    OK  UNNEEDED, same version is already published
lconwaymacOS 12.5.1 Monterey / x86_64  OK    OK    WARNINGS    OK  UNNEEDED, same version is already published
Package 162/183HostnameOS / ArchINSTALLBUILDCHECKBUILD BIN
ssviz 1.32.0  (landing page)
Diana Low
git_last_commit: 08a6ae2
git_last_commit_date: 2022-11-01 11:09:51 -0400
nebbiolo2Linux (Ubuntu 20.04.5 LTS) / x86_64  OK    OK    OK  UNNEEDED, same version is already published
palomino4Windows Server 2022 Datacenter / x64  OK    OK    OK    OK  UNNEEDED, same version is already published
lconwaymacOS 12.5.1 Monterey / x86_64  OK    OK    OK    OK  UNNEEDED, same version is already published
Package 163/183HostnameOS / ArchINSTALLBUILDCHECKBUILD BIN
strandCheckR 1.16.0  (landing page)
Thu-Hien To
git_last_commit: fda7dad
git_last_commit_date: 2022-11-01 11:18:10 -0400
nebbiolo2Linux (Ubuntu 20.04.5 LTS) / x86_64  OK    OK    OK  UNNEEDED, same version is already published
palomino4Windows Server 2022 Datacenter / x64  OK    OK    OK    OK  UNNEEDED, same version is already published
lconwaymacOS 12.5.1 Monterey / x86_64  OK    OK    OK    OK  UNNEEDED, same version is already published
Package 164/183HostnameOS / ArchINSTALLBUILDCHECKBUILD BIN
systemPipeR 2.4.0  (landing page)
Thomas Girke
git_last_commit: a5ab185
git_last_commit_date: 2022-11-01 11:10:17 -0400
nebbiolo2Linux (Ubuntu 20.04.5 LTS) / x86_64  OK    OK    OK  UNNEEDED, same version is already published
palomino4Windows Server 2022 Datacenter / x64  OK    OK    OK    OK  UNNEEDED, same version is already published
lconwaymacOS 12.5.1 Monterey / x86_64  OK    OK    OK    OK  UNNEEDED, same version is already published
Package 165/183HostnameOS / ArchINSTALLBUILDCHECKBUILD BIN
TarSeqQC 1.28.0  (landing page)
Gabriela Merino
git_last_commit: ef4f4fc
git_last_commit_date: 2022-11-01 11:12:16 -0400
nebbiolo2Linux (Ubuntu 20.04.5 LTS) / x86_64  OK    OK    ERROR  
palomino4Windows Server 2022 Datacenter / x64  OK    OK    ERROR    OK  
lconwaymacOS 12.5.1 Monterey / x86_64  OK    OK    ERROR    OK  
Package 166/183HostnameOS / ArchINSTALLBUILDCHECKBUILD BIN
TCseq 1.22.6  (landing page)
Mengjun Wu
git_last_commit: 768d487
git_last_commit_date: 2023-01-30 12:53:26 -0400
nebbiolo2Linux (Ubuntu 20.04.5 LTS) / x86_64  OK    OK    WARNINGS  UNNEEDED, same version is already published
palomino4Windows Server 2022 Datacenter / x64  OK    OK    WARNINGS    OK  UNNEEDED, same version is already published
lconwaymacOS 12.5.1 Monterey / x86_64  OK    OK    WARNINGS    OK  UNNEEDED, same version is already published
Package 167/183HostnameOS / ArchINSTALLBUILDCHECKBUILD BIN
TEQC 4.20.0  (landing page)
Sarah Bonnin
git_last_commit: 9ef9c21
git_last_commit_date: 2022-11-01 11:05:28 -0400
nebbiolo2Linux (Ubuntu 20.04.5 LTS) / x86_64  OK    OK    WARNINGS  UNNEEDED, same version is already published
palomino4Windows Server 2022 Datacenter / x64  OK    OK    WARNINGS    OK  UNNEEDED, same version is already published
lconwaymacOS 12.5.1 Monterey / x86_64  OK    OK    WARNINGS    OK  UNNEEDED, same version is already published
Package 168/183HostnameOS / ArchINSTALLBUILDCHECKBUILD BIN
TFutils 1.18.0  (landing page)
Vincent Carey
git_last_commit: fa5538c
git_last_commit_date: 2022-11-01 11:17:33 -0400
nebbiolo2Linux (Ubuntu 20.04.5 LTS) / x86_64  OK    OK    OK  UNNEEDED, same version is already published
palomino4Windows Server 2022 Datacenter / x64  OK    OK    OK    OK  UNNEEDED, same version is already published
lconwaymacOS 12.5.1 Monterey / x86_64  OK    OK    OK    OK  UNNEEDED, same version is already published
Package 169/183HostnameOS / ArchINSTALLBUILDCHECKBUILD BIN
tracktables 1.32.0  (landing page)
Tom Carroll
git_last_commit: 0447a8a
git_last_commit_date: 2022-11-01 11:10:40 -0400
nebbiolo2Linux (Ubuntu 20.04.5 LTS) / x86_64  OK    OK    WARNINGS  UNNEEDED, same version is already published
palomino4Windows Server 2022 Datacenter / x64  OK    OK    WARNINGS    OK  UNNEEDED, same version is already published
lconwaymacOS 12.5.1 Monterey / x86_64  OK    OK    WARNINGS    OK  UNNEEDED, same version is already published
Package 170/183HostnameOS / ArchINSTALLBUILDCHECKBUILD BIN
trackViewer 1.34.0  (landing page)
Jianhong Ou
git_last_commit: 9daa482
git_last_commit_date: 2022-11-01 11:09:09 -0400
nebbiolo2Linux (Ubuntu 20.04.5 LTS) / x86_64  OK    OK    OK  UNNEEDED, same version is already published
palomino4Windows Server 2022 Datacenter / x64  OK    OK    OK    OK  UNNEEDED, same version is already published
lconwaymacOS 12.5.1 Monterey / x86_64  OK    OK    OK    OK  UNNEEDED, same version is already published
Package 171/183HostnameOS / ArchINSTALLBUILDCHECKBUILD BIN
transcriptR 1.26.0  (landing page)
Armen R. Karapetyan
git_last_commit: 0789312
git_last_commit_date: 2022-11-01 11:12:38 -0400
nebbiolo2Linux (Ubuntu 20.04.5 LTS) / x86_64  OK    OK    OK  UNNEEDED, same version is already published
palomino4Windows Server 2022 Datacenter / x64  OK    OK    OK    OK  UNNEEDED, same version is already published
lconwaymacOS 12.5.1 Monterey / x86_64  OK    OK    OK    OK  UNNEEDED, same version is already published
Package 172/183HostnameOS / ArchINSTALLBUILDCHECKBUILD BIN
TRESS 1.4.0  (landing page)
Zhenxing Guo
git_last_commit: 52ba838
git_last_commit_date: 2022-11-01 11:25:50 -0400
nebbiolo2Linux (Ubuntu 20.04.5 LTS) / x86_64  OK    OK    OK  UNNEEDED, same version is already published
palomino4Windows Server 2022 Datacenter / x64  OK    ERROR  skippedskipped
lconwaymacOS 12.5.1 Monterey / x86_64  OK    OK    OK    OK  UNNEEDED, same version is already published
Package 173/183HostnameOS / ArchINSTALLBUILDCHECKBUILD BIN
tRNAscanImport 1.18.0  (landing page)
Felix G.M. Ernst
git_last_commit: fa73364
git_last_commit_date: 2022-11-01 11:17:15 -0400
nebbiolo2Linux (Ubuntu 20.04.5 LTS) / x86_64  OK    OK    OK  UNNEEDED, same version is already published
palomino4Windows Server 2022 Datacenter / x64  OK    OK    OK    OK  UNNEEDED, same version is already published
lconwaymacOS 12.5.1 Monterey / x86_64  OK    OK    OK    OK  UNNEEDED, same version is already published
Package 174/183HostnameOS / ArchINSTALLBUILDCHECKBUILD BIN
TVTB 1.24.0  (landing page)
Kevin Rue-Albrecht
git_last_commit: 617292c
git_last_commit_date: 2022-11-01 11:14:45 -0400
nebbiolo2Linux (Ubuntu 20.04.5 LTS) / x86_64  OK    OK    OK  UNNEEDED, same version is already published
palomino4Windows Server 2022 Datacenter / x64... NOT SUPPORTED ...
lconwaymacOS 12.5.1 Monterey / x86_64  OK    OK    OK    OK  UNNEEDED, same version is already published
Package 175/183HostnameOS / ArchINSTALLBUILDCHECKBUILD BIN
UMI4Cats 1.8.1  (landing page)
Mireia Ramos-Rodriguez
git_last_commit: 9626832
git_last_commit_date: 2022-12-15 08:12:00 -0400
nebbiolo2Linux (Ubuntu 20.04.5 LTS) / x86_64  OK    OK    OK  UNNEEDED, same version is already published
palomino4Windows Server 2022 Datacenter / x64  OK    OK    OK    OK  UNNEEDED, same version is already published
lconwaymacOS 12.5.1 Monterey / x86_64  OK    OK    OK    OK  UNNEEDED, same version is already published
Package 176/183HostnameOS / ArchINSTALLBUILDCHECKBUILD BIN
uncoverappLib 1.8.1  (landing page)
Emanuela Iovino
git_last_commit: 5506789
git_last_commit_date: 2023-03-30 11:26:36 -0400
nebbiolo2Linux (Ubuntu 20.04.5 LTS) / x86_64  OK    OK    OK  UNNEEDED, same version is already published
palomino4Windows Server 2022 Datacenter / x64  OK    OK    OK    OK  UNNEEDED, same version is already published
lconwaymacOS 12.5.1 Monterey / x86_64  OK    OK    OK    OK  UNNEEDED, same version is already published
Package 177/183HostnameOS / ArchINSTALLBUILDCHECKBUILD BIN
VariantAnnotation 1.44.1  (landing page)
Bioconductor Package Maintainer
git_last_commit: 2c52839
git_last_commit_date: 2023-02-14 16:02:56 -0400
nebbiolo2Linux (Ubuntu 20.04.5 LTS) / x86_64  OK    OK    OK  UNNEEDED, same version is already published
palomino4Windows Server 2022 Datacenter / x64  OK    OK    OK    OK  UNNEEDED, same version is already published
lconwaymacOS 12.5.1 Monterey / x86_64  OK    OK    OK    OK  UNNEEDED, same version is already published
Package 178/183HostnameOS / ArchINSTALLBUILDCHECKBUILD BIN
VariantFiltering 1.34.0  (landing page)
Robert Castelo
git_last_commit: 0a6a94d
git_last_commit_date: 2022-11-01 11:09:33 -0400
nebbiolo2Linux (Ubuntu 20.04.5 LTS) / x86_64  OK    OK    OK  UNNEEDED, same version is already published
palomino4Windows Server 2022 Datacenter / x64  OK    OK    OK    OK  UNNEEDED, same version is already published
lconwaymacOS 12.5.1 Monterey / x86_64  OK    OK    OK    OK  UNNEEDED, same version is already published
Package 179/183HostnameOS / ArchINSTALLBUILDCHECKBUILD BIN
VariantTools 1.40.0  (landing page)
Michael Lawrence
git_last_commit: d949a03
git_last_commit_date: 2022-11-01 11:07:33 -0400
nebbiolo2Linux (Ubuntu 20.04.5 LTS) / x86_64  OK    OK    WARNINGS  UNNEEDED, same version is already published
palomino4Windows Server 2022 Datacenter / x64  OK    OK    WARNINGS    OK  UNNEEDED, same version is already published
lconwaymacOS 12.5.1 Monterey / x86_64  OK    OK    ERROR    OK  
Package 180/183HostnameOS / ArchINSTALLBUILDCHECKBUILD BIN
VaSP 1.10.0  (landing page)
Huihui Yu
git_last_commit: 5b08a6b
git_last_commit_date: 2022-11-01 11:21:25 -0400
nebbiolo2Linux (Ubuntu 20.04.5 LTS) / x86_64  OK    OK    OK  UNNEEDED, same version is already published
palomino4Windows Server 2022 Datacenter / x64  OK    OK    OK    OK  UNNEEDED, same version is already published
lconwaymacOS 12.5.1 Monterey / x86_64  OK    OK    OK    OK  UNNEEDED, same version is already published
Package 181/183HostnameOS / ArchINSTALLBUILDCHECKBUILD BIN
VCFArray 1.14.0  (landing page)
Qian Liu
git_last_commit: f992261
git_last_commit_date: 2022-11-01 11:19:00 -0400
nebbiolo2Linux (Ubuntu 20.04.5 LTS) / x86_64  OK    OK    OK  UNNEEDED, same version is already published
palomino4Windows Server 2022 Datacenter / x64  OK    OK    OK    OK  UNNEEDED, same version is already published
lconwaymacOS 12.5.1 Monterey / x86_64  OK    OK    OK    OK  UNNEEDED, same version is already published
Package 182/183HostnameOS / ArchINSTALLBUILDCHECKBUILD BIN
VplotR 1.8.0  (landing page)
Jacques Serizay
git_last_commit: ec8d656
git_last_commit_date: 2022-11-01 11:22:38 -0400
nebbiolo2Linux (Ubuntu 20.04.5 LTS) / x86_64  OK    OK    ERROR  
palomino4Windows Server 2022 Datacenter / x64  OK    OK    WARNINGS    OK  UNNEEDED, same version is already published
lconwaymacOS 12.5.1 Monterey / x86_64  OK    OK    WARNINGS    OK  UNNEEDED, same version is already published
Package 183/183HostnameOS / ArchINSTALLBUILDCHECKBUILD BIN
wavClusteR 2.32.0  (landing page)
Federico Comoglio
git_last_commit: 2c0d0d5
git_last_commit_date: 2022-11-01 11:09:47 -0400
nebbiolo2Linux (Ubuntu 20.04.5 LTS) / x86_64  OK    OK    OK  UNNEEDED, same version is already published
palomino4Windows Server 2022 Datacenter / x64  OK    OK    OK    OK  UNNEEDED, same version is already published
lconwaymacOS 12.5.1 Monterey / x86_64  OK    OK    OK    OK  UNNEEDED, same version is already published