Back to Multiple platform build/check report for BioC 3.16
[A]BCDEFGHIJKLMNOPQRSTUVWXYZ

This page was generated on 2023-01-31 11:04:36 -0500 (Tue, 31 Jan 2023).

HostnameOSArch (*)R versionInstalled pkgs
nebbiolo2Linux (Ubuntu 20.04.5 LTS)x86_644.2.2 (2022-10-31) -- "Innocent and Trusting" 4511
palomino4Windows Server 2022 Datacenterx644.2.2 (2022-10-31 ucrt) -- "Innocent and Trusting" 4289
lconwaymacOS 12.5.1 Montereyx86_644.2.2 (2022-10-31) -- "Innocent and Trusting" 4318
Click on any hostname to see more info about the system (e.g. compilers)      (*) as reported by 'uname -p', except on Windows and Mac OS X

All results for package annotate


To the developers/maintainers of the annotate package:
- Please allow up to 24 hours (and sometimes 48 hours) for your latest push to git@git.bioconductor.org:packages/annotate.git to
reflect on this report. See How and When does the builder pull? When will my changes propagate? for more information.
- Make sure to use the following settings in order to reproduce any error or warning you see on this page.

raw results

Package 55/2183HostnameOS / ArchINSTALLBUILDCHECKBUILD BIN
annotate 1.76.0  (landing page)
Bioconductor Package Maintainer
Snapshot Date: 2023-01-30 14:00:05 -0500 (Mon, 30 Jan 2023)
git_url: https://git.bioconductor.org/packages/annotate
git_branch: RELEASE_3_16
git_last_commit: 0181d5c
git_last_commit_date: 2022-11-01 10:34:51 -0500 (Tue, 01 Nov 2022)
nebbiolo2Linux (Ubuntu 20.04.5 LTS) / x86_64  OK    OK    OK  UNNEEDED, same version is already published
palomino4Windows Server 2022 Datacenter / x64  OK    OK    ERROR    OK  
lconwaymacOS 12.5.1 Monterey / x86_64  OK    OK    OK    OK  UNNEEDED, same version is already published

Results for Bioconductor software packages that depend directly on package annotate

QUICK STATSOS / ArchINSTALLBUILDCHECKBUILD BIN
nebbiolo2Linux (Ubuntu 20.04.5 LTS) / x86_64
0031
0031
00625
palomino4Windows Server 2022 Datacenter / x64
0031
0031
00724
0031
lconwaymacOS 12.5.1 Monterey / x86_64
0031
0031
00526
0031
Package 1/31HostnameOS / ArchINSTALLBUILDCHECKBUILD BIN
CAFE 1.34.0  (landing page)
Sander Bollen
git_last_commit: 61e9936
git_last_commit_date: 2022-11-01 11:09:18 -0500
nebbiolo2Linux (Ubuntu 20.04.5 LTS) / x86_64  OK    OK    WARNINGS  UNNEEDED, same version is already published
palomino4Windows Server 2022 Datacenter / x64  OK    OK    WARNINGS    OK  UNNEEDED, same version is already published
lconwaymacOS 12.5.1 Monterey / x86_64  OK    OK    WARNINGS    OK  UNNEEDED, same version is already published
Package 2/31HostnameOS / ArchINSTALLBUILDCHECKBUILD BIN
Category 2.64.0  (landing page)
Bioconductor Package Maintainer
git_last_commit: b512cbe
git_last_commit_date: 2022-11-01 10:39:25 -0500
nebbiolo2Linux (Ubuntu 20.04.5 LTS) / x86_64  OK    OK    OK  UNNEEDED, same version is already published
palomino4Windows Server 2022 Datacenter / x64  OK    OK    OK    OK  UNNEEDED, same version is already published
lconwaymacOS 12.5.1 Monterey / x86_64  OK    OK    OK    OK  UNNEEDED, same version is already published
Package 3/31HostnameOS / ArchINSTALLBUILDCHECKBUILD BIN
categoryCompare 1.42.0  (landing page)
Robert M. Flight
git_last_commit: a854c2a
git_last_commit_date: 2022-11-01 11:06:57 -0500
nebbiolo2Linux (Ubuntu 20.04.5 LTS) / x86_64  OK    OK    OK  UNNEEDED, same version is already published
palomino4Windows Server 2022 Datacenter / x64  OK    OK    OK    OK  UNNEEDED, same version is already published
lconwaymacOS 12.5.1 Monterey / x86_64  OK    OK    OK    OK  UNNEEDED, same version is already published
Package 4/31HostnameOS / ArchINSTALLBUILDCHECKBUILD BIN
ChromHeatMap 1.52.0  (landing page)
Tim F. Rayner
git_last_commit: eebc617
git_last_commit_date: 2022-11-01 11:04:42 -0500
nebbiolo2Linux (Ubuntu 20.04.5 LTS) / x86_64  OK    OK    OK  UNNEEDED, same version is already published
palomino4Windows Server 2022 Datacenter / x64  OK    OK    OK    OK  UNNEEDED, same version is already published
lconwaymacOS 12.5.1 Monterey / x86_64  OK    OK    OK    OK  UNNEEDED, same version is already published
Package 5/31HostnameOS / ArchINSTALLBUILDCHECKBUILD BIN
CNEr 1.34.0  (landing page)
Ge Tan
git_last_commit: 878de98
git_last_commit_date: 2022-11-01 11:09:13 -0500
nebbiolo2Linux (Ubuntu 20.04.5 LTS) / x86_64  OK    OK    OK  UNNEEDED, same version is already published
palomino4Windows Server 2022 Datacenter / x64  OK    OK    WARNINGS    OK  UNNEEDED, same version is already published
lconwaymacOS 12.5.1 Monterey / x86_64  OK    OK    OK    OK  UNNEEDED, same version is already published
Package 6/31HostnameOS / ArchINSTALLBUILDCHECKBUILD BIN
codelink 1.66.0  (landing page)
Diego Diez
git_last_commit: 7f0679a
git_last_commit_date: 2022-11-01 10:40:29 -0500
nebbiolo2Linux (Ubuntu 20.04.5 LTS) / x86_64  OK    OK    OK  UNNEEDED, same version is already published
palomino4Windows Server 2022 Datacenter / x64  OK    OK    OK    OK  UNNEEDED, same version is already published
lconwaymacOS 12.5.1 Monterey / x86_64  OK    OK    OK    OK  UNNEEDED, same version is already published
Package 7/31HostnameOS / ArchINSTALLBUILDCHECKBUILD BIN
debrowser 1.26.0  (landing page)
Alper Kucukural
git_last_commit: 29bc294
git_last_commit_date: 2022-11-01 11:13:17 -0500
nebbiolo2Linux (Ubuntu 20.04.5 LTS) / x86_64  OK    OK    OK  UNNEEDED, same version is already published
palomino4Windows Server 2022 Datacenter / x64  OK    OK    OK    OK  UNNEEDED, same version is already published
lconwaymacOS 12.5.1 Monterey / x86_64  OK    OK    OK    OK  UNNEEDED, same version is already published
Package 8/31HostnameOS / ArchINSTALLBUILDCHECKBUILD BIN
DrugVsDisease 2.40.0  (landing page)
j. Saez-Rodriguez
git_last_commit: 0bbcf6a
git_last_commit_date: 2022-11-01 11:07:48 -0500
nebbiolo2Linux (Ubuntu 20.04.5 LTS) / x86_64  OK    OK    OK  UNNEEDED, same version is already published
palomino4Windows Server 2022 Datacenter / x64  OK    OK    OK    OK  UNNEEDED, same version is already published
lconwaymacOS 12.5.1 Monterey / x86_64  OK    OK    OK    OK  UNNEEDED, same version is already published
Package 9/31HostnameOS / ArchINSTALLBUILDCHECKBUILD BIN
genefilter 1.80.3  (landing page)
Bioconductor Package Maintainer
git_last_commit: 2138dca
git_last_commit_date: 2023-01-19 11:17:04 -0500
nebbiolo2Linux (Ubuntu 20.04.5 LTS) / x86_64  OK    OK    WARNINGS  UNNEEDED, same version is already published
palomino4Windows Server 2022 Datacenter / x64  OK    OK    WARNINGS    OK  UNNEEDED, same version is already published
lconwaymacOS 12.5.1 Monterey / x86_64  OK    OK    OK    OK  UNNEEDED, same version is already published
Package 10/31HostnameOS / ArchINSTALLBUILDCHECKBUILD BIN
geneplotter 1.76.0  (landing page)
Bioconductor Package Maintainer
git_last_commit: 4eb6a78
git_last_commit_date: 2022-11-01 10:34:58 -0500
nebbiolo2Linux (Ubuntu 20.04.5 LTS) / x86_64  OK    OK    OK  UNNEEDED, same version is already published
palomino4Windows Server 2022 Datacenter / x64  OK    OK    OK    OK  UNNEEDED, same version is already published
lconwaymacOS 12.5.1 Monterey / x86_64  OK    OK    OK    OK  UNNEEDED, same version is already published
Package 11/31HostnameOS / ArchINSTALLBUILDCHECKBUILD BIN
GlobalAncova 4.16.0  (landing page)
Manuela Hummel
git_last_commit: 9f0109b
git_last_commit_date: 2022-11-01 10:39:59 -0500
nebbiolo2Linux (Ubuntu 20.04.5 LTS) / x86_64  OK    OK    OK  UNNEEDED, same version is already published
palomino4Windows Server 2022 Datacenter / x64  OK    OK    OK    OK  UNNEEDED, same version is already published
lconwaymacOS 12.5.1 Monterey / x86_64  OK    OK    OK    OK  UNNEEDED, same version is already published
Package 12/31HostnameOS / ArchINSTALLBUILDCHECKBUILD BIN
globaltest 5.52.0  (landing page)
Jelle Goeman
git_last_commit: a1fc3ad
git_last_commit_date: 2022-11-01 10:37:40 -0500
nebbiolo2Linux (Ubuntu 20.04.5 LTS) / x86_64  OK    OK    OK  UNNEEDED, same version is already published
palomino4Windows Server 2022 Datacenter / x64  OK    OK    OK    OK  UNNEEDED, same version is already published
lconwaymacOS 12.5.1 Monterey / x86_64  OK    OK    OK    OK  UNNEEDED, same version is already published
Package 13/31HostnameOS / ArchINSTALLBUILDCHECKBUILD BIN
GOSim 1.36.0  (landing page)
Holger Froehlich
git_last_commit: 7e72cf6
git_last_commit_date: 2022-11-01 11:08:42 -0500
nebbiolo2Linux (Ubuntu 20.04.5 LTS) / x86_64  OK    OK    OK  UNNEEDED, same version is already published
palomino4Windows Server 2022 Datacenter / x64  OK    OK    OK    OK  UNNEEDED, same version is already published
lconwaymacOS 12.5.1 Monterey / x86_64  OK    OK    OK    OK  UNNEEDED, same version is already published
Package 14/31HostnameOS / ArchINSTALLBUILDCHECKBUILD BIN
GOstats 2.64.0  (landing page)
Bioconductor Package Maintainer
git_last_commit: 6281325
git_last_commit_date: 2022-11-01 10:37:26 -0500
nebbiolo2Linux (Ubuntu 20.04.5 LTS) / x86_64  OK    OK    OK  UNNEEDED, same version is already published
palomino4Windows Server 2022 Datacenter / x64  OK    OK    OK    OK  UNNEEDED, same version is already published
lconwaymacOS 12.5.1 Monterey / x86_64  OK    OK    OK    OK  UNNEEDED, same version is already published
Package 15/31HostnameOS / ArchINSTALLBUILDCHECKBUILD BIN
GSEABase 1.60.0  (landing page)
Bioconductor Package Maintainer
git_last_commit: aae4e52
git_last_commit_date: 2022-11-01 11:03:29 -0500
nebbiolo2Linux (Ubuntu 20.04.5 LTS) / x86_64  OK    OK    OK  UNNEEDED, same version is already published
palomino4Windows Server 2022 Datacenter / x64  OK    OK    OK    OK  UNNEEDED, same version is already published
lconwaymacOS 12.5.1 Monterey / x86_64  OK    OK    OK    OK  UNNEEDED, same version is already published
Package 16/31HostnameOS / ArchINSTALLBUILDCHECKBUILD BIN
idiogram 1.74.0  (landing page)
Karl J. Dykema
git_last_commit: 15ae01e
git_last_commit_date: 2022-11-01 10:39:09 -0500
nebbiolo2Linux (Ubuntu 20.04.5 LTS) / x86_64  OK    OK    OK  UNNEEDED, same version is already published
palomino4Windows Server 2022 Datacenter / x64  OK    OK    OK    OK  UNNEEDED, same version is already published
lconwaymacOS 12.5.1 Monterey / x86_64  OK    OK    OK    OK  UNNEEDED, same version is already published
Package 17/31HostnameOS / ArchINSTALLBUILDCHECKBUILD BIN
lumi 2.50.0  (landing page)
Lei Huang
git_last_commit: 8711b77
git_last_commit_date: 2022-11-01 10:42:41 -0500
nebbiolo2Linux (Ubuntu 20.04.5 LTS) / x86_64  OK    OK    WARNINGS  UNNEEDED, same version is already published
palomino4Windows Server 2022 Datacenter / x64  OK    OK    WARNINGS    OK  UNNEEDED, same version is already published
lconwaymacOS 12.5.1 Monterey / x86_64  OK    OK    WARNINGS    OK  UNNEEDED, same version is already published
Package 18/31HostnameOS / ArchINSTALLBUILDCHECKBUILD BIN
macat 1.72.0  (landing page)
Joern Toedling
git_last_commit: 388a02b
git_last_commit_date: 2022-11-01 10:38:15 -0500
nebbiolo2Linux (Ubuntu 20.04.5 LTS) / x86_64  OK    OK    OK  UNNEEDED, same version is already published
palomino4Windows Server 2022 Datacenter / x64  OK    OK    OK    OK  UNNEEDED, same version is already published
lconwaymacOS 12.5.1 Monterey / x86_64  OK    OK    OK    OK  UNNEEDED, same version is already published
Package 19/31HostnameOS / ArchINSTALLBUILDCHECKBUILD BIN
methylumi 2.44.0  (landing page)
Sean Davis
git_last_commit: 8f1f1f9
git_last_commit_date: 2022-11-01 11:04:28 -0500
nebbiolo2Linux (Ubuntu 20.04.5 LTS) / x86_64  OK    OK    OK  UNNEEDED, same version is already published
palomino4Windows Server 2022 Datacenter / x64  OK    OK    OK    OK  UNNEEDED, same version is already published
lconwaymacOS 12.5.1 Monterey / x86_64  OK    OK    OK    OK  UNNEEDED, same version is already published
Package 20/31HostnameOS / ArchINSTALLBUILDCHECKBUILD BIN
MGFM 1.32.0  (landing page)
Khadija El Amrani
git_last_commit: 3f0eab3
git_last_commit_date: 2022-11-01 11:10:20 -0500
nebbiolo2Linux (Ubuntu 20.04.5 LTS) / x86_64  OK    OK    OK  UNNEEDED, same version is already published
palomino4Windows Server 2022 Datacenter / x64  OK    OK    OK    OK  UNNEEDED, same version is already published
lconwaymacOS 12.5.1 Monterey / x86_64  OK    OK    OK    OK  UNNEEDED, same version is already published
Package 21/31HostnameOS / ArchINSTALLBUILDCHECKBUILD BIN
MGFR 1.24.0  (landing page)
Khadija El Amrani
git_last_commit: 2493145
git_last_commit_date: 2022-11-01 11:14:00 -0500
nebbiolo2Linux (Ubuntu 20.04.5 LTS) / x86_64  OK    OK    OK  UNNEEDED, same version is already published
palomino4Windows Server 2022 Datacenter / x64  OK    OK    OK    OK  UNNEEDED, same version is already published
lconwaymacOS 12.5.1 Monterey / x86_64  OK    OK    OK    OK  UNNEEDED, same version is already published
Package 22/31HostnameOS / ArchINSTALLBUILDCHECKBUILD BIN
MineICA 1.38.0  (landing page)
Anne Biton
git_last_commit: 4d1fbc6
git_last_commit_date: 2022-11-01 11:07:52 -0500
nebbiolo2Linux (Ubuntu 20.04.5 LTS) / x86_64  OK    OK    WARNINGS  UNNEEDED, same version is already published
palomino4Windows Server 2022 Datacenter / x64  OK    OK    WARNINGS    OK  UNNEEDED, same version is already published
lconwaymacOS 12.5.1 Monterey / x86_64  OK    OK    WARNINGS    OK  UNNEEDED, same version is already published
Package 23/31HostnameOS / ArchINSTALLBUILDCHECKBUILD BIN
MLInterfaces 1.78.0  (landing page)
V. Carey
git_last_commit: 0988b95
git_last_commit_date: 2022-11-01 10:37:46 -0500
nebbiolo2Linux (Ubuntu 20.04.5 LTS) / x86_64  OK    OK    OK  UNNEEDED, same version is already published
palomino4Windows Server 2022 Datacenter / x64  OK    OK    OK    OK  UNNEEDED, same version is already published
lconwaymacOS 12.5.1 Monterey / x86_64  OK    OK    OK    OK  UNNEEDED, same version is already published
Package 24/31HostnameOS / ArchINSTALLBUILDCHECKBUILD BIN
phenoTest 1.46.0  (landing page)
Evarist Planet
git_last_commit: da0d349
git_last_commit_date: 2022-11-01 11:05:33 -0500
nebbiolo2Linux (Ubuntu 20.04.5 LTS) / x86_64  OK    OK    WARNINGS  UNNEEDED, same version is already published
palomino4Windows Server 2022 Datacenter / x64  OK    OK    WARNINGS    OK  UNNEEDED, same version is already published
lconwaymacOS 12.5.1 Monterey / x86_64  OK    OK    WARNINGS    OK  UNNEEDED, same version is already published
Package 25/31HostnameOS / ArchINSTALLBUILDCHECKBUILD BIN
PREDA 1.44.0  (landing page)
Francesco Ferrari
git_last_commit: a69196b
git_last_commit_date: 2022-11-01 11:06:08 -0500
nebbiolo2Linux (Ubuntu 20.04.5 LTS) / x86_64  OK    OK    WARNINGS  UNNEEDED, same version is already published
palomino4Windows Server 2022 Datacenter / x64  OK    OK    WARNINGS    OK  UNNEEDED, same version is already published
lconwaymacOS 12.5.1 Monterey / x86_64  OK    OK    WARNINGS    OK  UNNEEDED, same version is already published
Package 26/31HostnameOS / ArchINSTALLBUILDCHECKBUILD BIN
qpgraph 2.32.2  (landing page)
Robert Castelo
git_last_commit: 813e677
git_last_commit_date: 2023-01-19 11:18:12 -0500
nebbiolo2Linux (Ubuntu 20.04.5 LTS) / x86_64  OK    OK    OK  UNNEEDED, same version is already published
palomino4Windows Server 2022 Datacenter / x64  OK    OK    OK    OK  UNNEEDED, same version is already published
lconwaymacOS 12.5.1 Monterey / x86_64  OK    OK    OK    OK  UNNEEDED, same version is already published
Package 27/31HostnameOS / ArchINSTALLBUILDCHECKBUILD BIN
ReportingTools 2.38.0  (landing page)
Jason A. Hackney , Gabriel Becker
git_last_commit: 5c4971e
git_last_commit_date: 2022-11-01 11:07:25 -0500
nebbiolo2Linux (Ubuntu 20.04.5 LTS) / x86_64  OK    OK    OK  UNNEEDED, same version is already published
palomino4Windows Server 2022 Datacenter / x64  OK    OK    OK    OK  UNNEEDED, same version is already published
lconwaymacOS 12.5.1 Monterey / x86_64  OK    OK    OK    OK  UNNEEDED, same version is already published
Package 28/31HostnameOS / ArchINSTALLBUILDCHECKBUILD BIN
sampleClassifier 1.22.0  (landing page)
Khadija El Amrani
git_last_commit: 8322cf8
git_last_commit_date: 2022-11-01 11:23:48 -0500
nebbiolo2Linux (Ubuntu 20.04.5 LTS) / x86_64  OK    OK    OK  UNNEEDED, same version is already published
palomino4Windows Server 2022 Datacenter / x64  OK    OK    OK    OK  UNNEEDED, same version is already published
lconwaymacOS 12.5.1 Monterey / x86_64  OK    OK    OK    OK  UNNEEDED, same version is already published
Package 29/31HostnameOS / ArchINSTALLBUILDCHECKBUILD BIN
SemDist 1.32.0  (landing page)
Ian Gonzalez
git_last_commit: 35c48bc
git_last_commit_date: 2022-11-01 11:10:08 -0500
nebbiolo2Linux (Ubuntu 20.04.5 LTS) / x86_64  OK    OK    OK  UNNEEDED, same version is already published
palomino4Windows Server 2022 Datacenter / x64  OK    OK    OK    OK  UNNEEDED, same version is already published
lconwaymacOS 12.5.1 Monterey / x86_64  OK    OK    OK    OK  UNNEEDED, same version is already published
Package 30/31HostnameOS / ArchINSTALLBUILDCHECKBUILD BIN
tigre 1.52.0  (landing page)
Antti Honkela
git_last_commit: cca6602
git_last_commit_date: 2022-11-01 11:04:58 -0500
nebbiolo2Linux (Ubuntu 20.04.5 LTS) / x86_64  OK    OK    OK  UNNEEDED, same version is already published
palomino4Windows Server 2022 Datacenter / x64  OK    OK    OK    OK  UNNEEDED, same version is already published
lconwaymacOS 12.5.1 Monterey / x86_64  OK    OK    OK    OK  UNNEEDED, same version is already published
Package 31/31HostnameOS / ArchINSTALLBUILDCHECKBUILD BIN
UMI4Cats 1.8.1  (landing page)
Mireia Ramos-Rodriguez
git_last_commit: 9626832
git_last_commit_date: 2022-12-15 08:12:00 -0500
nebbiolo2Linux (Ubuntu 20.04.5 LTS) / x86_64  OK    OK    OK  UNNEEDED, same version is already published
palomino4Windows Server 2022 Datacenter / x64  OK    OK    OK    OK  UNNEEDED, same version is already published
lconwaymacOS 12.5.1 Monterey / x86_64  OK    OK    OK    OK  UNNEEDED, same version is already published