Back to Multiple platform build/check report for BioC 3.16:   simplified   long
AB[C]DEFGHIJKLMNOPQRSTUVWXYZ

This page was generated on 2023-03-24 11:05:54 -0400 (Fri, 24 Mar 2023).

HostnameOSArch (*)R versionInstalled pkgs
nebbiolo2Linux (Ubuntu 20.04.5 LTS)x86_644.2.3 (2023-03-15) -- "Shortstop Beagle" 4286
palomino4Windows Server 2022 Datacenterx644.2.3 (2023-03-15 ucrt) -- "Shortstop Beagle" 4276
lconwaymacOS 12.5.1 Montereyx86_644.2.3 (2023-03-15) -- "Shortstop Beagle" 4303
Click on any hostname to see more info about the system (e.g. compilers)      (*) as reported by 'uname -p', except on Windows and Mac OS X

BUILD results for crisprseekplus on palomino4


To the developers/maintainers of the crisprseekplus package:
- Please allow up to 24 hours (and sometimes 48 hours) for your latest push to git@git.bioconductor.org:packages/crisprseekplus.git to
reflect on this report. See How and When does the builder pull? When will my changes propagate? for more information.
- Make sure to use the following settings in order to reproduce any error or warning you see on this page.

raw results

Package 439/2183HostnameOS / ArchINSTALLBUILDCHECKBUILD BIN
crisprseekplus 1.24.0  (landing page)
Alper Kucukural
Snapshot Date: 2023-03-22 14:00:04 -0400 (Wed, 22 Mar 2023)
git_url: https://git.bioconductor.org/packages/crisprseekplus
git_branch: RELEASE_3_16
git_last_commit: 95b4b22
git_last_commit_date: 2022-11-01 11:14:42 -0400 (Tue, 01 Nov 2022)
nebbiolo2Linux (Ubuntu 20.04.5 LTS) / x86_64  OK    OK    OK  UNNEEDED, same version is already published
palomino4Windows Server 2022 Datacenter / x64  OK    OK    OK    OK  UNNEEDED, same version is already published
lconwaymacOS 12.5.1 Monterey / x86_64  OK    OK    OK    OK  UNNEEDED, same version is already published

Summary

Package: crisprseekplus
Version: 1.24.0
Command: chmod a+r crisprseekplus -R && F:\biocbuild\bbs-3.16-bioc\R\bin\R.exe CMD build --keep-empty-dirs --no-resave-data crisprseekplus
StartedAt: 2023-03-22 18:03:28 -0400 (Wed, 22 Mar 2023)
EndedAt: 2023-03-22 18:04:24 -0400 (Wed, 22 Mar 2023)
EllapsedTime: 56.0 seconds
RetCode: 0
Status:   OK  
PackageFile: crisprseekplus_1.24.0.tar.gz
PackageFileSize: 320.6 KiB

Command output

##############################################################################
##############################################################################
###
### Running command:
###
###   chmod a+r crisprseekplus -R && F:\biocbuild\bbs-3.16-bioc\R\bin\R.exe CMD build --keep-empty-dirs --no-resave-data crisprseekplus
###
##############################################################################
##############################################################################


* checking for file 'crisprseekplus/DESCRIPTION' ... OK
* preparing 'crisprseekplus':
* checking DESCRIPTION meta-information ... OK
* installing the package to build vignettes
* creating vignettes ... OK
* checking for LF line-endings in source and make files and shell scripts
* checking for empty or unneeded directories
Omitted 'LazyData' from DESCRIPTION
* building 'crisprseekplus_1.24.0.tar.gz'