Back to Multiple platform build/check report for BioC 3.16:   simplified   long
ABCDEFGHIJKLMNO[P]QRSTUVWXYZ

This page was generated on 2023-03-27 11:05:07 -0400 (Mon, 27 Mar 2023).

HostnameOSArch (*)R versionInstalled pkgs
nebbiolo2Linux (Ubuntu 20.04.5 LTS)x86_644.2.3 (2023-03-15) -- "Shortstop Beagle" 4480
palomino4Windows Server 2022 Datacenterx644.2.3 (2023-03-15 ucrt) -- "Shortstop Beagle" 4276
lconwaymacOS 12.5.1 Montereyx86_644.2.3 (2023-03-15) -- "Shortstop Beagle" 4304
Click on any hostname to see more info about the system (e.g. compilers)      (*) as reported by 'uname -p', except on Windows and Mac OS X

CHECK results for pathwayPCA on nebbiolo2


To the developers/maintainers of the pathwayPCA package:
- Please allow up to 24 hours (and sometimes 48 hours) for your latest push to git@git.bioconductor.org:packages/pathwayPCA.git to
reflect on this report. See How and When does the builder pull? When will my changes propagate? for more information.
- Make sure to use the following settings in order to reproduce any error or warning you see on this page.

raw results

Package 1447/2183HostnameOS / ArchINSTALLBUILDCHECKBUILD BIN
pathwayPCA 1.14.0  (landing page)
Gabriel Odom
Snapshot Date: 2023-03-24 14:00:04 -0400 (Fri, 24 Mar 2023)
git_url: https://git.bioconductor.org/packages/pathwayPCA
git_branch: RELEASE_3_16
git_last_commit: 40823ce
git_last_commit_date: 2022-11-01 11:19:28 -0400 (Tue, 01 Nov 2022)
nebbiolo2Linux (Ubuntu 20.04.5 LTS) / x86_64  OK    OK    OK  UNNEEDED, same version is already published
palomino4Windows Server 2022 Datacenter / x64  OK    OK    OK    OK  UNNEEDED, same version is already published
lconwaymacOS 12.5.1 Monterey / x86_64  OK    OK    OK    OK  UNNEEDED, same version is already published

Summary

Package: pathwayPCA
Version: 1.14.0
Command: /home/biocbuild/bbs-3.16-bioc/R/bin/R CMD check --install=check:pathwayPCA.install-out.txt --library=/home/biocbuild/bbs-3.16-bioc/R/site-library --timings pathwayPCA_1.14.0.tar.gz
StartedAt: 2023-03-24 22:36:22 -0400 (Fri, 24 Mar 2023)
EndedAt: 2023-03-24 22:45:12 -0400 (Fri, 24 Mar 2023)
EllapsedTime: 529.8 seconds
RetCode: 0
Status:   OK  
CheckDir: pathwayPCA.Rcheck
Warnings: 0

Command output

##############################################################################
##############################################################################
###
### Running command:
###
###   /home/biocbuild/bbs-3.16-bioc/R/bin/R CMD check --install=check:pathwayPCA.install-out.txt --library=/home/biocbuild/bbs-3.16-bioc/R/site-library --timings pathwayPCA_1.14.0.tar.gz
###
##############################################################################
##############################################################################


* using log directory ‘/home/biocbuild/bbs-3.16-bioc/meat/pathwayPCA.Rcheck’
* using R version 4.2.3 (2023-03-15)
* using platform: x86_64-pc-linux-gnu (64-bit)
* using session charset: UTF-8
* checking for file ‘pathwayPCA/DESCRIPTION’ ... OK
* checking extension type ... Package
* this is package ‘pathwayPCA’ version ‘1.14.0’
* package encoding: UTF-8
* checking package namespace information ... OK
* checking package dependencies ... OK
* checking if this is a source package ... OK
* checking if there is a namespace ... OK
* checking for hidden files and directories ... OK
* checking for portable file names ... OK
* checking for sufficient/correct file permissions ... OK
* checking whether package ‘pathwayPCA’ can be installed ... OK
* checking installed package size ... OK
* checking package directory ... OK
* checking ‘build’ directory ... OK
* checking DESCRIPTION meta-information ... OK
* checking top-level files ... OK
* checking for left-over files ... OK
* checking index information ... OK
* checking package subdirectories ... OK
* checking R files for non-ASCII characters ... OK
* checking R files for syntax errors ... OK
* checking whether the package can be loaded ... OK
* checking whether the package can be loaded with stated dependencies ... OK
* checking whether the package can be unloaded cleanly ... OK
* checking whether the namespace can be loaded with stated dependencies ... OK
* checking whether the namespace can be unloaded cleanly ... OK
* checking loading without being on the library search path ... OK
* checking dependencies in R code ... OK
* checking S3 generic/method consistency ... OK
* checking replacement functions ... OK
* checking foreign function calls ... OK
* checking R code for possible problems ... OK
* checking Rd files ... OK
* checking Rd metadata ... OK
* checking Rd cross-references ... OK
* checking for missing documentation entries ... OK
* checking for code/documentation mismatches ... OK
* checking Rd \usage sections ... OK
* checking Rd contents ... OK
* checking for unstated dependencies in examples ... OK
* checking contents of ‘data’ directory ... OK
* checking data for non-ASCII characters ... OK
* checking data for ASCII and uncompressed saves ... OK
* checking files in ‘vignettes’ ... OK
* checking examples ... OK
Examples with CPU (user + system) or elapsed time > 5s
                 user system elapsed
SE2Tidy        12.832  0.327  16.244
AESPCA_pVals    0.717  0.061  15.842
LoadOntoPCs     0.641  0.056  11.200
getPathPCLs     0.670  0.021  17.784
SuperPCA_pVals  0.635  0.048  15.843
getPathpVals    0.633  0.031  18.466
ExtractAESPCs   0.547  0.062   7.990
* checking for unstated dependencies in ‘tests’ ... OK
* checking tests ...
  Running ‘testthat.R’
 OK
* checking for unstated dependencies in vignettes ... OK
* checking package vignettes in ‘inst/doc’ ... OK
* checking running R code from vignettes ...
  ‘Introduction_to_pathwayPCA.Rmd’ using ‘UTF-8’... OK
  ‘Supplement1-Quickstart_Guide.Rmd’ using ‘UTF-8’... OK
  ‘Supplement2-Importing_Data.Rmd’ using ‘UTF-8’... OK
  ‘Supplement3-Create_Omics_Objects.Rmd’ using ‘UTF-8’... OK
  ‘Supplement4-Methods_Walkthrough.Rmd’ using ‘UTF-8’... OK
  ‘Supplement5-Analyse_Results.Rmd’ using ‘UTF-8’... OK
 NONE
* checking re-building of vignette outputs ... OK
* checking PDF version of manual ... OK
* DONE

Status: OK


Installation output

pathwayPCA.Rcheck/00install.out

##############################################################################
##############################################################################
###
### Running command:
###
###   /home/biocbuild/bbs-3.16-bioc/R/bin/R CMD INSTALL pathwayPCA
###
##############################################################################
##############################################################################


* installing to library ‘/home/biocbuild/bbs-3.16-bioc/R/site-library’
* installing *source* package ‘pathwayPCA’ ...
** using staged installation
** R
** data
** inst
** byte-compile and prepare package for lazy loading
** help
*** installing help indices
** building package indices
** installing vignettes
** testing if installed package can be loaded from temporary location
** testing if installed package can be loaded from final location
** testing if installed package keeps a record of temporary installation path
* DONE (pathwayPCA)

Tests output

pathwayPCA.Rcheck/tests/testthat.Rout


R version 4.2.3 (2023-03-15) -- "Shortstop Beagle"
Copyright (C) 2023 The R Foundation for Statistical Computing
Platform: x86_64-pc-linux-gnu (64-bit)

R is free software and comes with ABSOLUTELY NO WARRANTY.
You are welcome to redistribute it under certain conditions.
Type 'license()' or 'licence()' for distribution details.

R is a collaborative project with many contributors.
Type 'contributors()' for more information and
'citation()' on how to cite R or R packages in publications.

Type 'demo()' for some demos, 'help()' for on-line help, or
'help.start()' for an HTML browser interface to help.
Type 'q()' to quit R.

> library(testthat)
> library(pathwayPCA)
> 
> test_check("pathwayPCA")
[ FAIL 0 | WARN 0 | SKIP 0 | PASS 47 ]
> 
> proc.time()
   user  system elapsed 
 17.369   1.134  50.461 

Example timings

pathwayPCA.Rcheck/pathwayPCA-Ex.timings

nameusersystemelapsed
AESPCA_pVals 0.717 0.06115.842
CheckAssay000
CheckPwyColl000
CheckSampleIDs0.0010.0000.000
Contains0.0010.0000.001
ControlFDR000
CreateOmics0.8950.0160.911
CreateOmicsPathway0.470.000.47
CreatePathwayCollection0.0050.0040.009
ExtractAESPCs0.5470.0627.990
GumbelMixpValues0.0010.0000.000
IntersectOmicsPwyCollct000
JoinPhenoAssay000
LoadOntoPCs 0.641 0.05611.200
OptimGumbelMixParams000
PathwaytValues0.0000.0000.001
PermTestCateg000
PermTestReg000
PermTestSurv0.0000.0000.001
SE2Tidy12.832 0.32716.244
SubsetPathwayCollection0.0010.0040.005
SubsetPathwayData0.5230.0401.138
SuperPCA_pVals 0.635 0.04815.843
TabulatepValues0.0010.0000.001
TransposeAssay0.0820.0120.213
WhichPathways0.0120.0000.028
aespca0.0000.0000.001
coxTrain_fun000
getPathPCLs 0.670 0.02117.784
getPathpVals 0.633 0.03118.466
get_set_OmicsPathway1.3780.2604.490
get_set_OmicsRegCateg0.5280.0161.088
get_set_OmicsSurv0.6830.0241.410
glmTrain_fun000
lars.lsa0.0000.0000.001
mysvd000
normalize0.0010.0000.000
olsTrain_fun000
pathway_tControl000
pathway_tScores0.0000.0000.001
permuteSamps0.0000.0000.001
print.pathwayCollection0.0060.0000.023
read_gmt0.1450.0080.351
show-OmicsPathway-method0.5860.0321.238
superpc.st0.0010.0000.000
superpc.train0.0000.0010.000
write_gmt0.0010.0030.003