Back to Multiple platform build/check report for BioC 3.16
ABCDEFGHIJ[K]LMNOPQRSTUVWXYZ

This page was generated on 2022-06-24 11:04:34 -0400 (Fri, 24 Jun 2022).

HostnameOSArch (*)R versionInstalled pkgs
nebbiolo2Linux (Ubuntu 20.04.4 LTS)x86_644.2.0 Patched (2022-06-02 r82447) -- "Vigorous Calisthenics" 4331
palomino4Windows Server 2022 Datacenterx644.2.0 Patched (2022-06-02 r82447 ucrt) -- "Vigorous Calisthenics" 4136
lconwaymacOS 12.2.1 Montereyx86_644.2.0 Patched (2022-05-29 r82424) -- "Vigorous Calisthenics" 4147
Click on any hostname to see more info about the system (e.g. compilers)      (*) as reported by 'uname -p', except on Windows and Mac OS X

All results for package KEGGREST


To the developers/maintainers of the KEGGREST package:
- Please allow up to 24 hours (and sometimes 48 hours) for your latest push to git@git.bioconductor.org:packages/KEGGREST.git to
reflect on this report. See How and When does the builder pull? When will my changes propagate? for more information.
- Make sure to use the following settings in order to reproduce any error or warning you see on this page.

raw results

Package 995/2118HostnameOS / ArchINSTALLBUILDCHECKBUILD BIN
KEGGREST 1.37.2  (landing page)
Bioconductor Package Maintainer
Snapshot Date: 2022-06-23 14:00:04 -0400 (Thu, 23 Jun 2022)
git_url: https://git.bioconductor.org/packages/KEGGREST
git_branch: master
git_last_commit: e4b7231
git_last_commit_date: 2022-06-08 13:15:16 -0400 (Wed, 08 Jun 2022)
nebbiolo2Linux (Ubuntu 20.04.4 LTS) / x86_64  OK    OK    OK  UNNEEDED, same version is already published
palomino4Windows Server 2022 Datacenter / x64  OK    OK    OK    OK  UNNEEDED, same version is already published
lconwaymacOS 12.2.1 Monterey / x86_64  OK    OK    OK    OK  UNNEEDED, same version is already published

Results for Bioconductor software packages that depend directly on package KEGGREST

QUICK STATSOS / ArchINSTALLBUILDCHECKBUILD BIN
nebbiolo2Linux (Ubuntu 20.04.4 LTS) / x86_64
0024
0024
02319
palomino4Windows Server 2022 Datacenter / x64
0024
0222
01219
0022
lconwaymacOS 12.2.1 Monterey / x86_64
0024
0123
01418
0023
Package 1/24HostnameOS / ArchINSTALLBUILDCHECKBUILD BIN
ADAM 1.13.0  (landing page)
Jose Luiz Rybarczyk Filho
git_last_commit: 6a90968
git_last_commit_date: 2022-04-26 11:52:16 -0400
nebbiolo2Linux (Ubuntu 20.04.4 LTS) / x86_64  OK    OK    OK  UNNEEDED, same version is already published
palomino4Windows Server 2022 Datacenter / x64  OK    OK    OK    OK  UNNEEDED, same version is already published
lconwaymacOS 12.2.1 Monterey / x86_64  OK    OK    OK    OK  UNNEEDED, same version is already published
Package 2/24HostnameOS / ArchINSTALLBUILDCHECKBUILD BIN
adSplit 1.67.0  (landing page)
Claudio Lottaz
git_last_commit: d414710
git_last_commit_date: 2022-04-26 10:58:08 -0400
nebbiolo2Linux (Ubuntu 20.04.4 LTS) / x86_64  OK    OK    OK  UNNEEDED, same version is already published
palomino4Windows Server 2022 Datacenter / x64  OK    OK    OK    OK  UNNEEDED, same version is already published
lconwaymacOS 12.2.1 Monterey / x86_64  OK    OK    OK    OK  UNNEEDED, same version is already published
Package 3/24HostnameOS / ArchINSTALLBUILDCHECKBUILD BIN
AnnotationDbi 1.59.1  (landing page)
Bioconductor Package Maintainer
git_last_commit: b95ea14
git_last_commit_date: 2022-05-19 12:16:06 -0400
nebbiolo2Linux (Ubuntu 20.04.4 LTS) / x86_64  OK    OK    OK  UNNEEDED, same version is already published
palomino4Windows Server 2022 Datacenter / x64  OK    OK    OK    OK  UNNEEDED, same version is already published
lconwaymacOS 12.2.1 Monterey / x86_64  OK    OK    OK    OK  UNNEEDED, same version is already published
Package 4/24HostnameOS / ArchINSTALLBUILDCHECKBUILD BIN
attract 1.49.0  (landing page)
Samuel Zimmerman
git_last_commit: 01ae39e
git_last_commit_date: 2022-04-26 11:05:09 -0400
nebbiolo2Linux (Ubuntu 20.04.4 LTS) / x86_64  OK    OK    OK  UNNEEDED, same version is already published
palomino4Windows Server 2022 Datacenter / x64  OK    OK    OK    OK  UNNEEDED, same version is already published
lconwaymacOS 12.2.1 Monterey / x86_64  OK    OK    OK    OK  UNNEEDED, same version is already published
Package 5/24HostnameOS / ArchINSTALLBUILDCHECKBUILD BIN
BiocSet 1.11.0  (landing page)
Kayla Morrell
git_last_commit: e3d8c25
git_last_commit_date: 2022-04-26 12:01:18 -0400
nebbiolo2Linux (Ubuntu 20.04.4 LTS) / x86_64  OK    OK    OK  UNNEEDED, same version is already published
palomino4Windows Server 2022 Datacenter / x64  OK    OK    OK    OK  UNNEEDED, same version is already published
lconwaymacOS 12.2.1 Monterey / x86_64  OK    OK    OK    OK  UNNEEDED, same version is already published
Package 6/24HostnameOS / ArchINSTALLBUILDCHECKBUILD BIN
ChIPpeakAnno 3.31.1  (landing page)
Jianhong Ou
git_last_commit: 841797a
git_last_commit_date: 2022-06-06 13:05:24 -0400
nebbiolo2Linux (Ubuntu 20.04.4 LTS) / x86_64  OK    OK    OK  UNNEEDED, same version is already published
palomino4Windows Server 2022 Datacenter / x64  OK    OK    OK    OK  UNNEEDED, same version is already published
lconwaymacOS 12.2.1 Monterey / x86_64  OK    OK    OK    OK  UNNEEDED, same version is already published
Package 7/24HostnameOS / ArchINSTALLBUILDCHECKBUILD BIN
CNEr 1.33.0  (landing page)
Ge Tan
git_last_commit: a9829eb
git_last_commit_date: 2022-04-26 11:17:50 -0400
nebbiolo2Linux (Ubuntu 20.04.4 LTS) / x86_64  OK    OK    OK  UNNEEDED, same version is already published
palomino4Windows Server 2022 Datacenter / x64  OK    OK    WARNINGS    OK  UNNEEDED, same version is already published
lconwaymacOS 12.2.1 Monterey / x86_64  OK    OK    WARNINGS    OK  UNNEEDED, same version is already published
Package 8/24HostnameOS / ArchINSTALLBUILDCHECKBUILD BIN
EnrichmentBrowser 2.27.0  (landing page)
Ludwig Geistlinger
git_last_commit: 166f089
git_last_commit_date: 2022-04-26 11:21:31 -0400
nebbiolo2Linux (Ubuntu 20.04.4 LTS) / x86_64  OK    OK    OK  UNNEEDED, same version is already published
palomino4Windows Server 2022 Datacenter / x64  OK    OK    OK    OK  UNNEEDED, same version is already published
lconwaymacOS 12.2.1 Monterey / x86_64  OK    OK    OK    OK  UNNEEDED, same version is already published
Package 9/24HostnameOS / ArchINSTALLBUILDCHECKBUILD BIN
famat 1.7.0  (landing page)
Mathieu Charles
git_last_commit: 866d8a4
git_last_commit_date: 2022-04-26 12:10:11 -0400
nebbiolo2Linux (Ubuntu 20.04.4 LTS) / x86_64  OK    OK    ERROR  
palomino4Windows Server 2022 Datacenter / x64  OK    OK    ERROR    OK  
lconwaymacOS 12.2.1 Monterey / x86_64  OK    OK    ERROR    OK  
Package 10/24HostnameOS / ArchINSTALLBUILDCHECKBUILD BIN
FELLA 1.17.0  (landing page)
Sergio Picart-Armada
git_last_commit: 5797113
git_last_commit_date: 2022-04-26 11:47:52 -0400
nebbiolo2Linux (Ubuntu 20.04.4 LTS) / x86_64  OK    OK    OK  UNNEEDED, same version is already published
palomino4Windows Server 2022 Datacenter / x64  OK    OK    OK    OK  UNNEEDED, same version is already published
lconwaymacOS 12.2.1 Monterey / x86_64  OK    ERROR  skippedskipped
Package 11/24HostnameOS / ArchINSTALLBUILDCHECKBUILD BIN
gage 2.47.0  (landing page)
Weijun Luo
git_last_commit: d33ece3
git_last_commit_date: 2022-04-26 11:06:03 -0400
nebbiolo2Linux (Ubuntu 20.04.4 LTS) / x86_64  OK    OK    WARNINGS  UNNEEDED, same version is already published
palomino4Windows Server 2022 Datacenter / x64  OK    ERROR  skippedskipped
lconwaymacOS 12.2.1 Monterey / x86_64  OK    OK    WARNINGS    OK  UNNEEDED, same version is already published
Package 12/24HostnameOS / ArchINSTALLBUILDCHECKBUILD BIN
KEGGlincs 1.23.0  (landing page)
Shana White , Mario Medvedovic
git_last_commit: e4eee38
git_last_commit_date: 2022-04-26 11:36:19 -0400
nebbiolo2Linux (Ubuntu 20.04.4 LTS) / x86_64  OK    OK    OK  UNNEEDED, same version is already published
palomino4Windows Server 2022 Datacenter / x64  OK    OK    OK    OK  UNNEEDED, same version is already published
lconwaymacOS 12.2.1 Monterey / x86_64  OK    OK    OK    OK  UNNEEDED, same version is already published
Package 13/24HostnameOS / ArchINSTALLBUILDCHECKBUILD BIN
MetaboSignal 1.27.1  (landing page)
Andrea Rodriguez-Martinez
git_last_commit: 0d79c71
git_last_commit_date: 2022-06-07 06:48:54 -0400
nebbiolo2Linux (Ubuntu 20.04.4 LTS) / x86_64  OK    OK    OK  UNNEEDED, same version is already published
palomino4Windows Server 2022 Datacenter / x64  OK    OK    OK    OK  UNNEEDED, same version is already published
lconwaymacOS 12.2.1 Monterey / x86_64  OK    OK    OK    OK  UNNEEDED, same version is already published
Package 14/24HostnameOS / ArchINSTALLBUILDCHECKBUILD BIN
MWASTools 1.21.0  (landing page)
Andrea Rodriguez-Martinez , Rafael Ayala
git_last_commit: 2705dd7
git_last_commit_date: 2022-04-26 11:37:41 -0400
nebbiolo2Linux (Ubuntu 20.04.4 LTS) / x86_64  OK    OK    OK  UNNEEDED, same version is already published
palomino4Windows Server 2022 Datacenter / x64  OK    OK    OK    OK  UNNEEDED, same version is already published
lconwaymacOS 12.2.1 Monterey / x86_64  OK    OK    OK    OK  UNNEEDED, same version is already published
Package 15/24HostnameOS / ArchINSTALLBUILDCHECKBUILD BIN
NoRCE 1.9.0  (landing page)
Gulden Olgun
git_last_commit: 982c70b
git_last_commit_date: 2022-04-26 12:03:27 -0400
nebbiolo2Linux (Ubuntu 20.04.4 LTS) / x86_64  OK    OK    OK  UNNEEDED, same version is already published
palomino4Windows Server 2022 Datacenter / x64  OK    OK    OK    OK  UNNEEDED, same version is already published
lconwaymacOS 12.2.1 Monterey / x86_64  OK    OK    OK    OK  UNNEEDED, same version is already published
Package 16/24HostnameOS / ArchINSTALLBUILDCHECKBUILD BIN
PADOG 1.39.0  (landing page)
Adi L. Tarca
git_last_commit: 3d62408
git_last_commit_date: 2022-04-26 11:11:39 -0400
nebbiolo2Linux (Ubuntu 20.04.4 LTS) / x86_64  OK    OK    OK  UNNEEDED, same version is already published
palomino4Windows Server 2022 Datacenter / x64  OK    OK    OK    OK  UNNEEDED, same version is already published
lconwaymacOS 12.2.1 Monterey / x86_64  OK    OK    OK    OK  UNNEEDED, same version is already published
Package 17/24HostnameOS / ArchINSTALLBUILDCHECKBUILD BIN
pairkat 1.3.0  (landing page)
Max McGrath
git_last_commit: 1ef744d
git_last_commit_date: 2022-04-26 12:18:48 -0400
nebbiolo2Linux (Ubuntu 20.04.4 LTS) / x86_64  OK    OK    OK  UNNEEDED, same version is already published
palomino4Windows Server 2022 Datacenter / x64  OK    OK    OK    OK  UNNEEDED, same version is already published
lconwaymacOS 12.2.1 Monterey / x86_64  OK    OK    OK    OK  UNNEEDED, same version is already published
Package 18/24HostnameOS / ArchINSTALLBUILDCHECKBUILD BIN
pathview 1.37.0  (landing page)
Weijun Luo
git_last_commit: 272618d
git_last_commit_date: 2022-04-26 11:13:56 -0400
nebbiolo2Linux (Ubuntu 20.04.4 LTS) / x86_64  OK    OK    WARNINGS  UNNEEDED, same version is already published
palomino4Windows Server 2022 Datacenter / x64  OK    ERROR  skippedskipped
lconwaymacOS 12.2.1 Monterey / x86_64  OK    OK    WARNINGS    OK  UNNEEDED, same version is already published
Package 19/24HostnameOS / ArchINSTALLBUILDCHECKBUILD BIN
RnaSeqSampleSize 2.7.0  (landing page)
Shilin Zhao Developer
git_last_commit: 4fa3849
git_last_commit_date: 2022-04-26 12:09:26 -0400
nebbiolo2Linux (Ubuntu 20.04.4 LTS) / x86_64  OK    OK    ERROR  
palomino4Windows Server 2022 Datacenter / x64  OK    OK    OK    OK  UNNEEDED, same version is already published
lconwaymacOS 12.2.1 Monterey / x86_64  OK    OK    OK    OK  UNNEEDED, same version is already published
Package 20/24HostnameOS / ArchINSTALLBUILDCHECKBUILD BIN
ROntoTools 2.25.0  (landing page)
Calin Voichita
git_last_commit: 4d5d59a
git_last_commit_date: 2022-04-26 11:14:12 -0400
nebbiolo2Linux (Ubuntu 20.04.4 LTS) / x86_64  OK    OK    OK  UNNEEDED, same version is already published
palomino4Windows Server 2022 Datacenter / x64  OK    OK    OK    OK  UNNEEDED, same version is already published
lconwaymacOS 12.2.1 Monterey / x86_64  OK    OK    OK    OK  UNNEEDED, same version is already published
Package 21/24HostnameOS / ArchINSTALLBUILDCHECKBUILD BIN
SBGNview 1.11.0  (landing page)
Weijun Luo
git_last_commit: 84fd2b1
git_last_commit_date: 2022-04-26 11:57:04 -0400
nebbiolo2Linux (Ubuntu 20.04.4 LTS) / x86_64  OK    OK    OK  UNNEEDED, same version is already published
palomino4Windows Server 2022 Datacenter / x64  OK    OK    OK    OK  UNNEEDED, same version is already published
lconwaymacOS 12.2.1 Monterey / x86_64  OK    OK    OK    OK  UNNEEDED, same version is already published
Package 22/24HostnameOS / ArchINSTALLBUILDCHECKBUILD BIN
SMITE 1.25.0  (landing page)
Neil Ari Wijetunga
git_last_commit: b145409
git_last_commit_date: 2022-04-26 11:29:16 -0400
nebbiolo2Linux (Ubuntu 20.04.4 LTS) / x86_64  OK    OK    OK  UNNEEDED, same version is already published
palomino4Windows Server 2022 Datacenter / x64  OK    OK    OK    OK  UNNEEDED, same version is already published
lconwaymacOS 12.2.1 Monterey / x86_64  OK    OK    OK    OK  UNNEEDED, same version is already published
Package 23/24HostnameOS / ArchINSTALLBUILDCHECKBUILD BIN
transomics2cytoscape 1.7.0  (landing page)
Kozo Nishida
git_last_commit: b566579
git_last_commit_date: 2022-05-07 16:52:49 -0400
nebbiolo2Linux (Ubuntu 20.04.4 LTS) / x86_64  OK    OK    OK  UNNEEDED, same version is already published
palomino4Windows Server 2022 Datacenter / x64  OK    OK    OK    OK  UNNEEDED, same version is already published
lconwaymacOS 12.2.1 Monterey / x86_64  OK    OK    OK    OK  UNNEEDED, same version is already published
Package 24/24HostnameOS / ArchINSTALLBUILDCHECKBUILD BIN
YAPSA 1.23.0  (landing page)
Daniel Huebschmann
git_last_commit: 68d5478
git_last_commit_date: 2022-04-26 11:35:04 -0400
nebbiolo2Linux (Ubuntu 20.04.4 LTS) / x86_64  OK    OK    WARNINGS  UNNEEDED, same version is already published
palomino4Windows Server 2022 Datacenter / x64  OK    OK    WARNINGS    OK  UNNEEDED, same version is already published
lconwaymacOS 12.2.1 Monterey / x86_64  OK    OK    WARNINGS    OK  UNNEEDED, same version is already published