Back to Multiple platform build/check report for BioC 3.16:   simplified   long
ABCDEFGH[I]JKLMNOPQRSTUVWXYZ

This page was generated on 2023-03-24 11:05:30 -0400 (Fri, 24 Mar 2023).

HostnameOSArch (*)R versionInstalled pkgs
nebbiolo2Linux (Ubuntu 20.04.5 LTS)x86_644.2.3 (2023-03-15) -- "Shortstop Beagle" 4286
palomino4Windows Server 2022 Datacenterx644.2.3 (2023-03-15 ucrt) -- "Shortstop Beagle" 4276
lconwaymacOS 12.5.1 Montereyx86_644.2.3 (2023-03-15) -- "Shortstop Beagle" 4303
Click on any hostname to see more info about the system (e.g. compilers)      (*) as reported by 'uname -p', except on Windows and Mac OS X

CHECK results for INSPEcT on nebbiolo2


To the developers/maintainers of the INSPEcT package:
- Please allow up to 24 hours (and sometimes 48 hours) for your latest push to git@git.bioconductor.org:packages/INSPEcT.git to
reflect on this report. See How and When does the builder pull? When will my changes propagate? for more information.
- Make sure to use the following settings in order to reproduce any error or warning you see on this page.

raw results

Package 976/2183HostnameOS / ArchINSTALLBUILDCHECKBUILD BIN
INSPEcT 1.28.0  (landing page)
Stefano de Pretis
Snapshot Date: 2023-03-22 14:00:04 -0400 (Wed, 22 Mar 2023)
git_url: https://git.bioconductor.org/packages/INSPEcT
git_branch: RELEASE_3_16
git_last_commit: aff3971
git_last_commit_date: 2022-11-01 11:11:51 -0400 (Tue, 01 Nov 2022)
nebbiolo2Linux (Ubuntu 20.04.5 LTS) / x86_64  OK    OK    OK  UNNEEDED, same version is already published
palomino4Windows Server 2022 Datacenter / x64  OK    OK    OK    OK  UNNEEDED, same version is already published
lconwaymacOS 12.5.1 Monterey / x86_64  OK    OK    OK    OK  UNNEEDED, same version is already published

Summary

Package: INSPEcT
Version: 1.28.0
Command: /home/biocbuild/bbs-3.16-bioc/R/bin/R CMD check --install=check:INSPEcT.install-out.txt --library=/home/biocbuild/bbs-3.16-bioc/R/site-library --timings INSPEcT_1.28.0.tar.gz
StartedAt: 2023-03-22 21:37:13 -0400 (Wed, 22 Mar 2023)
EndedAt: 2023-03-22 21:55:15 -0400 (Wed, 22 Mar 2023)
EllapsedTime: 1081.6 seconds
RetCode: 0
Status:   OK  
CheckDir: INSPEcT.Rcheck
Warnings: 0

Command output

##############################################################################
##############################################################################
###
### Running command:
###
###   /home/biocbuild/bbs-3.16-bioc/R/bin/R CMD check --install=check:INSPEcT.install-out.txt --library=/home/biocbuild/bbs-3.16-bioc/R/site-library --timings INSPEcT_1.28.0.tar.gz
###
##############################################################################
##############################################################################


* using log directory ‘/home/biocbuild/bbs-3.16-bioc/meat/INSPEcT.Rcheck’
* using R version 4.2.3 (2023-03-15)
* using platform: x86_64-pc-linux-gnu (64-bit)
* using session charset: UTF-8
* checking for file ‘INSPEcT/DESCRIPTION’ ... OK
* checking extension type ... Package
* this is package ‘INSPEcT’ version ‘1.28.0’
* checking package namespace information ... OK
* checking package dependencies ... OK
* checking if this is a source package ... OK
* checking if there is a namespace ... OK
* checking for hidden files and directories ... OK
* checking for portable file names ... OK
* checking for sufficient/correct file permissions ... OK
* checking whether package ‘INSPEcT’ can be installed ... OK
* checking installed package size ... NOTE
  installed size is  7.1Mb
  sub-directories of 1Mb or more:
    R      1.8Mb
    data   2.8Mb
* checking package directory ... OK
* checking ‘build’ directory ... OK
* checking DESCRIPTION meta-information ... OK
* checking top-level files ... OK
* checking for left-over files ... OK
* checking index information ... OK
* checking package subdirectories ... OK
* checking R files for non-ASCII characters ... OK
* checking R files for syntax errors ... OK
* checking whether the package can be loaded ... OK
* checking whether the package can be loaded with stated dependencies ... OK
* checking whether the package can be unloaded cleanly ... OK
* checking whether the namespace can be loaded with stated dependencies ... OK
* checking whether the namespace can be unloaded cleanly ... OK
* checking loading without being on the library search path ... OK
* checking dependencies in R code ... OK
* checking S3 generic/method consistency ... OK
* checking replacement functions ... OK
* checking foreign function calls ... OK
* checking R code for possible problems ... NOTE
output_pars: no visible global function definition for ‘plot.new’
plotSingleRNADynamic: no visible global function definition for ‘lines’
Undefined global functions or variables:
  lines plot.new
Consider adding
  importFrom("graphics", "lines", "plot.new")
to your NAMESPACE file.
* checking Rd files ... OK
* checking Rd metadata ... OK
* checking Rd cross-references ... OK
* checking for missing documentation entries ... OK
* checking for code/documentation mismatches ... OK
* checking Rd \usage sections ... OK
* checking Rd contents ... OK
* checking for unstated dependencies in examples ... OK
* checking contents of ‘data’ directory ... OK
* checking data for non-ASCII characters ... OK
* checking data for ASCII and uncompressed saves ... OK
* checking files in ‘vignettes’ ... OK
* checking examples ... OK
Examples with CPU (user + system) or elapsed time > 5s
                                  user system elapsed
makeSimDataset                  77.336  0.528  77.864
modelRates                      34.755  0.055  34.811
quantifyExpressionsFromBAMs     30.177  0.144  30.323
INSPEcT_diffsteady-class        25.804  0.620  26.425
makeSimModel                    25.192  0.156  25.349
rocThresholds                   24.031  0.040  24.071
plotMA                          23.814  0.176  23.990
rocCurve                        23.735  0.036  23.771
compareSteady                   22.380  0.188  22.568
quantifyExpressionsFromTrCounts 17.434  0.112  17.546
newINSPEcT                      13.900  0.016  13.916
processingDelay                 12.947  0.016  12.963
inspectFromPCR                   6.029  0.024   6.054
makeOscillatorySimModel          5.551  0.051   5.603
compareSteadyNoNascent           5.290  0.028   5.318
* checking for unstated dependencies in vignettes ... OK
* checking package vignettes in ‘inst/doc’ ... OK
* checking running R code from vignettes ...
  ‘INSPEcT.Rmd’ using ‘UTF-8’... OK
  ‘INSPEcT_GUI.rmd’ using ‘UTF-8’... OK
 NONE
* checking re-building of vignette outputs ... OK
* checking PDF version of manual ... OK
* DONE

Status: 2 NOTEs
See
  ‘/home/biocbuild/bbs-3.16-bioc/meat/INSPEcT.Rcheck/00check.log’
for details.



Installation output

INSPEcT.Rcheck/00install.out

##############################################################################
##############################################################################
###
### Running command:
###
###   /home/biocbuild/bbs-3.16-bioc/R/bin/R CMD INSTALL INSPEcT
###
##############################################################################
##############################################################################


* installing to library ‘/home/biocbuild/bbs-3.16-bioc/R/site-library’
* installing *source* package ‘INSPEcT’ ...
** using staged installation
** R
** data
** inst
** byte-compile and prepare package for lazy loading
** help
*** installing help indices
** building package indices
** installing vignettes
** testing if installed package can be loaded from temporary location
** testing if installed package can be loaded from final location
** testing if installed package keeps a record of temporary installation path
* DONE (INSPEcT)

Tests output


Example timings

INSPEcT.Rcheck/INSPEcT-Ex.timings

nameusersystemelapsed
AIC-INSPEcT-method1.0290.0481.078
Extract0.350.000.35
INSPEcT_diffsteady-class25.804 0.62026.425
calculateRatePvals0.2160.0000.216
chisqmodel0.1710.0080.179
chisqtest0.1700.0030.175
combine0.3360.0120.348
compareSteady22.380 0.18822.568
compareSteadyNoNascent5.2900.0285.318
convergence0.1620.0150.178
geneClass0.2090.0010.209
inHeatmap0.2010.0080.209
inspectFromPCR6.0290.0246.054
labeledSF0.1690.0080.178
logLik0.1670.0080.175
makeModelRates0.210.000.21
makeOscillatorySimModel5.5510.0515.603
makeSimDataset77.336 0.52877.864
makeSimModel25.192 0.15625.349
modelRates34.755 0.05534.811
modelRatesNF4.0880.0444.132
modelSelection0.1710.0040.174
modelingParams0.1740.0010.174
nGenes0.1710.0020.174
nTpts0.1760.0000.176
newINSPEcT13.900 0.01613.916
plotGene0.2100.0000.209
plotMA23.814 0.17623.990
processingDelay12.947 0.01612.963
quantifyExpressionsFromBAMs30.177 0.14430.323
quantifyExpressionsFromTrCounts17.434 0.11217.546
ratePvals0.1720.0040.176
ratesFirstGuess0.1740.0000.173
ratesFirstGuessVar0.1730.0000.173
removeModel0.270.000.27
rocCurve23.735 0.03623.771
rocThresholds24.031 0.04024.071
split0.2590.0040.262
tpts0.1720.0000.172
viewConfidenceIntervals0.1720.0040.175
viewModelRates0.1700.0040.174