Back to Multiple platform build/check report for BioC 3.16 |
|
This page was generated on 2022-08-12 11:05:55 -0400 (Fri, 12 Aug 2022).
Hostname | OS | Arch (*) | R version | Installed pkgs |
---|---|---|---|---|
nebbiolo2 | Linux (Ubuntu 20.04.4 LTS) | x86_64 | 4.2.1 (2022-06-23) -- "Funny-Looking Kid" | 4375 |
palomino4 | Windows Server 2022 Datacenter | x64 | 4.2.1 (2022-06-23 ucrt) -- "Funny-Looking Kid" | 4159 |
lconway | macOS 12.2.1 Monterey | x86_64 | 4.2.1 Patched (2022-07-09 r82577) -- "Funny-Looking Kid" | 4167 |
Click on any hostname to see more info about the system (e.g. compilers) (*) as reported by 'uname -p', except on Windows and Mac OS X |
To the developers/maintainers of the ChIPpeakAnno package: - Please allow up to 24 hours (and sometimes 48 hours) for your latest push to git@git.bioconductor.org:packages/ChIPpeakAnno.git to reflect on this report. See How and When does the builder pull? When will my changes propagate? for more information. - Make sure to use the following settings in order to reproduce any error or warning you see on this page. |
Package 307/2139 | Hostname | OS / Arch | INSTALL | BUILD | CHECK | BUILD BIN | ||||||||
ChIPpeakAnno 3.31.2 (landing page) Jianhong Ou
| nebbiolo2 | Linux (Ubuntu 20.04.4 LTS) / x86_64 | OK | OK | OK | ![]() | ||||||||
palomino4 | Windows Server 2022 Datacenter / x64 | OK | OK | OK | OK | ![]() | ||||||||
lconway | macOS 12.2.1 Monterey / x86_64 | OK | OK | OK | OK | ![]() | ||||||||
Package: ChIPpeakAnno |
Version: 3.31.2 |
Command: C:\cygwin\bin\curl.exe -O http://155.52.207.166/BBS/3.16/bioc/src/contrib/ChIPpeakAnno_3.31.2.tar.gz && rm -rf ChIPpeakAnno.buildbin-libdir && mkdir ChIPpeakAnno.buildbin-libdir && F:\biocbuild\bbs-3.16-bioc\R\bin\R.exe CMD INSTALL --merge-multiarch --build --library=ChIPpeakAnno.buildbin-libdir ChIPpeakAnno_3.31.2.tar.gz && F:\biocbuild\bbs-3.16-bioc\R\bin\R.exe CMD INSTALL ChIPpeakAnno_3.31.2.zip && rm ChIPpeakAnno_3.31.2.tar.gz ChIPpeakAnno_3.31.2.zip |
StartedAt: 2022-08-11 16:38:06 -0400 (Thu, 11 Aug 2022) |
EndedAt: 2022-08-11 16:40:22 -0400 (Thu, 11 Aug 2022) |
EllapsedTime: 136.2 seconds |
RetCode: 0 |
Status: OK |
############################################################################## ############################################################################## ### ### Running command: ### ### C:\cygwin\bin\curl.exe -O http://155.52.207.166/BBS/3.16/bioc/src/contrib/ChIPpeakAnno_3.31.2.tar.gz && rm -rf ChIPpeakAnno.buildbin-libdir && mkdir ChIPpeakAnno.buildbin-libdir && F:\biocbuild\bbs-3.16-bioc\R\bin\R.exe CMD INSTALL --merge-multiarch --build --library=ChIPpeakAnno.buildbin-libdir ChIPpeakAnno_3.31.2.tar.gz && F:\biocbuild\bbs-3.16-bioc\R\bin\R.exe CMD INSTALL ChIPpeakAnno_3.31.2.zip && rm ChIPpeakAnno_3.31.2.tar.gz ChIPpeakAnno_3.31.2.zip ### ############################################################################## ############################################################################## % Total % Received % Xferd Average Speed Time Time Time Current Dload Upload Total Spent Left Speed 0 0 0 0 0 0 0 0 --:--:-- --:--:-- --:--:-- 0 23 15.5M 23 3810k 0 0 5919k 0 0:00:02 --:--:-- 0:00:02 5917k 58 15.5M 58 9344k 0 0 5650k 0 0:00:02 0:00:01 0:00:01 5649k 82 15.5M 82 12.8M 0 0 4964k 0 0:00:03 0:00:02 0:00:01 4965k 100 15.5M 100 15.5M 0 0 4882k 0 0:00:03 0:00:03 --:--:-- 4884k only one architecture so ignoring '--merge-multiarch' * installing *source* package 'ChIPpeakAnno' ... ** using staged installation ** R ** data *** moving datasets to lazyload DB ** inst ** byte-compile and prepare package for lazy loading ** help *** installing help indices ** building package indices ** installing vignettes ** testing if installed package can be loaded from temporary location ** testing if installed package can be loaded from final location ** testing if installed package keeps a record of temporary installation path * MD5 sums packaged installation of 'ChIPpeakAnno' as ChIPpeakAnno_3.31.2.zip * DONE (ChIPpeakAnno) * installing to library 'F:/biocbuild/bbs-3.16-bioc/R/library' package 'ChIPpeakAnno' successfully unpacked and MD5 sums checked