Back to Multiple platform build/check report for BioC 3.16 |
|
This page was generated on 2022-08-12 11:07:21 -0400 (Fri, 12 Aug 2022).
Hostname | OS | Arch (*) | R version | Installed pkgs |
---|---|---|---|---|
nebbiolo2 | Linux (Ubuntu 20.04.4 LTS) | x86_64 | 4.2.1 (2022-06-23) -- "Funny-Looking Kid" | 4375 |
palomino4 | Windows Server 2022 Datacenter | x64 | 4.2.1 (2022-06-23 ucrt) -- "Funny-Looking Kid" | 4159 |
lconway | macOS 12.2.1 Monterey | x86_64 | 4.2.1 Patched (2022-07-09 r82577) -- "Funny-Looking Kid" | 4167 |
Click on any hostname to see more info about the system (e.g. compilers) (*) as reported by 'uname -p', except on Windows and Mac OS X |
To the developers/maintainers of the CNEr package: - Please allow up to 24 hours (and sometimes 48 hours) for your latest push to git@git.bioconductor.org:packages/CNEr.git to reflect on this report. See How and When does the builder pull? When will my changes propagate? for more information. - Make sure to use the following settings in order to reproduce any error or warning you see on this page. |
Package 354/2139 | Hostname | OS / Arch | INSTALL | BUILD | CHECK | BUILD BIN | ||||||||
CNEr 1.33.0 (landing page) Ge Tan
| nebbiolo2 | Linux (Ubuntu 20.04.4 LTS) / x86_64 | OK | OK | OK | ![]() | ||||||||
palomino4 | Windows Server 2022 Datacenter / x64 | OK | OK | WARNINGS | OK | ![]() | ||||||||
lconway | macOS 12.2.1 Monterey / x86_64 | OK | OK | WARNINGS | OK | ![]() | ||||||||
Package: CNEr |
Version: 1.33.0 |
Command: /Library/Frameworks/R.framework/Resources/bin/R CMD build --keep-empty-dirs --no-resave-data CNEr |
StartedAt: 2022-08-11 16:17:21 -0400 (Thu, 11 Aug 2022) |
EndedAt: 2022-08-11 16:19:01 -0400 (Thu, 11 Aug 2022) |
EllapsedTime: 100.8 seconds |
RetCode: 0 |
Status: OK |
PackageFile: CNEr_1.33.0.tar.gz |
PackageFileSize: 9.468 MiB |
############################################################################## ############################################################################## ### ### Running command: ### ### /Library/Frameworks/R.framework/Resources/bin/R CMD build --keep-empty-dirs --no-resave-data CNEr ### ############################################################################## ############################################################################## * checking for file ‘CNEr/DESCRIPTION’ ... OK * preparing ‘CNEr’: * checking DESCRIPTION meta-information ... OK * cleaning src * installing the package to build vignettes * creating vignettes ... OK * cleaning src * checking for LF line-endings in source and make files and shell scripts * checking for empty or unneeded directories * looking to see if a ‘data/datalist’ file should be added NB: this package now depends on R (>= 3.5.0) WARNING: Added dependency on R >= 3.5.0 because serialized objects in serialize/load version 3 cannot be read in older versions of R. File(s) containing such objects: ‘CNEr/data/CNEDanRer10Hg38.rda’ ‘CNEr/data/CNEHg38DanRer10.rda’ ‘CNEr/data/axisTrack.rda’ ‘CNEr/data/cneFinalListDanRer10Hg38.rda’ ‘CNEr/data/cpgIslands.rda’ ‘CNEr/data/grangesPairsForDotplot.rda’ ‘CNEr/data/refGenes.rda’ * building ‘CNEr_1.33.0.tar.gz’