Back to Multiple platform build/check report for BioC 3.16:   simplified   long
ABCDEFGHIJKL[M]NOPQRSTUVWXYZ

This page was generated on 2023-03-24 11:05:33 -0400 (Fri, 24 Mar 2023).

HostnameOSArch (*)R versionInstalled pkgs
nebbiolo2Linux (Ubuntu 20.04.5 LTS)x86_644.2.3 (2023-03-15) -- "Shortstop Beagle" 4286
palomino4Windows Server 2022 Datacenterx644.2.3 (2023-03-15 ucrt) -- "Shortstop Beagle" 4276
lconwaymacOS 12.5.1 Montereyx86_644.2.3 (2023-03-15) -- "Shortstop Beagle" 4303
Click on any hostname to see more info about the system (e.g. compilers)      (*) as reported by 'uname -p', except on Windows and Mac OS X

CHECK results for methylInheritance on nebbiolo2


To the developers/maintainers of the methylInheritance package:
- Please allow up to 24 hours (and sometimes 48 hours) for your latest push to git@git.bioconductor.org:packages/methylInheritance.git to
reflect on this report. See How and When does the builder pull? When will my changes propagate? for more information.
- Make sure to use the following settings in order to reproduce any error or warning you see on this page.

raw results

Package 1173/2183HostnameOS / ArchINSTALLBUILDCHECKBUILD BIN
methylInheritance 1.22.0  (landing page)
Astrid Deschênes
Snapshot Date: 2023-03-22 14:00:04 -0400 (Wed, 22 Mar 2023)
git_url: https://git.bioconductor.org/packages/methylInheritance
git_branch: RELEASE_3_16
git_last_commit: e34c4cc
git_last_commit_date: 2022-11-01 11:15:34 -0400 (Tue, 01 Nov 2022)
nebbiolo2Linux (Ubuntu 20.04.5 LTS) / x86_64  OK    OK    OK  UNNEEDED, same version is already published
palomino4Windows Server 2022 Datacenter / x64  OK    OK    OK    OK  UNNEEDED, same version is already published
lconwaymacOS 12.5.1 Monterey / x86_64  OK    OK    OK    OK  UNNEEDED, same version is already published

Summary

Package: methylInheritance
Version: 1.22.0
Command: /home/biocbuild/bbs-3.16-bioc/R/bin/R CMD check --install=check:methylInheritance.install-out.txt --library=/home/biocbuild/bbs-3.16-bioc/R/site-library --timings methylInheritance_1.22.0.tar.gz
StartedAt: 2023-03-22 22:04:36 -0400 (Wed, 22 Mar 2023)
EndedAt: 2023-03-22 22:13:12 -0400 (Wed, 22 Mar 2023)
EllapsedTime: 516.0 seconds
RetCode: 0
Status:   OK  
CheckDir: methylInheritance.Rcheck
Warnings: 0

Command output

##############################################################################
##############################################################################
###
### Running command:
###
###   /home/biocbuild/bbs-3.16-bioc/R/bin/R CMD check --install=check:methylInheritance.install-out.txt --library=/home/biocbuild/bbs-3.16-bioc/R/site-library --timings methylInheritance_1.22.0.tar.gz
###
##############################################################################
##############################################################################


* using log directory ‘/home/biocbuild/bbs-3.16-bioc/meat/methylInheritance.Rcheck’
* using R version 4.2.3 (2023-03-15)
* using platform: x86_64-pc-linux-gnu (64-bit)
* using session charset: UTF-8
* checking for file ‘methylInheritance/DESCRIPTION’ ... OK
* this is package ‘methylInheritance’ version ‘1.22.0’
* package encoding: UTF-8
* checking package namespace information ... OK
* checking package dependencies ... OK
* checking if this is a source package ... OK
* checking if there is a namespace ... OK
* checking for hidden files and directories ... OK
* checking for portable file names ... OK
* checking for sufficient/correct file permissions ... OK
* checking whether package ‘methylInheritance’ can be installed ... OK
* checking installed package size ... OK
* checking package directory ... OK
* checking ‘build’ directory ... OK
* checking DESCRIPTION meta-information ... OK
* checking top-level files ... OK
* checking for left-over files ... OK
* checking index information ... OK
* checking package subdirectories ... OK
* checking R files for non-ASCII characters ... OK
* checking R files for syntax errors ... OK
* checking whether the package can be loaded ... OK
* checking whether the package can be loaded with stated dependencies ... OK
* checking whether the package can be unloaded cleanly ... OK
* checking whether the namespace can be loaded with stated dependencies ... OK
* checking whether the namespace can be unloaded cleanly ... OK
* checking loading without being on the library search path ... OK
* checking dependencies in R code ... OK
* checking S3 generic/method consistency ... OK
* checking replacement functions ... OK
* checking foreign function calls ... OK
* checking R code for possible problems ... OK
* checking Rd files ... OK
* checking Rd metadata ... OK
* checking Rd cross-references ... OK
* checking for missing documentation entries ... OK
* checking for code/documentation mismatches ... OK
* checking Rd \usage sections ... OK
* checking Rd contents ... OK
* checking for unstated dependencies in examples ... OK
* checking contents of ‘data’ directory ... OK
* checking data for non-ASCII characters ... OK
* checking data for ASCII and uncompressed saves ... OK
* checking files in ‘vignettes’ ... OK
* checking examples ... OK
Examples with CPU (user + system) or elapsed time > 5s
                                       user system elapsed
runPermutation                      105.131  0.671 105.189
runObservation                       50.453  0.783  50.933
samplesForTransgenerationalAnalysis  33.869  0.260  32.503
runOnePermutationOnAllGenerations    13.088  0.104  12.551
demoForTransgenerationalAnalysis      5.046  0.164   5.210
* checking for unstated dependencies in ‘tests’ ... OK
* checking tests ...
  Running ‘runTests.R’
 OK
* checking for unstated dependencies in vignettes ... OK
* checking package vignettes in ‘inst/doc’ ... OK
* checking running R code from vignettes ...
  ‘methylInheritance.Rmd’ using ‘UTF-8’... OK
 NONE
* checking re-building of vignette outputs ... OK
* checking PDF version of manual ... OK
* DONE

Status: OK


Installation output

methylInheritance.Rcheck/00install.out

##############################################################################
##############################################################################
###
### Running command:
###
###   /home/biocbuild/bbs-3.16-bioc/R/bin/R CMD INSTALL methylInheritance
###
##############################################################################
##############################################################################


* installing to library ‘/home/biocbuild/bbs-3.16-bioc/R/site-library’
* installing *source* package ‘methylInheritance’ ...
** using staged installation
** R
** data
** inst
** byte-compile and prepare package for lazy loading
** help
*** installing help indices
** building package indices
** installing vignettes
** testing if installed package can be loaded from temporary location
** testing if installed package can be loaded from final location
** testing if installed package keeps a record of temporary installation path
* DONE (methylInheritance)

Tests output

methylInheritance.Rcheck/tests/runTests.Rout


R version 4.2.3 (2023-03-15) -- "Shortstop Beagle"
Copyright (C) 2023 The R Foundation for Statistical Computing
Platform: x86_64-pc-linux-gnu (64-bit)

R is free software and comes with ABSOLUTELY NO WARRANTY.
You are welcome to redistribute it under certain conditions.
Type 'license()' or 'licence()' for distribution details.

R is a collaborative project with many contributors.
Type 'contributors()' for more information and
'citation()' on how to cite R or R packages in publications.

Type 'demo()' for some demos, 'help()' for on-line help, or
'help.start()' for an HTML browser interface to help.
Type 'q()' to quit R.

> ## Run all tests presnt in the package
> BiocGenerics:::testPackage("methylInheritance")
Loading required package: stats4
Loading required package: BiocGenerics

Attaching package: 'BiocGenerics'

The following objects are masked from 'package:stats':

    IQR, mad, sd, var, xtabs

The following objects are masked from 'package:base':

    Filter, Find, Map, Position, Reduce, anyDuplicated, aperm, append,
    as.data.frame, basename, cbind, colnames, dirname, do.call,
    duplicated, eval, evalq, get, grep, grepl, intersect, is.unsorted,
    lapply, mapply, match, mget, order, paste, pmax, pmax.int, pmin,
    pmin.int, rank, rbind, rownames, sapply, setdiff, sort, table,
    tapply, union, unique, unsplit, which.max, which.min

Loading required package: S4Vectors

Attaching package: 'S4Vectors'

The following objects are masked from 'package:base':

    I, expand.grid, unname

Loading required package: IRanges
Loading required package: GenomeInfoDb
uniting...
uniting...
uniting...
uniting...
uniting...
uniting...
uniting...
uniting...
uniting...
uniting...
uniting...
uniting...
uniting...
uniting...
uniting...
uniting...
uniting...
uniting...
Permutation Analysis

Number of Generations:  3 
Number of Permutations:  20 

Observation Results: 
        SOURCE ELEMENT ANALYSIS   TYPE RESULT
1  OBSERVATION   SITES       i2 HYPER1      4
2  OBSERVATION   SITES       i2 HYPER2      1
3  OBSERVATION   SITES       i2  HYPO1      2
4  OBSERVATION   SITES       i2  HYPO2      2
5  OBSERVATION   SITES     iAll  HYPER      0
6  OBSERVATION   SITES     iAll   HYPO      0
7  OBSERVATION   TILES       i2 HYPER1   1000
8  OBSERVATION   TILES       i2 HYPER2      0
9  OBSERVATION   TILES       i2  HYPO1      0
10 OBSERVATION   TILES       i2  HYPO2      0
11 OBSERVATION   TILES     iAll  HYPER      0
12 OBSERVATION   TILES     iAll   HYPO      0


RUNIT TEST PROTOCOL -- Wed Mar 22 22:12:29 2023 
*********************************************** 
Number of test functions: 75 
Number of errors: 0 
Number of failures: 0 

 
1 Test Suite : 
methylInheritance RUnit Tests - 75 test functions, 0 errors, 0 failures
Number of test functions: 75 
Number of errors: 0 
Number of failures: 0 
Warning messages:
1: Use of `formatForGraphDataFrame$RESULT` is discouraged.
ℹ Use `RESULT` instead. 
2: In max(i) : no non-missing arguments to max; returning -Inf
3: In max(i) : no non-missing arguments to max; returning -Inf
> 
> proc.time()
   user  system elapsed 
 34.708   1.185  35.881 

Example timings

methylInheritance.Rcheck/methylInheritance-Ex.timings

nameusersystemelapsed
calculateSignificantLevel0.0150.0000.015
createDataStructure0.0510.0080.059
createOutputDir0.0010.0000.001
demoForTransgenerationalAnalysis5.0460.1645.210
extractInfo0.1590.0000.159
formatInputMethylData0.1890.0240.212
getGRangesFromMethylDiff0.0860.0080.094
interGeneration0.8900.0280.917
isInterGenerationResults0.0010.0000.000
loadAllRDSResults0.1570.0000.157
loadConvergenceData0.1790.0000.179
mergePermutationAndObservation0.0020.0000.002
methylInheritanceAllResults0.0000.0030.004
methylInheritanceResults0.010.000.01
plotConvergenceGraph0.4110.0040.414
plotGraph0.3930.0360.429
readInterGenerationResults0.0280.0080.036
runObservation50.453 0.78350.933
runOnePermutationOnAllGenerations13.088 0.10412.551
runPermutation105.131 0.671105.189
samplesForTransgenerationalAnalysis33.869 0.26032.503
saveInterGenerationResults0.8390.0050.844
validateExtractInfo0.0000.0020.002
validateLoadConvergenceData0.0000.0010.001
validateMergePermutationAndObservation0.0010.0000.001
validateRunObservation0.0990.0120.111
validateRunPermutation0.1030.0080.111