Back to Multiple platform build/check report for BioC 3.16 |
|
This page was generated on 2022-08-11 11:06:36 -0400 (Thu, 11 Aug 2022).
Hostname | OS | Arch (*) | R version | Installed pkgs |
---|---|---|---|---|
nebbiolo2 | Linux (Ubuntu 20.04.4 LTS) | x86_64 | 4.2.1 (2022-06-23) -- "Funny-Looking Kid" | 4375 |
palomino4 | Windows Server 2022 Datacenter | x64 | 4.2.1 (2022-06-23 ucrt) -- "Funny-Looking Kid" | 4159 |
lconway | macOS 12.2.1 Monterey | x86_64 | 4.2.1 Patched (2022-07-09 r82577) -- "Funny-Looking Kid" | 4165 |
Click on any hostname to see more info about the system (e.g. compilers) (*) as reported by 'uname -p', except on Windows and Mac OS X |
To the developers/maintainers of the famat package: - Please allow up to 24 hours (and sometimes 48 hours) for your latest push to git@git.bioconductor.org:packages/famat.git to reflect on this report. See How and When does the builder pull? When will my changes propagate? for more information. - Make sure to use the following settings in order to reproduce any error or warning you see on this page. |
Package 643/2139 | Hostname | OS / Arch | INSTALL | BUILD | CHECK | BUILD BIN | ||||||||
famat 1.7.0 (landing page) Mathieu Charles
| nebbiolo2 | Linux (Ubuntu 20.04.4 LTS) / x86_64 | ERROR | ERROR | skipped | |||||||||
palomino4 | Windows Server 2022 Datacenter / x64 | ERROR | ERROR | skipped | skipped | |||||||||
lconway | macOS 12.2.1 Monterey / x86_64 | ERROR | ERROR | skipped | skipped | |||||||||
Package: famat |
Version: 1.7.0 |
Command: chmod a+r famat -R && F:\biocbuild\bbs-3.16-bioc\R\bin\R.exe CMD build --keep-empty-dirs --no-resave-data famat |
StartedAt: 2022-08-10 18:34:29 -0400 (Wed, 10 Aug 2022) |
EndedAt: 2022-08-10 18:34:31 -0400 (Wed, 10 Aug 2022) |
EllapsedTime: 2.0 seconds |
RetCode: 1 |
Status: ERROR |
PackageFile: famat_1.7.0.tar.gz |
PackageFileSize: 3.543 MiB |
############################################################################## ############################################################################## ### ### Running command: ### ### chmod a+r famat -R && F:\biocbuild\bbs-3.16-bioc\R\bin\R.exe CMD build --keep-empty-dirs --no-resave-data famat ### ############################################################################## ############################################################################## * checking for file 'famat/DESCRIPTION' ... OK * preparing 'famat': * checking DESCRIPTION meta-information ... OK * installing the package to build vignettes ----------------------------------- ERROR: dependency 'MPINet' is not available for package 'famat' * removing 'F:/biocbuild/bbs-3.16-bioc/tmpdir/RtmpcNWz01/Rinst3f0c54985856/famat' ----------------------------------- ERROR: package installation failed