Back to Multiple platform build/check report for BioC 3.16
ABCDEFGHIJKLMNOPQRS[T]UVWXYZ

This page was generated on 2023-02-02 11:05:08 -0500 (Thu, 02 Feb 2023).

HostnameOSArch (*)R versionInstalled pkgs
nebbiolo2Linux (Ubuntu 20.04.5 LTS)x86_644.2.2 (2022-10-31) -- "Innocent and Trusting" 4511
palomino4Windows Server 2022 Datacenterx644.2.2 (2022-10-31 ucrt) -- "Innocent and Trusting" 4289
lconwaymacOS 12.5.1 Montereyx86_644.2.2 (2022-10-31) -- "Innocent and Trusting" 4318
Click on any hostname to see more info about the system (e.g. compilers)      (*) as reported by 'uname -p', except on Windows and Mac OS X

All results for package TrajectoryUtils


To the developers/maintainers of the TrajectoryUtils package:
- Please allow up to 24 hours (and sometimes 48 hours) for your latest push to git@git.bioconductor.org:packages/TrajectoryUtils.git to
reflect on this report. See How and When does the builder pull? When will my changes propagate? for more information.
- Make sure to use the following settings in order to reproduce any error or warning you see on this page.

raw results

Package 2075/2183HostnameOS / ArchINSTALLBUILDCHECKBUILD BIN
TrajectoryUtils 1.6.0  (landing page)
Aaron Lun
Snapshot Date: 2023-02-01 14:00:04 -0500 (Wed, 01 Feb 2023)
git_url: https://git.bioconductor.org/packages/TrajectoryUtils
git_branch: RELEASE_3_16
git_last_commit: 60747e6
git_last_commit_date: 2022-11-01 11:23:54 -0500 (Tue, 01 Nov 2022)
nebbiolo2Linux (Ubuntu 20.04.5 LTS) / x86_64  OK    OK    OK  UNNEEDED, same version is already published
palomino4Windows Server 2022 Datacenter / x64  OK    OK    OK    OK  UNNEEDED, same version is already published
lconwaymacOS 12.5.1 Monterey / x86_64  OK    OK    OK    OK  UNNEEDED, same version is already published

Results for Bioconductor software packages that depend directly on package TrajectoryUtils

QUICK STATSOS / ArchINSTALLBUILDCHECKBUILD BIN
nebbiolo2Linux (Ubuntu 20.04.5 LTS) / x86_64
005
005
0014
palomino4Windows Server 2022 Datacenter / x64
005
005
0014
005
lconwaymacOS 12.5.1 Monterey / x86_64
005
005
0014
005
Package 1/5HostnameOS / ArchINSTALLBUILDCHECKBUILD BIN
condiments 1.6.0  (landing page)
Hector Roux de Bezieux
git_last_commit: 39a2a18
git_last_commit_date: 2022-11-01 11:24:29 -0500
nebbiolo2Linux (Ubuntu 20.04.5 LTS) / x86_64  OK    OK    OK  UNNEEDED, same version is already published
palomino4Windows Server 2022 Datacenter / x64  OK    OK    OK    OK  UNNEEDED, same version is already published
lconwaymacOS 12.5.1 Monterey / x86_64  OK    OK    OK    OK  UNNEEDED, same version is already published
Package 2/5HostnameOS / ArchINSTALLBUILDCHECKBUILD BIN
singleCellTK 2.8.0  (landing page)
Yichen Wang
git_last_commit: 711d2ed
git_last_commit_date: 2022-11-01 11:17:41 -0500
nebbiolo2Linux (Ubuntu 20.04.5 LTS) / x86_64  OK    OK    OK  UNNEEDED, same version is already published
palomino4Windows Server 2022 Datacenter / x64  OK    OK    OK    OK  UNNEEDED, same version is already published
lconwaymacOS 12.5.1 Monterey / x86_64  OK    OK    OK    OK  UNNEEDED, same version is already published
Package 3/5HostnameOS / ArchINSTALLBUILDCHECKBUILD BIN
slingshot 2.6.0  (landing page)
Kelly Street
git_last_commit: c594d05
git_last_commit_date: 2022-11-01 11:17:56 -0500
nebbiolo2Linux (Ubuntu 20.04.5 LTS) / x86_64  OK    OK    OK  UNNEEDED, same version is already published
palomino4Windows Server 2022 Datacenter / x64  OK    OK    OK    OK  UNNEEDED, same version is already published
lconwaymacOS 12.5.1 Monterey / x86_64  OK    OK    OK    OK  UNNEEDED, same version is already published
Package 4/5HostnameOS / ArchINSTALLBUILDCHECKBUILD BIN
tradeSeq 1.12.0  (landing page)
Hector Roux de Bezieux
git_last_commit: 5fdc85b
git_last_commit_date: 2022-11-01 11:20:58 -0500
nebbiolo2Linux (Ubuntu 20.04.5 LTS) / x86_64  OK    OK    OK  UNNEEDED, same version is already published
palomino4Windows Server 2022 Datacenter / x64  OK    OK    OK    OK  UNNEEDED, same version is already published
lconwaymacOS 12.5.1 Monterey / x86_64  OK    OK    OK    OK  UNNEEDED, same version is already published
Package 5/5HostnameOS / ArchINSTALLBUILDCHECKBUILD BIN
TSCAN 1.36.0  (landing page)
Zhicheng Ji
git_last_commit: 7488959
git_last_commit_date: 2022-11-01 11:10:15 -0500
nebbiolo2Linux (Ubuntu 20.04.5 LTS) / x86_64  OK    OK    WARNINGS  UNNEEDED, same version is already published
palomino4Windows Server 2022 Datacenter / x64  OK    OK    WARNINGS    OK  UNNEEDED, same version is already published
lconwaymacOS 12.5.1 Monterey / x86_64  OK    OK    WARNINGS    OK  UNNEEDED, same version is already published