Back to Multiple platform build/check report for BioC 3.16:   simplified   long
ABCDEF[G]HIJKLMNOPQRSTUVWXYZ

This page was generated on 2023-04-12 11:05:34 -0400 (Wed, 12 Apr 2023).

HostnameOSArch (*)R versionInstalled pkgs
nebbiolo2Linux (Ubuntu 20.04.5 LTS)x86_644.2.3 (2023-03-15) -- "Shortstop Beagle" 4502
palomino4Windows Server 2022 Datacenterx644.2.3 (2023-03-15 ucrt) -- "Shortstop Beagle" 4282
lconwaymacOS 12.5.1 Montereyx86_644.2.3 (2023-03-15) -- "Shortstop Beagle" 4310
Click on any hostname to see more info about the system (e.g. compilers)      (*) as reported by 'uname -p', except on Windows and Mac OS X

BUILD BIN results for GenomicFeatures on palomino4


To the developers/maintainers of the GenomicFeatures package:
- Please allow up to 24 hours (and sometimes 48 hours) for your latest push to git@git.bioconductor.org:packages/GenomicFeatures.git to
reflect on this report. See How and When does the builder pull? When will my changes propagate? for more information.
- Make sure to use the following settings in order to reproduce any error or warning you see on this page.

raw results

Package 785/2183HostnameOS / ArchINSTALLBUILDCHECKBUILD BIN
GenomicFeatures 1.50.4  (landing page)
H. Pag├Ęs
Snapshot Date: 2023-04-10 14:00:05 -0400 (Mon, 10 Apr 2023)
git_url: https://git.bioconductor.org/packages/GenomicFeatures
git_branch: RELEASE_3_16
git_last_commit: 68bf6e1
git_last_commit_date: 2022-12-14 21:06:06 -0400 (Wed, 14 Dec 2022)
nebbiolo2Linux (Ubuntu 20.04.5 LTS) / x86_64  OK    OK    OK  UNNEEDED, same version is already published
palomino4Windows Server 2022 Datacenter / x64  OK    OK    OK    OK  UNNEEDED, same version is already published
lconwaymacOS 12.5.1 Monterey / x86_64  OK    OK    OK    OK  UNNEEDED, same version is already published

Summary

Package: GenomicFeatures
Version: 1.50.4
Command: rm -rf GenomicFeatures.buildbin-libdir && mkdir GenomicFeatures.buildbin-libdir && F:\biocbuild\bbs-3.16-bioc\R\bin\R.exe CMD INSTALL --build --library=GenomicFeatures.buildbin-libdir GenomicFeatures_1.50.4.tar.gz
StartedAt: 2023-04-11 08:03:31 -0400 (Tue, 11 Apr 2023)
EndedAt: 2023-04-11 08:04:47 -0400 (Tue, 11 Apr 2023)
EllapsedTime: 75.8 seconds
RetCode: 0
Status:   OK  
PackageFile: GenomicFeatures_1.50.4.zip
PackageFileSize: 2.044 MiB

Command output

##############################################################################
##############################################################################
###
### Running command:
###
###   rm -rf GenomicFeatures.buildbin-libdir && mkdir GenomicFeatures.buildbin-libdir && F:\biocbuild\bbs-3.16-bioc\R\bin\R.exe CMD INSTALL --build --library=GenomicFeatures.buildbin-libdir GenomicFeatures_1.50.4.tar.gz
###
##############################################################################
##############################################################################


* installing *source* package 'GenomicFeatures' ...
** using staged installation
** R
** inst
** byte-compile and prepare package for lazy loading
** help
*** installing help indices
** building package indices
** installing vignettes
** testing if installed package can be loaded from temporary location
** testing if installed package can be loaded from final location
** testing if installed package keeps a record of temporary installation path
* MD5 sums
packaged installation of 'GenomicFeatures' as GenomicFeatures_1.50.4.zip
* DONE (GenomicFeatures)