Back to Multiple platform build/check report for BioC 3.16:   simplified   long
ABCDEFGHIJKLMNOPQR[S]TUVWXYZ

This page was generated on 2023-03-31 11:06:28 -0400 (Fri, 31 Mar 2023).

HostnameOSArch (*)R versionInstalled pkgs
nebbiolo2Linux (Ubuntu 20.04.5 LTS)x86_644.2.3 (2023-03-15) -- "Shortstop Beagle" 4498
palomino4Windows Server 2022 Datacenterx644.2.3 (2023-03-15 ucrt) -- "Shortstop Beagle" 4278
lconwaymacOS 12.5.1 Montereyx86_644.2.3 (2023-03-15) -- "Shortstop Beagle" 4306
Click on any hostname to see more info about the system (e.g. compilers)      (*) as reported by 'uname -p', except on Windows and Mac OS X

CHECK results for SWATH2stats on palomino4


To the developers/maintainers of the SWATH2stats package:
- Please allow up to 24 hours (and sometimes 48 hours) for your latest push to git@git.bioconductor.org:packages/SWATH2stats.git to
reflect on this report. See How and When does the builder pull? When will my changes propagate? for more information.
- Make sure to use the following settings in order to reproduce any error or warning you see on this page.

raw results

Package 2002/2183HostnameOS / ArchINSTALLBUILDCHECKBUILD BIN
SWATH2stats 1.28.0  (landing page)
Peter Blattmann
Snapshot Date: 2023-03-29 14:00:04 -0400 (Wed, 29 Mar 2023)
git_url: https://git.bioconductor.org/packages/SWATH2stats
git_branch: RELEASE_3_16
git_last_commit: d1914af
git_last_commit_date: 2022-11-01 11:12:23 -0400 (Tue, 01 Nov 2022)
nebbiolo2Linux (Ubuntu 20.04.5 LTS) / x86_64  OK    OK    OK  UNNEEDED, same version is already published
palomino4Windows Server 2022 Datacenter / x64  OK    OK    OK    OK  UNNEEDED, same version is already published
lconwaymacOS 12.5.1 Monterey / x86_64  OK    OK    OK    OK  UNNEEDED, same version is already published

Summary

Package: SWATH2stats
Version: 1.28.0
Command: F:\biocbuild\bbs-3.16-bioc\R\bin\R.exe CMD check --no-multiarch --install=check:SWATH2stats.install-out.txt --library=F:\biocbuild\bbs-3.16-bioc\R\library --no-vignettes --timings SWATH2stats_1.28.0.tar.gz
StartedAt: 2023-03-30 06:30:55 -0400 (Thu, 30 Mar 2023)
EndedAt: 2023-03-30 06:33:43 -0400 (Thu, 30 Mar 2023)
EllapsedTime: 168.0 seconds
RetCode: 0
Status:   OK  
CheckDir: SWATH2stats.Rcheck
Warnings: 0

Command output

##############################################################################
##############################################################################
###
### Running command:
###
###   F:\biocbuild\bbs-3.16-bioc\R\bin\R.exe CMD check --no-multiarch --install=check:SWATH2stats.install-out.txt --library=F:\biocbuild\bbs-3.16-bioc\R\library --no-vignettes --timings SWATH2stats_1.28.0.tar.gz
###
##############################################################################
##############################################################################


* using log directory 'F:/biocbuild/bbs-3.16-bioc/meat/SWATH2stats.Rcheck'
* using R version 4.2.3 (2023-03-15 ucrt)
* using platform: x86_64-w64-mingw32 (64-bit)
* using session charset: UTF-8
* using option '--no-vignettes'
* checking for file 'SWATH2stats/DESCRIPTION' ... OK
* checking extension type ... Package
* this is package 'SWATH2stats' version '1.28.0'
* package encoding: UTF-8
* checking package namespace information ... OK
* checking package dependencies ... NOTE
Package which this enhances but not available for checking: 'aLFQ'
* checking if this is a source package ... OK
* checking if there is a namespace ... OK
* checking for hidden files and directories ... OK
* checking for portable file names ... OK
* checking whether package 'SWATH2stats' can be installed ... OK
* checking installed package size ... OK
* checking package directory ... OK
* checking 'build' directory ... OK
* checking DESCRIPTION meta-information ... OK
* checking top-level files ... OK
* checking for left-over files ... OK
* checking index information ... OK
* checking package subdirectories ... OK
* checking R files for non-ASCII characters ... OK
* checking R files for syntax errors ... OK
* checking whether the package can be loaded ... OK
* checking whether the package can be loaded with stated dependencies ... OK
* checking whether the package can be unloaded cleanly ... OK
* checking whether the namespace can be loaded with stated dependencies ... OK
* checking whether the namespace can be unloaded cleanly ... OK
* checking dependencies in R code ... OK
* checking S3 generic/method consistency ... OK
* checking replacement functions ... OK
* checking foreign function calls ... OK
* checking R code for possible problems ... OK
* checking Rd files ... OK
* checking Rd metadata ... OK
* checking Rd cross-references ... OK
* checking for missing documentation entries ... OK
* checking for code/documentation mismatches ... OK
* checking Rd \usage sections ... OK
* checking Rd contents ... OK
* checking for unstated dependencies in examples ... OK
* checking contents of 'data' directory ... OK
* checking data for non-ASCII characters ... OK
* checking data for ASCII and uncompressed saves ... OK
* checking sizes of PDF files under 'inst/doc' ... OK
* checking files in 'vignettes' ... OK
* checking examples ... OK
Examples with CPU (user + system) or elapsed time > 5s
          user system elapsed
load_mart 0.81   0.12    5.63
* checking for unstated dependencies in 'tests' ... OK
* checking tests ...
  Running 'test-all.R'
 OK
* checking for unstated dependencies in vignettes ... OK
* checking package vignettes in 'inst/doc' ... OK
* checking running R code from vignettes ... SKIPPED
* checking re-building of vignette outputs ... SKIPPED
* checking PDF version of manual ... OK
* DONE

Status: 1 NOTE
See
  'F:/biocbuild/bbs-3.16-bioc/meat/SWATH2stats.Rcheck/00check.log'
for details.



Installation output

SWATH2stats.Rcheck/00install.out

##############################################################################
##############################################################################
###
### Running command:
###
###   F:\biocbuild\bbs-3.16-bioc\R\bin\R.exe CMD INSTALL SWATH2stats
###
##############################################################################
##############################################################################


* installing to library 'F:/biocbuild/bbs-3.16-bioc/R/library'
* installing *source* package 'SWATH2stats' ...
** using staged installation
** R
** data
** inst
** byte-compile and prepare package for lazy loading
** help
*** installing help indices
** building package indices
** installing vignettes
** testing if installed package can be loaded from temporary location
** testing if installed package can be loaded from final location
** testing if installed package keeps a record of temporary installation path
* DONE (SWATH2stats)

Tests output

SWATH2stats.Rcheck/tests/test-all.Rout


R version 4.2.3 (2023-03-15 ucrt) -- "Shortstop Beagle"
Copyright (C) 2023 The R Foundation for Statistical Computing
Platform: x86_64-w64-mingw32/x64 (64-bit)

R is free software and comes with ABSOLUTELY NO WARRANTY.
You are welcome to redistribute it under certain conditions.
Type 'license()' or 'licence()' for distribution details.

R is a collaborative project with many contributors.
Type 'contributors()' for more information and
'citation()' on how to cite R or R packages in publications.

Type 'demo()' for some demos, 'help()' for on-line help, or
'help.start()' for an HTML browser interface to help.
Type 'q()' to quit R.

> library(testthat)
> test_check("SWATH2stats")
Loading required package: SWATH2stats
[1] "peterb_J131223_054"
[1] "peterb_L150425_011_SW"
[1] "peterb_L150514_002_SW"
[ FAIL 0 | WARN 74 | SKIP 0 | PASS 113 ]

[ FAIL 0 | WARN 74 | SKIP 0 | PASS 113 ]
> 
> proc.time()
   user  system elapsed 
  13.45    0.65   26.71 

Example timings

SWATH2stats.Rcheck/SWATH2stats-Ex.timings

nameusersystemelapsed
JPP_update0.080.010.10
add_genesymbol000
assess_decoy_rate0.100.000.09
assess_fdr_byrun0.500.030.53
assess_fdr_overall0.180.020.20
convert4MSstats0.570.030.60
convert4PECA0.150.020.17
convert4aLFQ0.630.000.63
convert4mapDIA0.340.030.37
convert4pythonscript0.130.010.14
convert_protein_ids000
count_analytes0.120.000.13
disaggregate0.220.020.23
filter_all_peptides0.110.030.14
filter_mscore0.150.000.16
filter_mscore_condition0.160.020.17
filter_mscore_fdr0.310.040.36
filter_mscore_freqobs0.140.020.16
filter_on_max_peptides0.140.000.14
filter_on_min_peptides0.140.000.14
filter_proteotypic_peptides0.110.010.13
import_data0.380.020.39
load_mart0.810.125.63
mscore4assayfdr0.410.020.43
mscore4pepfdr0.230.000.23
mscore4protfdr0.210.000.20
plot.fdr_cube0.140.000.14
plot.fdr_table0.200.010.22
plot_correlation_between_samples0.380.030.41
plot_variation0.450.000.45
plot_variation_vs_total0.370.020.39
reduce_OpenSWATH_output0.140.000.14
removeDecoyProteins0.110.010.13
sample_annotation0.160.020.17
transform_MSstats_OpenSWATH000
unifyProteinGroupLabels0.110.020.12
validate_columns000
write_matrix_peptides0.120.000.13
write_matrix_proteins0.130.000.12