Back to Multiple platform build/check report for BioC 3.16:   simplified   long
[A]BCDEFGHIJKLMNOPQRSTUVWXYZ

This page was generated on 2023-03-27 11:05:19 -0400 (Mon, 27 Mar 2023).

HostnameOSArch (*)R versionInstalled pkgs
nebbiolo2Linux (Ubuntu 20.04.5 LTS)x86_644.2.3 (2023-03-15) -- "Shortstop Beagle" 4480
palomino4Windows Server 2022 Datacenterx644.2.3 (2023-03-15 ucrt) -- "Shortstop Beagle" 4276
lconwaymacOS 12.5.1 Montereyx86_644.2.3 (2023-03-15) -- "Shortstop Beagle" 4304
Click on any hostname to see more info about the system (e.g. compilers)      (*) as reported by 'uname -p', except on Windows and Mac OS X

BUILD BIN results for atena on palomino4


To the developers/maintainers of the atena package:
- Please allow up to 24 hours (and sometimes 48 hours) for your latest push to git@git.bioconductor.org:packages/atena.git to
reflect on this report. See How and When does the builder pull? When will my changes propagate? for more information.
- Make sure to use the following settings in order to reproduce any error or warning you see on this page.

raw results

Package 95/2183HostnameOS / ArchINSTALLBUILDCHECKBUILD BIN
atena 1.4.1  (landing page)
Beatriz Calvo-Serra
Snapshot Date: 2023-03-24 14:00:04 -0400 (Fri, 24 Mar 2023)
git_url: https://git.bioconductor.org/packages/atena
git_branch: RELEASE_3_16
git_last_commit: c41a0fb
git_last_commit_date: 2023-02-03 09:18:06 -0400 (Fri, 03 Feb 2023)
nebbiolo2Linux (Ubuntu 20.04.5 LTS) / x86_64  OK    OK    OK  UNNEEDED, same version is already published
palomino4Windows Server 2022 Datacenter / x64  OK    OK    OK    OK  UNNEEDED, same version is already published
lconwaymacOS 12.5.1 Monterey / x86_64  OK    OK    OK    OK  UNNEEDED, same version is already published

Summary

Package: atena
Version: 1.4.1
Command: rm -rf atena.buildbin-libdir && mkdir atena.buildbin-libdir && F:\biocbuild\bbs-3.16-bioc\R\bin\R.exe CMD INSTALL --build --library=atena.buildbin-libdir atena_1.4.1.tar.gz
StartedAt: 2023-03-25 07:36:12 -0400 (Sat, 25 Mar 2023)
EndedAt: 2023-03-25 07:36:55 -0400 (Sat, 25 Mar 2023)
EllapsedTime: 43.1 seconds
RetCode: 0
Status:   OK  
PackageFile: atena_1.4.1.zip
PackageFileSize: 1.422 MiB

Command output

##############################################################################
##############################################################################
###
### Running command:
###
###   rm -rf atena.buildbin-libdir && mkdir atena.buildbin-libdir && F:\biocbuild\bbs-3.16-bioc\R\bin\R.exe CMD INSTALL --build --library=atena.buildbin-libdir atena_1.4.1.tar.gz
###
##############################################################################
##############################################################################


* installing *source* package 'atena' ...
** using staged installation
** R
** inst
** byte-compile and prepare package for lazy loading
** help
*** installing help indices
** building package indices
** installing vignettes
** testing if installed package can be loaded from temporary location
** testing if installed package can be loaded from final location
** testing if installed package keeps a record of temporary installation path
* MD5 sums
packaged installation of 'atena' as atena_1.4.1.zip
* DONE (atena)