Back to Multiple platform build/check report for BioC 3.16:   simplified   long
ABCDEFGHIJKLMN[O]PQRSTUVWXYZ

This page was generated on 2023-03-29 11:06:18 -0400 (Wed, 29 Mar 2023).

HostnameOSArch (*)R versionInstalled pkgs
nebbiolo2Linux (Ubuntu 20.04.5 LTS)x86_644.2.3 (2023-03-15) -- "Shortstop Beagle" 4482
palomino4Windows Server 2022 Datacenterx644.2.3 (2023-03-15 ucrt) -- "Shortstop Beagle" 4278
lconwaymacOS 12.5.1 Montereyx86_644.2.3 (2023-03-15) -- "Shortstop Beagle" 4306
Click on any hostname to see more info about the system (e.g. compilers)      (*) as reported by 'uname -p', except on Windows and Mac OS X

CHECK results for ORFik on lconway


To the developers/maintainers of the ORFik package:
- Please allow up to 24 hours (and sometimes 48 hours) for your latest push to git@git.bioconductor.org:packages/ORFik.git to
reflect on this report. See How and When does the builder pull? When will my changes propagate? for more information.
- Make sure to use the following settings in order to reproduce any error or warning you see on this page.

raw results

Package 1413/2183HostnameOS / ArchINSTALLBUILDCHECKBUILD BIN
ORFik 1.18.2  (landing page)
Haakon Tjeldnes
Snapshot Date: 2023-03-27 14:00:04 -0400 (Mon, 27 Mar 2023)
git_url: https://git.bioconductor.org/packages/ORFik
git_branch: RELEASE_3_16
git_last_commit: 4ab60c3
git_last_commit_date: 2023-01-13 19:50:22 -0400 (Fri, 13 Jan 2023)
nebbiolo2Linux (Ubuntu 20.04.5 LTS) / x86_64  OK    OK    OK  UNNEEDED, same version is already published
palomino4Windows Server 2022 Datacenter / x64  OK    OK    OK    OK  UNNEEDED, same version is already published
lconwaymacOS 12.5.1 Monterey / x86_64  OK    OK    OK    OK  UNNEEDED, same version is already published

Summary

Package: ORFik
Version: 1.18.2
Command: /Library/Frameworks/R.framework/Resources/bin/R CMD check --install=check:ORFik.install-out.txt --library=/Library/Frameworks/R.framework/Resources/library --no-vignettes --timings ORFik_1.18.2.tar.gz
StartedAt: 2023-03-27 21:47:03 -0400 (Mon, 27 Mar 2023)
EndedAt: 2023-03-27 21:56:01 -0400 (Mon, 27 Mar 2023)
EllapsedTime: 537.5 seconds
RetCode: 0
Status:   OK  
CheckDir: ORFik.Rcheck
Warnings: 0

Command output

##############################################################################
##############################################################################
###
### Running command:
###
###   /Library/Frameworks/R.framework/Resources/bin/R CMD check --install=check:ORFik.install-out.txt --library=/Library/Frameworks/R.framework/Resources/library --no-vignettes --timings ORFik_1.18.2.tar.gz
###
##############################################################################
##############################################################################


* using log directory ‘/Users/biocbuild/bbs-3.16-bioc/meat/ORFik.Rcheck’
* using R version 4.2.3 (2023-03-15)
* using platform: x86_64-apple-darwin17.0 (64-bit)
* using session charset: UTF-8
* using option ‘--no-vignettes’
* checking for file ‘ORFik/DESCRIPTION’ ... OK
* checking extension type ... Package
* this is package ‘ORFik’ version ‘1.18.2’
* package encoding: UTF-8
* checking package namespace information ... OK
* checking package dependencies ... OK
* checking if this is a source package ... OK
* checking if there is a namespace ... OK
* checking for hidden files and directories ... OK
* checking for portable file names ... OK
* checking for sufficient/correct file permissions ... OK
* checking whether package ‘ORFik’ can be installed ... OK
* checking installed package size ... OK
* checking package directory ... OK
* checking ‘build’ directory ... OK
* checking DESCRIPTION meta-information ... OK
* checking top-level files ... OK
* checking for left-over files ... OK
* checking index information ... OK
* checking package subdirectories ... OK
* checking R files for non-ASCII characters ... OK
* checking R files for syntax errors ... OK
* checking whether the package can be loaded ... OK
* checking whether the package can be loaded with stated dependencies ... OK
* checking whether the package can be unloaded cleanly ... OK
* checking whether the namespace can be loaded with stated dependencies ... OK
* checking whether the namespace can be unloaded cleanly ... OK
* checking dependencies in R code ... NOTE
Unexported objects imported by ':::' calls:
  ‘GenomicFeatures:::.merge_seqinfo_and_infer_missing_seqlengths’
  ‘IRanges:::regroupBySupergroup’ ‘S4Vectors:::normarg_mcols’
  ‘biomartr:::getENSEMBL.Seq’ ‘biomartr:::getENSEMBL.gtf’
  See the note in ?`:::` about the use of this operator.
There are ::: calls to the package's namespace in its code. A package
  almost never needs to use ::: for its own objects:
  ‘find_url_ebi’ ‘revElementsF’ ‘save.fstwig’ ‘trimming.table’
* checking S3 generic/method consistency ... OK
* checking replacement functions ... OK
* checking foreign function calls ... OK
* checking R code for possible problems ... NOTE
DEG.plot.static: no visible binding for global variable ‘Regulation’
DEG.plot.static: no visible binding for global variable ‘meanCounts’
DEG.plot.static: no visible binding for global variable ‘LFC’
DTEG.plot: no visible binding for global variable ‘Regulation’
DTEG.plot: no visible binding for global variable ‘rna’
DTEG.plot: no visible binding for global variable ‘rfp’
QCplots: no visible binding for global variable ‘leaders’
QCplots: no visible binding for global variable ‘trailers’
QCstats.plot: no visible binding for global variable ‘variable’
QCstats.plot: no visible binding for global variable ‘sample_total’
QCstats.plot: no visible binding for global variable ‘value’
QCstats.plot: no visible global function definition for ‘.’
QCstats.plot: no visible binding for global variable ‘sample_id’
QCstats.plot: no visible binding for global variable ‘percentage’
QCstats.plot: no visible binding for global variable
  ‘perc_of_counts_per_sample’
QCstats.plot: no visible binding for global variable ‘read length’
RiboQC.plot: no visible binding for global variable ‘variable’
RiboQC.plot: no visible binding for global variable ‘sample_total’
RiboQC.plot: no visible binding for global variable ‘value’
RiboQC.plot: no visible global function definition for ‘.’
RiboQC.plot: no visible binding for global variable ‘sample_id’
RiboQC.plot: no visible binding for global variable ‘percentage’
RiboQC.plot: no visible binding for global variable ‘percent’
RiboQC.plot: no visible binding for global variable ‘frame’
STAR.multiQC: no visible binding for global variable ‘sample_id’
STAR.multiQC: no visible binding for global variable ‘value’
TOP.Motif.ecdf: no visible binding for global variable ‘seq1’
TOP.Motif.ecdf: no visible binding for global variable ‘TOP’
alignmentFeatureStatistics : <anonymous>: no visible binding for global
  variable ‘percentage_mrna_aligned’
alignmentFeatureStatistics : <anonymous>: no visible binding for global
  variable ‘mRNA’
alignmentFeatureStatistics : <anonymous>: no visible binding for global
  variable ‘percentage_tx_aligned’
alignmentFeatureStatistics : <anonymous>: no visible binding for global
  variable ‘Transcript’
alignmentFeatureStatistics : <anonymous>: no visible binding for global
  variable ‘ratio_cds_mrna’
alignmentFeatureStatistics : <anonymous>: no visible binding for global
  variable ‘CDS’
alignmentFeatureStatistics : <anonymous>: no visible binding for global
  variable ‘ratio_cds_leader’
alignmentFeatureStatistics : <anonymous>: no visible binding for global
  variable ‘LEADERS’
allFeaturesHelper: no visible binding for global variable ‘te’
allFeaturesHelper: no visible binding for global variable ‘fpkmRFP’
allFeaturesHelper: no visible binding for global variable ‘fpkmRNA’
allFeaturesHelper: no visible binding for global variable ‘countRFP’
allFeaturesHelper: no visible binding for global variable ‘entropyRFP’
allFeaturesHelper: no visible binding for global variable
  ‘disengagementScores’
allFeaturesHelper: no visible binding for global variable ‘RRS’
allFeaturesHelper: no visible binding for global variable ‘RSS’
allFeaturesHelper: no visible binding for global variable ‘ORFScores’
allFeaturesHelper: no visible binding for global variable ‘ioScore’
allFeaturesHelper: no visible binding for global variable
  ‘startCodonCoverage’
allFeaturesHelper: no visible binding for global variable
  ‘startRegionRelative’
allFeaturesHelper: no visible binding for global variable ‘kozak’
allFeaturesHelper: no visible binding for global variable ‘StartCodons’
allFeaturesHelper: no visible binding for global variable ‘StopCodons’
allFeaturesHelper: no visible binding for global variable
  ‘fractionLengths’
allFeaturesHelper: no visible binding for global variable ‘distORFCDS’
allFeaturesHelper: no visible binding for global variable ‘inFrameCDS’
allFeaturesHelper: no visible binding for global variable
  ‘isOverlappingCds’
allFeaturesHelper: no visible binding for global variable ‘rankInTx’
appendZeroes: no visible binding for global variable ‘frame’
appendZeroes: no visible binding for global variable ‘position’
appendZeroes: no visible binding for global variable ‘count’
artificial.orfs: no visible binding for global variable ‘random’
artificial.orfs: no visible binding for global variable ‘pick’
artificial.orfs: no visible global function definition for ‘.’
codon_usage_exp: no visible global function definition for ‘translate’
codon_usage_exp: no visible binding for global variable ‘type’
collapse.by.scores: no visible global function definition for ‘.’
collapse.fastq.internal: no visible binding for global variable ‘N’
cor_plot: no visible binding for global variable ‘Var2’
cor_plot: no visible binding for global variable ‘Var1’
cor_plot: no visible binding for global variable ‘Cor’
cor_table: no visible binding for global variable ‘Var1’
cor_table: no visible binding for global variable ‘Var2’
cor_table: no visible binding for global variable ‘Cor’
coverageHeatMap: no visible binding for global variable ‘position’
coverageHeatMap: no visible binding for global variable ‘fraction’
coverageScorings: no visible binding for global variable ‘count’
coverageScorings: no visible binding for global variable ‘zscore’
coverageScorings: no visible binding for global variable ‘windowMean’
coverageScorings: no visible binding for global variable ‘windowSD’
coverageScorings: no visible global function definition for ‘.’
coverageScorings: no visible binding for global variable ‘gene_sum’
coverageScorings: no visible binding for global variable ‘fraction’
coverage_random_access_file: no visible binding for global variable
  ‘position’
coverage_random_access_file: no visible binding for global variable
  ‘frame’
coverage_to_dt: no visible binding for global variable ‘frame’
coverage_to_dt: no visible binding for global variable ‘position’
detectRibosomeShifts: no visible global function definition for ‘.’
detectRibosomeShifts: no visible binding for global variable ‘size’
detectRibosomeShifts: no visible binding for global variable ‘fraction’
detectRibosomeShifts: no visible binding for global variable ‘pShifted’
detectRibosomeShifts: no visible binding for global variable
  ‘sum.count’
detectRibosomeShifts: no visible binding for global variable ‘count’
detectRibosomeShifts: no visible binding for global variable
  ‘frac.score’
download.SRA.metadata: no visible binding for global variable ‘spots’
download.SRA.metadata: no visible binding for global variable ‘MONTH’
download.SRA.metadata: no visible binding for global variable
  ‘ReleaseDate’
download.SRA.metadata: no visible binding for global variable ‘YEAR’
entropy: no visible binding for global variable ‘Hx’
entropy: no visible binding for global variable ‘codonSums’
entropy: no visible global function definition for ‘.’
filterExtremePeakGenes: no visible binding for global variable ‘count’
filterExtremePeakGenes: no visible binding for global variable
  ‘median_per_gene’
filterExtremePeakGenes: no visible global function definition for ‘.’
filterTranscripts: no visible binding for global variable ‘utr5_len’
filterTranscripts: no visible binding for global variable ‘utr3_len’
findNGSPairs: no visible global function definition for ‘.’
findNGSPairs: no visible binding for global variable ‘forward’
findPeaksPerGene: no visible binding for global variable ‘sum_per_gene’
findPeaksPerGene: no visible binding for global variable ‘count’
findPeaksPerGene: no visible binding for global variable
  ‘mean_per_gene’
findPeaksPerGene: no visible binding for global variable ‘sd_per_gene’
findPeaksPerGene: no visible binding for global variable ‘zscore’
findPeaksPerGene: no visible binding for global variable ‘gene_id’
find_url_ebi_safe: no visible binding for global variable
  ‘run_accession’
flankPerGroup: no visible global function definition for ‘.’
flankPerGroup: no visible binding for global variable ‘group_name’
floss: no visible binding for global variable ‘ORFGrouping’
floss: no visible binding for global variable ‘widths’
floss: no visible global function definition for ‘.’
floss: no visible binding for global variable ‘CDSGrouping’
floss: no visible binding for global variable ‘fraction.x’
floss: no visible binding for global variable ‘fraction.y’
gSort: no visible binding for global variable ‘grnames’
geneToSymbol: no visible binding for global variable ‘ensembl_gene_id’
getNGenesCoverage: no visible global function definition for ‘.’
getNGenesCoverage: no visible binding for global variable ‘fraction’
get_phix_genome: no visible binding for global variable ‘phix.url’
initiationScore: no visible global function definition for ‘.’
initiationScore: no visible binding for global variable ‘dif’
initiationScore: no visible binding for global variable ‘fraction’
initiationScore: no visible binding for global variable ‘difPer’
isPeriodic: no visible binding for global variable ‘spec’
kozakHeatmap: no visible global function definition for ‘.’
kozakHeatmap: no visible binding for global variable ‘variable’
kozakHeatmap: no visible binding for global variable ‘value’
kozakHeatmap: no visible binding for global variable
  ‘count_seq_pos_with_count’
kozakHeatmap: no visible binding for global variable ‘median_score’
kozak_IR_ranking: no visible global function definition for ‘.’
kozak_IR_ranking: no visible binding for global variable ‘IR’
kozak_IR_ranking: no visible binding for global variable
  ‘upstream_kozak_strength’
kozak_IR_ranking: no visible binding for global variable ‘count’
kozak_IR_ranking: no visible binding for global variable ‘mean_IR’
list.genomes: no visible binding for global variable ‘STAR_index’
longestORFs: no visible global function definition for ‘.’
metaWindow: no visible binding for global variable ‘position’
metaWindow: no visible binding for global variable ‘frame’
metadata.autnaming: no visible binding for global variable
  ‘LIBRARYTYPE’
metadata.autnaming: no visible binding for global variable
  ‘LibraryStrategy’
orfFrameDistributions : <anonymous>: no visible binding for global
  variable ‘fraction’
orfFrameDistributions: no visible binding for global variable ‘percent’
orfFrameDistributions: no visible binding for global variable
  ‘fraction’
orfFrameDistributions: no visible binding for global variable
  ‘percent_length’
orfFrameDistributions: no visible global function definition for ‘.’
orfFrameDistributions: no visible binding for global variable
  ‘best_frame’
orfScore: no visible binding for global variable ‘frame’
orfScore: no visible binding for global variable ‘frame_one_RP’
orfScore: no visible binding for global variable ‘frame_two_RP’
pSitePlot: no visible binding for global variable ‘count’
pSitePlot: no visible binding for global variable ‘frame’
pSitePlot: no visible binding for global variable ‘position’
pcaExperiment: no visible binding for global variable ‘PC1’
pcaExperiment: no visible binding for global variable ‘PC2’
readLengthTable: no visible binding for global variable
  ‘counts_per_sample’
readLengthTable: no visible binding for global variable
  ‘perc_of_counts_per_sample’
regionPerReadLength : <anonymous>: no visible binding for global
  variable ‘fraction’
remakeTxdbExonIds: no visible global function definition for ‘.’
remakeTxdbExonIds: no visible binding for global variable ‘chr’
removeTxdbExons: no visible binding for global variable ‘exon_rank’
removeTxdbExons: no visible binding for global variable ‘ranks’
ribo_fft: no visible binding for global variable ‘fraction’
ribo_fft_plot: no visible binding for global variable ‘periods’
ribo_fft_plot: no visible binding for global variable ‘amplitude’
rnaNormalize: no visible binding for global variable ‘feature’
sample_info_append_SRA: no visible binding for global variable ‘Run’
scaledWindowPositions: no visible binding for global variable
  ‘scalingFactor’
scaledWindowPositions: no visible binding for global variable
  ‘position’
scaledWindowPositions: no visible global function definition for ‘.’
scoreSummarizedExperiment: no visible global function definition for
  ‘rowSums2’
seq_usage: no visible binding for global variable ‘variable’
seq_usage: no visible binding for global variable ‘codon_sum’
seq_usage: no visible global function definition for ‘frollsum’
seq_usage: no visible global function definition for ‘.’
seq_usage: no visible binding for global variable ‘gene_sum’
seq_usage: no visible binding for global variable
  ‘N_AA_of_type_per_gene’
seq_usage: no visible binding for global variable ‘as_prob_normalized’
seq_usage: no visible binding for global variable ‘N_total’
seq_usage: no visible binding for global variable ‘N’
seq_usage: no visible binding for global variable ‘mean_txNorm’
seq_usage: no visible binding for global variable ‘sum_txNorm’
seq_usage: no visible binding for global variable ‘dispersion’
seq_usage: no visible binding for global variable ‘dispersion_txNorm’
seq_usage: no visible binding for global variable ‘var_txNorm’
seq_usage: no visible binding for global variable ‘mean_percentage’
seq_usage: no visible binding for global variable ‘mean_txNorm_prob’
seq_usage: no visible binding for global variable
  ‘mean_txNorm_percentage’
seq_usage: no visible global function definition for ‘setorderv’
shiftPlots : <anonymous>: no visible binding for global variable
  ‘frame’
shiftPlots : <anonymous>: no visible binding for global variable
  ‘position’
te.plot: no visible global function definition for ‘rowMin’
te.plot: no visible binding for global variable ‘variable’
te.plot: no visible binding for global variable ‘LFC_TE’
te.plot: no visible binding for global variable ‘rfp_log2’
te.plot: no visible binding for global variable ‘rna_log2’
te.plot: no visible binding for global variable ‘rna_log10’
te.table: no visible global function definition for ‘rowMin’
te.table: no visible binding for global variable ‘variable’
te.table: no visible binding for global variable ‘TE_log2’
te.table: no visible binding for global variable ‘rfp_log2’
te.table: no visible binding for global variable ‘rna_log2’
te_rna.plot: no visible binding for global variable ‘subtitle’
te_rna.plot: no visible binding for global variable ‘rna_log10’
te_rna.plot: no visible binding for global variable ‘TE_log2’
topMotif: no visible binding for global variable ‘seq1’
topMotif: no visible binding for global variable ‘seq2’
topMotif: no visible binding for global variable ‘seq3’
topMotif: no visible binding for global variable ‘seq4’
topMotif: no visible binding for global variable ‘seq5’
transcriptWindow: no visible binding for global variable ‘fractions’
transcriptWindow: no visible binding for global variable ‘feature’
windowCoveragePlot: no visible binding for global variable ‘feature’
windowCoveragePlot: no visible binding for global variable ‘fraction’
windowCoveragePlot: no visible binding for global variable
  ‘fraction_min’
windowCoveragePlot: no visible binding for global variable ‘position’
collapseDuplicatedReads,GAlignmentPairs: no visible global function
  definition for ‘.’
collapseDuplicatedReads,GAlignmentPairs: no visible binding for global
  variable ‘start1’
collapseDuplicatedReads,GAlignmentPairs: no visible binding for global
  variable ‘start2’
collapseDuplicatedReads,GAlignmentPairs: no visible binding for global
  variable ‘cigar1’
collapseDuplicatedReads,GAlignmentPairs: no visible binding for global
  variable ‘cigar2’
collapseDuplicatedReads,GAlignments: no visible global function
  definition for ‘.’
collapseDuplicatedReads,GRanges: no visible binding for global variable
  ‘size’
collapseDuplicatedReads,GRanges: no visible global function definition
  for ‘.’
design,experiment: no visible binding for global variable ‘..formula’
seqlevels,experiment: no visible binding for global variable ‘df’
show,covRleList: no visible global function definition for ‘head’
Undefined global functions or variables:
  . ..formula CDS CDSGrouping Cor Hx IR LEADERS LFC LFC_TE LIBRARYTYPE
  LibraryStrategy MONTH N N_AA_of_type_per_gene N_total ORFGrouping
  ORFScores PC1 PC2 RRS RSS Regulation ReleaseDate Run STAR_index
  StartCodons StopCodons TE_log2 TOP Transcript Var1 Var2 YEAR
  amplitude as_prob_normalized best_frame chr cigar1 cigar2 codonSums
  codon_sum count countRFP count_seq_pos_with_count counts_per_sample
  df dif difPer disengagementScores dispersion dispersion_txNorm
  distORFCDS ensembl_gene_id entropyRFP exon_rank feature forward
  fpkmRFP fpkmRNA frac.score fraction fraction.x fraction.y
  fractionLengths fraction_min fractions frame frame_one_RP
  frame_two_RP frollsum gene_id gene_sum grnames group_name head
  inFrameCDS ioScore isOverlappingCds kozak leaders mRNA meanCounts
  mean_IR mean_per_gene mean_percentage mean_txNorm
  mean_txNorm_percentage mean_txNorm_prob median_per_gene median_score
  pShifted perc_of_counts_per_sample percent percent_length percentage
  percentage_mrna_aligned percentage_tx_aligned periods phix.url pick
  position random rankInTx ranks ratio_cds_leader ratio_cds_mrna read
  length rfp rfp_log2 rna rna_log10 rna_log2 rowMin rowSums2
  run_accession sample_id sample_total scalingFactor sd_per_gene seq1
  seq2 seq3 seq4 seq5 setorderv size spec spots start1 start2
  startCodonCoverage startRegionRelative subtitle sum.count
  sum_per_gene sum_txNorm te trailers translate type
  upstream_kozak_strength utr3_len utr5_len value var_txNorm variable
  widths windowMean windowSD zscore
Consider adding
  importFrom("base", "length")
  importFrom("graphics", "frame")
  importFrom("stats", "df")
  importFrom("utils", "head")
to your NAMESPACE file.
* checking Rd files ... OK
* checking Rd metadata ... OK
* checking Rd cross-references ... OK
* checking for missing documentation entries ... OK
* checking for code/documentation mismatches ... OK
* checking Rd \usage sections ... OK
* checking Rd contents ... OK
* checking for unstated dependencies in examples ... OK
* checking line endings in C/C++/Fortran sources/headers ... OK
* checking line endings in Makefiles ... OK
* checking compilation flags in Makevars ... OK
* checking for GNU extensions in Makefiles ... OK
* checking for portable use of $(BLAS_LIBS) and $(LAPACK_LIBS) ... OK
* checking use of PKG_*FLAGS in Makefiles ... OK
* checking compiled code ... NOTE
Note: information on .o files is not available
* checking files in ‘vignettes’ ... OK
* checking examples ... OK
* checking for unstated dependencies in ‘tests’ ... OK
* checking tests ...
  Running ‘testthat.R’
 OK
* checking for unstated dependencies in vignettes ... OK
* checking package vignettes in ‘inst/doc’ ... OK
* checking running R code from vignettes ... SKIPPED
* checking re-building of vignette outputs ... SKIPPED
* checking PDF version of manual ... OK
* DONE

Status: 3 NOTEs
See
  ‘/Users/biocbuild/bbs-3.16-bioc/meat/ORFik.Rcheck/00check.log’
for details.



Installation output

ORFik.Rcheck/00install.out

##############################################################################
##############################################################################
###
### Running command:
###
###   /Library/Frameworks/R.framework/Resources/bin/R CMD INSTALL ORFik
###
##############################################################################
##############################################################################


* installing to library ‘/Library/Frameworks/R.framework/Versions/4.2/Resources/library’
* installing *source* package ‘ORFik’ ...
** using staged installation
** libs
clang++ -mmacosx-version-min=10.13 -std=gnu++11 -I"/Library/Frameworks/R.framework/Resources/include" -DNDEBUG  -I'/Library/Frameworks/R.framework/Versions/4.2/Resources/library/Rcpp/include' -I/usr/local/include   -fPIC  -Wall -g -O2  -c RcppExports.cpp -o RcppExports.o
clang++ -mmacosx-version-min=10.13 -std=gnu++11 -I"/Library/Frameworks/R.framework/Resources/include" -DNDEBUG  -I'/Library/Frameworks/R.framework/Versions/4.2/Resources/library/Rcpp/include' -I/usr/local/include   -fPIC  -Wall -g -O2  -c findORFsHelpers.cpp -o findORFsHelpers.o
clang++ -mmacosx-version-min=10.13 -std=gnu++11 -I"/Library/Frameworks/R.framework/Resources/include" -DNDEBUG  -I'/Library/Frameworks/R.framework/Versions/4.2/Resources/library/Rcpp/include' -I/usr/local/include   -fPIC  -Wall -g -O2  -c findOrfs.cpp -o findOrfs.o
clang++ -mmacosx-version-min=10.13 -std=gnu++11 -I"/Library/Frameworks/R.framework/Resources/include" -DNDEBUG  -I'/Library/Frameworks/R.framework/Versions/4.2/Resources/library/Rcpp/include' -I/usr/local/include   -fPIC  -Wall -g -O2  -c findOrfsFasta.cpp -o findOrfsFasta.o
clang++ -mmacosx-version-min=10.13 -std=gnu++11 -I"/Library/Frameworks/R.framework/Resources/include" -DNDEBUG  -I'/Library/Frameworks/R.framework/Versions/4.2/Resources/library/Rcpp/include' -I/usr/local/include   -fPIC  -Wall -g -O2  -c pmapFromTranscripts.cpp -o pmapFromTranscripts.o
clang++ -mmacosx-version-min=10.13 -std=gnu++11 -I"/Library/Frameworks/R.framework/Resources/include" -DNDEBUG  -I'/Library/Frameworks/R.framework/Versions/4.2/Resources/library/Rcpp/include' -I/usr/local/include   -fPIC  -Wall -g -O2  -c pmapToTranscripts.cpp -o pmapToTranscripts.o
pmapToTranscripts.cpp:22:7: warning: variable 'currentWidth' set but not used [-Wunused-but-set-variable]
  int currentWidth = 0;
      ^
pmapToTranscripts.cpp:68:7: warning: variable 'currentWidth' set but not used [-Wunused-but-set-variable]
  int currentWidth = 0;
      ^
2 warnings generated.
clang++ -mmacosx-version-min=10.13 -std=gnu++11 -dynamiclib -Wl,-headerpad_max_install_names -undefined dynamic_lookup -single_module -multiply_defined suppress -L/Library/Frameworks/R.framework/Resources/lib -L/usr/local/lib -o ORFik.so RcppExports.o findORFsHelpers.o findOrfs.o findOrfsFasta.o pmapFromTranscripts.o pmapToTranscripts.o -F/Library/Frameworks/R.framework/.. -framework R -Wl,-framework -Wl,CoreFoundation
installing to /Library/Frameworks/R.framework/Versions/4.2/Resources/library/00LOCK-ORFik/00new/ORFik/libs
** R
** inst
** byte-compile and prepare package for lazy loading
Creating a new generic function for ‘symbols’ in package ‘ORFik’
** help
*** installing help indices
** building package indices
** installing vignettes
** testing if installed package can be loaded from temporary location
** checking absolute paths in shared objects and dynamic libraries
** testing if installed package can be loaded from final location
** testing if installed package keeps a record of temporary installation path
* DONE (ORFik)

Tests output

ORFik.Rcheck/tests/testthat.Rout


R version 4.2.3 (2023-03-15) -- "Shortstop Beagle"
Copyright (C) 2023 The R Foundation for Statistical Computing
Platform: x86_64-apple-darwin17.0 (64-bit)

R is free software and comes with ABSOLUTELY NO WARRANTY.
You are welcome to redistribute it under certain conditions.
Type 'license()' or 'licence()' for distribution details.

R is a collaborative project with many contributors.
Type 'contributors()' for more information and
'citation()' on how to cite R or R packages in publications.

Type 'demo()' for some demos, 'help()' for on-line help, or
'help.start()' for an HTML browser interface to help.
Type 'q()' to quit R.

> library(testthat)
> library(ORFik)
Loading required package: IRanges
Loading required package: BiocGenerics

Attaching package: 'BiocGenerics'

The following objects are masked from 'package:stats':

    IQR, mad, sd, var, xtabs

The following objects are masked from 'package:base':

    Filter, Find, Map, Position, Reduce, anyDuplicated, aperm, append,
    as.data.frame, basename, cbind, colnames, dirname, do.call,
    duplicated, eval, evalq, get, grep, grepl, intersect, is.unsorted,
    lapply, mapply, match, mget, order, paste, pmax, pmax.int, pmin,
    pmin.int, rank, rbind, rownames, sapply, setdiff, sort, table,
    tapply, union, unique, unsplit, which.max, which.min

Loading required package: S4Vectors
Loading required package: stats4

Attaching package: 'S4Vectors'

The following objects are masked from 'package:base':

    I, expand.grid, unname

Loading required package: GenomicRanges
Loading required package: GenomeInfoDb
Loading required package: GenomicAlignments
Loading required package: SummarizedExperiment
Loading required package: MatrixGenerics
Loading required package: matrixStats

Attaching package: 'MatrixGenerics'

The following objects are masked from 'package:matrixStats':

    colAlls, colAnyNAs, colAnys, colAvgsPerRowSet, colCollapse,
    colCounts, colCummaxs, colCummins, colCumprods, colCumsums,
    colDiffs, colIQRDiffs, colIQRs, colLogSumExps, colMadDiffs,
    colMads, colMaxs, colMeans2, colMedians, colMins, colOrderStats,
    colProds, colQuantiles, colRanges, colRanks, colSdDiffs, colSds,
    colSums2, colTabulates, colVarDiffs, colVars, colWeightedMads,
    colWeightedMeans, colWeightedMedians, colWeightedSds,
    colWeightedVars, rowAlls, rowAnyNAs, rowAnys, rowAvgsPerColSet,
    rowCollapse, rowCounts, rowCummaxs, rowCummins, rowCumprods,
    rowCumsums, rowDiffs, rowIQRDiffs, rowIQRs, rowLogSumExps,
    rowMadDiffs, rowMads, rowMaxs, rowMeans2, rowMedians, rowMins,
    rowOrderStats, rowProds, rowQuantiles, rowRanges, rowRanks,
    rowSdDiffs, rowSds, rowSums2, rowTabulates, rowVarDiffs, rowVars,
    rowWeightedMads, rowWeightedMeans, rowWeightedMedians,
    rowWeightedSds, rowWeightedVars

Loading required package: Biobase
Welcome to Bioconductor

    Vignettes contain introductory material; view with
    'browseVignettes()'. To cite Bioconductor, see
    'citation("Biobase")', and for packages 'citation("pkgname")'.


Attaching package: 'Biobase'

The following object is masked from 'package:MatrixGenerics':

    rowMedians

The following objects are masked from 'package:matrixStats':

    anyMissing, rowMedians

Loading required package: Biostrings
Loading required package: XVector

Attaching package: 'Biostrings'

The following object is masked from 'package:base':

    strsplit

Loading required package: Rsamtools

Attaching package: 'ORFik'

The following object is masked from 'package:graphics':

    symbols

> 
> test_check("ORFik")
Regulation
No change 
        6 
     widths       group.size  
 Min.   : 6.0   Min.   :2.00  
 1st Qu.: 7.5   1st Qu.:2.25  
 Median : 9.0   Median :2.50  
 Mean   : 9.0   Mean   :2.50  
 3rd Qu.:10.5   3rd Qu.:2.75  
 Max.   :12.0   Max.   :3.00  
[1] "CAGE_Mutant_r1"
[1] "CAGE_Mutant_r2"
[1] "CAGE_WT_r1"
[1] "CAGE_WT_r2"
[1] "PAS_Mutant_r1"
[1] "PAS_Mutant_r2"
[1] "PAS_WT_r1"
[1] "PAS_WT_r2"
[1] "RFP_Mutant_r1"
[1] "RFP_Mutant_r2"
[1] "RFP_WT_r1"
[1] "RFP_WT_r2"
[1] "RNA_Mutant_r1"
[1] "RNA_Mutant_r2"
[1] "RNA_WT_r1"
[1] "RNA_WT_r2"
[1] "RFP"
[1] "RFP"
[1] "RFP"
[1] "RFP"
[ FAIL 0 | WARN 0 | SKIP 0 | PASS 405 ]
> 
> proc.time()
   user  system elapsed 
 71.156   3.751  74.809 

Example timings

ORFik.Rcheck/ORFik-Ex.timings

nameusersystemelapsed
DEG.analysis0.7000.0320.901
DEG.plot.static1.640.012.52
DTEG.analysis0.5490.0210.929
DTEG.plot0.5290.0440.928
ORFik.template.experiment0.5680.0511.004
ORFik.template.experiment.zf0.0840.0080.147
ORFikQC0.5280.0340.856
QCreport0.4870.0040.690
QCstats0.4870.0040.623
QCstats.plot0.4880.0040.559
RiboQC.plot0.4700.0050.485
STAR.align.folder000
STAR.align.single000
STAR.index0.0000.0000.001
STAR.install000
STAR.remove.crashed.genome000
TOP.Motif.ecdf0.0000.0010.001
artificial.orfs0.4370.0040.442
asTX0.8600.0070.871
assignTSSByCage0.0020.0000.002
bamVarName1.1010.0091.117
collapse.by.scores0.1230.0020.127
collapse.fastq0.0000.0000.001
collapseDuplicatedReads-GAlignmentPairs-method0.0720.0010.075
collapseDuplicatedReads-GAlignments-method0.0310.0010.032
collapseDuplicatedReads-GRanges-method0.0530.0040.082
collapseDuplicatedReads0.0290.0010.032
combn.pairs0.3370.0060.350
computeFeatures3.8620.0293.915
computeFeaturesCage000
config0.0000.0000.001
config.exper000
config.save000
convertLibs0.3000.0040.304
convertToOneBasedRanges0.0890.0010.089
convert_bam_to_ofst0.1380.0080.149
convert_to_bigWig0.9240.0110.939
convert_to_covRle0.6030.0080.614
convert_to_covRleList0.6580.0090.668
countOverlapsW0.0860.0010.088
countTable0.4220.0020.426
countTable_regions0.4570.0030.465
covRle0.0680.0010.076
covRleFromGR0.1600.0030.187
covRleList0.0230.0010.025
coverageHeatMap1.6480.0162.395
coveragePerTiling1.1180.0061.784
coverageScorings0.0100.0010.017
create.experiment0.5100.0040.792
defineTrailer0.2280.0010.339
design-experiment-method0.5580.0030.863
detectRibosomeShifts0.0020.0000.003
disengagementScore0.7330.0031.116
distToCds0.3070.0010.436
distToTSS0.2860.0020.396
download.SRA0.0000.0000.001
download.SRA.metadata0.2180.0231.929
entropy1.3550.0341.403
experiment-class0.5090.0040.516
export.bed120.0240.0010.025
export.bigWig0.0420.0010.042
export.fstwig0.0770.0010.077
export.ofst-GAlignmentPairs-method0.0980.0010.100
export.ofst-GAlignments-method0.0690.0010.070
export.ofst-GRanges-method0.0700.0020.072
export.ofst0.0730.0020.076
export.wiggle0.0320.0020.034
extendLeaders1.0240.0521.250
extendTrailers0.6570.0130.693
filepath0.3620.0030.367
filterTranscripts1.5950.0131.613
fimport0.3190.0190.339
findFa0.0050.0010.005
findMapORFs0.8120.0080.995
findORFs0.2610.0040.430
findORFsFasta0.1160.0040.203
findPeaksPerGene1.5800.0172.578
findUORFs0.0010.0000.002
find_url_ebi0.0400.0083.973
firstEndPerGroup0.0770.0010.078
firstExonPerGroup0.1130.0020.115
firstStartPerGroup0.0760.0010.117
flankPerGroup0.1250.0020.207
floss0.3820.0030.651
fpkm0.1580.0010.252
fractionLength0.0710.0010.106
fread.bed0.0400.0120.094
gcContent0.5880.0040.744
geneToSymbol0.0000.0000.001
getGenomeAndAnnotation000
get_bioproject_candidates000
get_genome_fasta0.0000.0010.001
get_genome_gtf000
get_noncoding_rna000
get_phix_genome000
get_silva_rRNA0.0010.0000.000
groupGRangesBy0.0830.0010.089
groupings0.0560.0000.061
heatMapRegion0.4250.0030.429
import.ofst0.9540.0151.006
initiationScore1.0180.0051.026
insideOutsideORF0.9490.0040.957
install.fastp000
install.sratoolkit0.0000.0010.000
isInFrame0.3010.0020.508
isOverlapping0.3190.0020.554
kozakHeatmap0.0000.0010.001
kozakSequenceScore0.7330.0051.232
lastExonEndPerGroup0.0780.0010.123
lastExonPerGroup0.0890.0010.144
lastExonStartPerGroup0.0770.0010.122
libraryTypes0.5580.0040.893
list.experiments0.3130.0020.515
list.genomes0.0010.0010.002
loadRegion0.8260.0191.376
loadRegions1.0710.0191.773
loadTranscriptType0.0000.0000.001
loadTxdb0.1960.0080.328
longestORFs0.1760.0010.289
makeORFNames0.1090.0010.186
makeSummarizedExperimentFromBam0.5010.0030.826
makeTxdbFromGenome0.0000.0000.005
mergeFastq0.0000.0010.002
mergeLibs0.4670.0030.735
metaWindow0.2680.0010.423
numExonsPerGroup0.0550.0000.084
optimizedTranscriptLengths0.9040.0121.002
orfFrameDistributions2.8270.5453.350
orfScore0.7180.0870.807
organism-experiment-method0.3690.2050.730
outputLibs1.3060.6531.276
pSitePlot0.3290.0400.372
pcaExperiment0.9980.0771.077
pmapFromTranscriptF0.0890.0020.091
pmapToTranscriptF0.6650.0130.679
rankOrder0.0600.0020.062
read.experiment0.3130.0050.319
readBam0.0960.0070.102
readWidths0.010.000.01
reassignTSSbyCage0.5090.0100.522
reassignTxDbByCage0.0000.0000.001
reduceKeepAttr0.1260.0010.128
regionPerReadLength0.3800.3081.058
remove.experiments0.5650.2930.435
ribo_fft2.3490.1182.475
ribo_fft_plot2.0700.0262.101
ribosomeReleaseScore0.1570.0020.159
ribosomeStallingScore0.2290.0010.230
save.experiment0.2880.0020.290
scaledWindowPositions0.2860.0030.290
seqnamesPerGroup0.0540.0010.055
shiftFootprints0.0020.0000.002
shiftFootprintsByExperiment0.9420.0324.586
shiftPlots2.9810.8390.152
shifts.load0.3610.0570.420
simpleLibs0.3010.0240.326
sortPerGroup0.1970.0190.216
startCodons0.4180.0310.449
startDefinition0.0000.0000.001
startRegion0.4460.0100.455
startSites0.2170.0020.218
stopCodons0.4640.0050.470
stopDefinition0.0010.0000.001
stopRegion0.5350.0030.541
stopSites0.2510.0010.253
strandBool0.0100.0010.011
strandPerGroup0.0520.0010.053
subsetToFrame0.0110.0010.011
te.plot000
te.table0.3200.0040.323
te_rna.plot0.3280.0040.333
tile10.1650.0020.167
topMotif0.0000.0000.001
transcriptWindow0.8840.0160.903
translationalEff0.1240.0010.125
trimming.table000
txNames0.0360.0000.037
txNamesToGeneNames0.8280.0400.874
uORFSearchSpace0.4580.0070.466
uniqueGroups0.1090.0020.111
uniqueOrder0.1770.0060.184
unlistGrl0.0350.0010.036
widthPerGroup0.0400.0010.042
windowCoveragePlot0.5110.0200.532
windowPerGroup0.2940.0020.296
windowPerReadLength0.7590.0040.765