Back to Multiple platform build/check report for BioC 3.16:   simplified   long
ABCDEFGHIJKLMNOPQR[S]TUVWXYZ

This page was generated on 2023-02-03 11:05:16 -0500 (Fri, 03 Feb 2023).

HostnameOSArch (*)R versionInstalled pkgs
nebbiolo2Linux (Ubuntu 20.04.5 LTS)x86_644.2.2 (2022-10-31) -- "Innocent and Trusting" 4511
palomino4Windows Server 2022 Datacenterx644.2.2 (2022-10-31 ucrt) -- "Innocent and Trusting" 4289
lconwaymacOS 12.5.1 Montereyx86_644.2.2 (2022-10-31) -- "Innocent and Trusting" 4318
Click on any hostname to see more info about the system (e.g. compilers)      (*) as reported by 'uname -p', except on Windows and Mac OS X

All results for package SeqVarTools


To the developers/maintainers of the SeqVarTools package:
- Please allow up to 24 hours (and sometimes 48 hours) for your latest push to git@git.bioconductor.org:packages/SeqVarTools.git to
reflect on this report. See How and When does the builder pull? When will my changes propagate? for more information.
- Make sure to use the following settings in order to reproduce any error or warning you see on this page.

raw results

Package 1852/2183HostnameOS / ArchINSTALLBUILDCHECKBUILD BIN
SeqVarTools 1.36.0  (landing page)
Stephanie M. Gogarten
Snapshot Date: 2023-02-02 14:00:04 -0500 (Thu, 02 Feb 2023)
git_url: https://git.bioconductor.org/packages/SeqVarTools
git_branch: RELEASE_3_16
git_last_commit: be0bdfb
git_last_commit_date: 2022-11-01 11:08:33 -0500 (Tue, 01 Nov 2022)
nebbiolo2Linux (Ubuntu 20.04.5 LTS) / x86_64  OK    OK    OK  UNNEEDED, same version is already published
palomino4Windows Server 2022 Datacenter / x64  OK    OK    OK    OK  UNNEEDED, same version is already published
lconwaymacOS 12.5.1 Monterey / x86_64  OK    OK    OK    OK  UNNEEDED, same version is already published

Results for Bioconductor software packages that depend directly on package SeqVarTools

QUICK STATSOS / ArchINSTALLBUILDCHECKBUILD BIN
nebbiolo2Linux (Ubuntu 20.04.5 LTS) / x86_64
002
002
0011
palomino4Windows Server 2022 Datacenter / x64
002
002
0011
002
lconwaymacOS 12.5.1 Monterey / x86_64
002
002
0011
002
Package 1/2HostnameOS / ArchINSTALLBUILDCHECKBUILD BIN
GENESIS 2.28.0  (landing page)
Stephanie M. Gogarten
git_last_commit: 5ed68a0
git_last_commit_date: 2022-11-01 11:11:18 -0500
nebbiolo2Linux (Ubuntu 20.04.5 LTS) / x86_64  OK    OK    OK  UNNEEDED, same version is already published
palomino4Windows Server 2022 Datacenter / x64  OK    OK    OK    OK  UNNEEDED, same version is already published
lconwaymacOS 12.5.1 Monterey / x86_64  OK    OK    OK    OK  UNNEEDED, same version is already published
Package 2/2HostnameOS / ArchINSTALLBUILDCHECKBUILD BIN
VariantExperiment 1.12.0  (landing page)
Qian Liu
git_last_commit: 94a91ff
git_last_commit_date: 2022-11-01 11:20:21 -0500
nebbiolo2Linux (Ubuntu 20.04.5 LTS) / x86_64  OK    OK    WARNINGS  UNNEEDED, same version is already published
palomino4Windows Server 2022 Datacenter / x64  OK    OK    WARNINGS    OK  UNNEEDED, same version is already published
lconwaymacOS 12.5.1 Monterey / x86_64  OK    OK    WARNINGS    OK  UNNEEDED, same version is already published