Back to Multiple platform build/check report for BioC 3.16 |
|
This page was generated on 2022-08-06 11:05:50 -0400 (Sat, 06 Aug 2022).
Hostname | OS | Arch (*) | R version | Installed pkgs |
---|---|---|---|---|
nebbiolo2 | Linux (Ubuntu 20.04.4 LTS) | x86_64 | 4.2.1 (2022-06-23) -- "Funny-Looking Kid" | 4371 |
palomino4 | Windows Server 2022 Datacenter | x64 | 4.2.1 (2022-06-23 ucrt) -- "Funny-Looking Kid" | 4155 |
lconway | macOS 12.2.1 Monterey | x86_64 | 4.2.1 Patched (2022-07-09 r82577) -- "Funny-Looking Kid" | 4155 |
Click on any hostname to see more info about the system (e.g. compilers) (*) as reported by 'uname -p', except on Windows and Mac OS X |
To the developers/maintainers of the YAPSA package: - Please allow up to 24 hours (and sometimes 48 hours) for your latest push to git@git.bioconductor.org:packages/YAPSA.git to reflect on this report. See How and When does the builder pull? When will my changes propagate? for more information. - Make sure to use the following settings in order to reproduce any error or warning you see on this page. |
Package 2132/2137 | Hostname | OS / Arch | INSTALL | BUILD | CHECK | BUILD BIN | ||||||||
YAPSA 1.23.0 (landing page) Daniel Huebschmann
| nebbiolo2 | Linux (Ubuntu 20.04.4 LTS) / x86_64 | OK | OK | WARNINGS | ![]() | ||||||||
palomino4 | Windows Server 2022 Datacenter / x64 | OK | OK | WARNINGS | NA | |||||||||
lconway | macOS 12.2.1 Monterey / x86_64 | OK | OK | WARNINGS | OK | ![]() | ||||||||
Package: YAPSA |
Version: 1.23.0 |
Command: /home/biocbuild/bbs-3.16-bioc/R/bin/R CMD INSTALL YAPSA |
StartedAt: 2022-08-05 15:45:39 -0400 (Fri, 05 Aug 2022) |
EndedAt: 2022-08-05 15:46:37 -0400 (Fri, 05 Aug 2022) |
EllapsedTime: 58.2 seconds |
RetCode: 0 |
Status: OK |
############################################################################## ############################################################################## ### ### Running command: ### ### /home/biocbuild/bbs-3.16-bioc/R/bin/R CMD INSTALL YAPSA ### ############################################################################## ############################################################################## * installing to library ‘/home/biocbuild/bbs-3.16-bioc/R/library’ * installing *source* package ‘YAPSA’ ... ** using staged installation ** R ** data ** inst ** byte-compile and prepare package for lazy loading Found more than one class "atomicVector" in cache; using the first, from namespace 'Matrix' Also defined by ‘Rmpfr’ Found more than one class "atomicVector" in cache; using the first, from namespace 'Matrix' Also defined by ‘Rmpfr’ Found more than one class "atomicVector" in cache; using the first, from namespace 'Matrix' Also defined by ‘Rmpfr’ Found more than one class "atomicVector" in cache; using the first, from namespace 'Matrix' Also defined by ‘Rmpfr’ Found more than one class "atomicVector" in cache; using the first, from namespace 'Matrix' Also defined by ‘Rmpfr’ Found more than one class "atomicVector" in cache; using the first, from namespace 'Matrix' Also defined by ‘Rmpfr’ Found more than one class "atomicVector" in cache; using the first, from namespace 'Matrix' Also defined by ‘Rmpfr’ Found more than one class "atomicVector" in cache; using the first, from namespace 'Matrix' Also defined by ‘Rmpfr’ Found more than one class "atomicVector" in cache; using the first, from namespace 'Matrix' Also defined by ‘Rmpfr’ Found more than one class "atomicVector" in cache; using the first, from namespace 'Matrix' Also defined by ‘Rmpfr’ Found more than one class "atomicVector" in cache; using the first, from namespace 'Matrix' Also defined by ‘Rmpfr’ Found more than one class "atomicVector" in cache; using the first, from namespace 'Matrix' Also defined by ‘Rmpfr’ Warning: replacing previous import ‘GenomicRanges::subtract’ by ‘magrittr::subtract’ when loading ‘YAPSA’ ** help *** installing help indices ** building package indices ** installing vignettes ** testing if installed package can be loaded from temporary location Found more than one class "atomicVector" in cache; using the first, from namespace 'Matrix' Also defined by ‘Rmpfr’ Found more than one class "atomicVector" in cache; using the first, from namespace 'Matrix' Also defined by ‘Rmpfr’ Found more than one class "atomicVector" in cache; using the first, from namespace 'Matrix' Also defined by ‘Rmpfr’ Found more than one class "atomicVector" in cache; using the first, from namespace 'Matrix' Also defined by ‘Rmpfr’ Found more than one class "atomicVector" in cache; using the first, from namespace 'Matrix' Also defined by ‘Rmpfr’ Found more than one class "atomicVector" in cache; using the first, from namespace 'Matrix' Also defined by ‘Rmpfr’ Found more than one class "atomicVector" in cache; using the first, from namespace 'Matrix' Also defined by ‘Rmpfr’ Found more than one class "atomicVector" in cache; using the first, from namespace 'Matrix' Also defined by ‘Rmpfr’ Found more than one class "atomicVector" in cache; using the first, from namespace 'Matrix' Also defined by ‘Rmpfr’ Found more than one class "atomicVector" in cache; using the first, from namespace 'Matrix' Also defined by ‘Rmpfr’ Found more than one class "atomicVector" in cache; using the first, from namespace 'Matrix' Also defined by ‘Rmpfr’ Found more than one class "atomicVector" in cache; using the first, from namespace 'Matrix' Also defined by ‘Rmpfr’ Warning: replacing previous import ‘GenomicRanges::subtract’ by ‘magrittr::subtract’ when loading ‘YAPSA’ ** testing if installed package can be loaded from final location Found more than one class "atomicVector" in cache; using the first, from namespace 'Matrix' Also defined by ‘Rmpfr’ Found more than one class "atomicVector" in cache; using the first, from namespace 'Matrix' Also defined by ‘Rmpfr’ Found more than one class "atomicVector" in cache; using the first, from namespace 'Matrix' Also defined by ‘Rmpfr’ Found more than one class "atomicVector" in cache; using the first, from namespace 'Matrix' Also defined by ‘Rmpfr’ Found more than one class "atomicVector" in cache; using the first, from namespace 'Matrix' Also defined by ‘Rmpfr’ Found more than one class "atomicVector" in cache; using the first, from namespace 'Matrix' Also defined by ‘Rmpfr’ Found more than one class "atomicVector" in cache; using the first, from namespace 'Matrix' Also defined by ‘Rmpfr’ Found more than one class "atomicVector" in cache; using the first, from namespace 'Matrix' Also defined by ‘Rmpfr’ Found more than one class "atomicVector" in cache; using the first, from namespace 'Matrix' Also defined by ‘Rmpfr’ Found more than one class "atomicVector" in cache; using the first, from namespace 'Matrix' Also defined by ‘Rmpfr’ Found more than one class "atomicVector" in cache; using the first, from namespace 'Matrix' Also defined by ‘Rmpfr’ Found more than one class "atomicVector" in cache; using the first, from namespace 'Matrix' Also defined by ‘Rmpfr’ Warning: replacing previous import ‘GenomicRanges::subtract’ by ‘magrittr::subtract’ when loading ‘YAPSA’ ** testing if installed package keeps a record of temporary installation path * DONE (YAPSA)