Back to Multiple platform build/check report for BioC 3.16:   simplified   long
ABCDEFGHIJKLMNOPQRS[T]UVWXYZ

This page was generated on 2023-03-20 11:05:52 -0400 (Mon, 20 Mar 2023).

HostnameOSArch (*)R versionInstalled pkgs
nebbiolo2Linux (Ubuntu 20.04.5 LTS)x86_644.2.2 (2022-10-31) -- "Innocent and Trusting" 4516
palomino4Windows Server 2022 Datacenterx644.2.2 (2022-10-31 ucrt) -- "Innocent and Trusting" 4295
lconwaymacOS 12.5.1 Montereyx86_644.2.2 (2022-10-31) -- "Innocent and Trusting" 4324
Click on any hostname to see more info about the system (e.g. compilers)      (*) as reported by 'uname -p', except on Windows and Mac OS X

INSTALL results for TraRe on palomino4


To the developers/maintainers of the TraRe package:
- Please allow up to 24 hours (and sometimes 48 hours) for your latest push to git@git.bioconductor.org:packages/TraRe.git to
reflect on this report. See How and When does the builder pull? When will my changes propagate? for more information.
- Make sure to use the following settings in order to reproduce any error or warning you see on this page.

raw results

Package 2083/2183HostnameOS / ArchINSTALLBUILDCHECKBUILD BIN
TraRe 1.6.5  (landing page)
Jesus de la Fuente Cedeño
Snapshot Date: 2023-03-17 14:00:04 -0400 (Fri, 17 Mar 2023)
git_url: https://git.bioconductor.org/packages/TraRe
git_branch: RELEASE_3_16
git_last_commit: ce4aed4
git_last_commit_date: 2022-12-14 00:32:12 -0400 (Wed, 14 Dec 2022)
nebbiolo2Linux (Ubuntu 20.04.5 LTS) / x86_64  ERROR    ERROR  skipped
palomino4Windows Server 2022 Datacenter / x64  OK    ERROR  skippedskipped
lconwaymacOS 12.5.1 Monterey / x86_64  OK    ERROR  skippedskipped

Summary

Package: TraRe
Version: 1.6.5
Command: F:\biocbuild\bbs-3.16-bioc\R\bin\R.exe CMD INSTALL TraRe
StartedAt: 2023-03-17 16:00:41 -0400 (Fri, 17 Mar 2023)
EndedAt: 2023-03-17 16:00:54 -0400 (Fri, 17 Mar 2023)
EllapsedTime: 13.4 seconds
RetCode: 0
Status:   OK  

Command output

##############################################################################
##############################################################################
###
### Running command:
###
###   F:\biocbuild\bbs-3.16-bioc\R\bin\R.exe CMD INSTALL TraRe
###
##############################################################################
##############################################################################


* installing to library 'F:/biocbuild/bbs-3.16-bioc/R/library'
* installing *source* package 'TraRe' ...
** using staged installation
** libs
make: Nothing to be done for 'all'.
installing to F:/biocbuild/bbs-3.16-bioc/R/library/00LOCK-TraRe/00new/TraRe/libs/x64
** R
** inst
** byte-compile and prepare package for lazy loading
** help
*** installing help indices
** building package indices
** installing vignettes
** testing if installed package can be loaded from temporary location
Warning: Package 'TraRe' is deprecated and will be removed from Bioconductor
  version 3.17
** testing if installed package can be loaded from final location
Warning: Package 'TraRe' is deprecated and will be removed from Bioconductor
  version 3.17
** testing if installed package keeps a record of temporary installation path
* DONE (TraRe)