Back to Multiple platform build/check report for BioC 3.16
[A]BCDEFGHIJKLMNOPQRSTUVWXYZ

This page was generated on 2022-08-12 11:05:47 -0400 (Fri, 12 Aug 2022).

HostnameOSArch (*)R versionInstalled pkgs
nebbiolo2Linux (Ubuntu 20.04.4 LTS)x86_644.2.1 (2022-06-23) -- "Funny-Looking Kid" 4375
palomino4Windows Server 2022 Datacenterx644.2.1 (2022-06-23 ucrt) -- "Funny-Looking Kid" 4159
lconwaymacOS 12.2.1 Montereyx86_644.2.1 Patched (2022-07-09 r82577) -- "Funny-Looking Kid" 4167
Click on any hostname to see more info about the system (e.g. compilers)      (*) as reported by 'uname -p', except on Windows and Mac OS X

INSTALL results for attract on palomino4


To the developers/maintainers of the attract package:
- Please allow up to 24 hours (and sometimes 48 hours) for your latest push to git@git.bioconductor.org:packages/attract.git to
reflect on this report. See How and When does the builder pull? When will my changes propagate? for more information.
- Make sure to use the following settings in order to reproduce any error or warning you see on this page.

raw results

Package 96/2139HostnameOS / ArchINSTALLBUILDCHECKBUILD BIN
attract 1.49.0  (landing page)
Samuel Zimmerman
Snapshot Date: 2022-08-11 14:00:04 -0400 (Thu, 11 Aug 2022)
git_url: https://git.bioconductor.org/packages/attract
git_branch: master
git_last_commit: 01ae39e
git_last_commit_date: 2022-04-26 11:05:09 -0400 (Tue, 26 Apr 2022)
nebbiolo2Linux (Ubuntu 20.04.4 LTS) / x86_64  OK    OK    OK  UNNEEDED, same version is already published
palomino4Windows Server 2022 Datacenter / x64  OK    OK    OK    OK  UNNEEDED, same version is already published
lconwaymacOS 12.2.1 Monterey / x86_64  OK    OK    OK    OK  UNNEEDED, same version is already published

Summary

Package: attract
Version: 1.49.0
Command: C:\cygwin\bin\curl.exe -O http://155.52.207.166/BBS/3.16/bioc/src/contrib/attract_1.49.0.tar.gz && rm -rf attract.buildbin-libdir && mkdir attract.buildbin-libdir && F:\biocbuild\bbs-3.16-bioc\R\bin\R.exe CMD INSTALL --merge-multiarch --build --library=attract.buildbin-libdir attract_1.49.0.tar.gz && F:\biocbuild\bbs-3.16-bioc\R\bin\R.exe CMD INSTALL attract_1.49.0.zip && rm attract_1.49.0.tar.gz attract_1.49.0.zip
StartedAt: 2022-08-11 16:00:19 -0400 (Thu, 11 Aug 2022)
EndedAt: 2022-08-11 16:00:50 -0400 (Thu, 11 Aug 2022)
EllapsedTime: 31.2 seconds
RetCode: 0
Status:   OK  

Command output

##############################################################################
##############################################################################
###
### Running command:
###
###   C:\cygwin\bin\curl.exe -O http://155.52.207.166/BBS/3.16/bioc/src/contrib/attract_1.49.0.tar.gz && rm -rf attract.buildbin-libdir && mkdir attract.buildbin-libdir && F:\biocbuild\bbs-3.16-bioc\R\bin\R.exe CMD INSTALL --merge-multiarch --build --library=attract.buildbin-libdir attract_1.49.0.tar.gz && F:\biocbuild\bbs-3.16-bioc\R\bin\R.exe CMD INSTALL attract_1.49.0.zip && rm attract_1.49.0.tar.gz attract_1.49.0.zip
###
##############################################################################
##############################################################################


  % Total    % Received % Xferd  Average Speed   Time    Time     Time  Current
                                 Dload  Upload   Total   Spent    Left  Speed

  0     0    0     0    0     0      0      0 --:--:-- --:--:-- --:--:--     0
 39 4204k   39 1669k    0     0  4405k      0 --:--:-- --:--:-- --:--:-- 4404k
100 4204k  100 4204k    0     0  4770k      0 --:--:-- --:--:-- --:--:-- 4772k
only one architecture so ignoring '--merge-multiarch'
* installing *source* package 'attract' ...
** using staged installation
** R
** data
** inst
** byte-compile and prepare package for lazy loading
** help
*** installing help indices
** building package indices
** installing vignettes
** testing if installed package can be loaded from temporary location
** testing if installed package can be loaded from final location
** testing if installed package keeps a record of temporary installation path
* MD5 sums
packaged installation of 'attract' as attract_1.49.0.zip
* DONE (attract)
* installing to library 'F:/biocbuild/bbs-3.16-bioc/R/library'
package 'attract' successfully unpacked and MD5 sums checked