Back to Multiple platform build/check report for BioC 3.16:   simplified   long
ABCDEFGHIJKLM[N]OPQRSTUVWXYZ

This page was generated on 2023-03-29 11:05:42 -0400 (Wed, 29 Mar 2023).

HostnameOSArch (*)R versionInstalled pkgs
nebbiolo2Linux (Ubuntu 20.04.5 LTS)x86_644.2.3 (2023-03-15) -- "Shortstop Beagle" 4482
palomino4Windows Server 2022 Datacenterx644.2.3 (2023-03-15 ucrt) -- "Shortstop Beagle" 4278
lconwaymacOS 12.5.1 Montereyx86_644.2.3 (2023-03-15) -- "Shortstop Beagle" 4306
Click on any hostname to see more info about the system (e.g. compilers)      (*) as reported by 'uname -p', except on Windows and Mac OS X

BUILD BIN results for NBAMSeq on palomino4


To the developers/maintainers of the NBAMSeq package:
- Please allow up to 24 hours (and sometimes 48 hours) for your latest push to git@git.bioconductor.org:packages/NBAMSeq.git to
reflect on this report. See How and When does the builder pull? When will my changes propagate? for more information.
- Make sure to use the following settings in order to reproduce any error or warning you see on this page.

raw results

Package 1327/2183HostnameOS / ArchINSTALLBUILDCHECKBUILD BIN
NBAMSeq 1.14.0  (landing page)
Xu Ren
Snapshot Date: 2023-03-27 14:00:04 -0400 (Mon, 27 Mar 2023)
git_url: https://git.bioconductor.org/packages/NBAMSeq
git_branch: RELEASE_3_16
git_last_commit: 6d83c7e
git_last_commit_date: 2022-11-01 11:19:38 -0400 (Tue, 01 Nov 2022)
nebbiolo2Linux (Ubuntu 20.04.5 LTS) / x86_64  OK    OK    OK  UNNEEDED, same version is already published
palomino4Windows Server 2022 Datacenter / x64  OK    OK    OK    OK  UNNEEDED, same version is already published
lconwaymacOS 12.5.1 Monterey / x86_64  OK    OK    OK    OK  UNNEEDED, same version is already published

Summary

Package: NBAMSeq
Version: 1.14.0
Command: rm -rf NBAMSeq.buildbin-libdir && mkdir NBAMSeq.buildbin-libdir && F:\biocbuild\bbs-3.16-bioc\R\bin\R.exe CMD INSTALL --build --library=NBAMSeq.buildbin-libdir NBAMSeq_1.14.0.tar.gz
StartedAt: 2023-03-28 08:16:54 -0400 (Tue, 28 Mar 2023)
EndedAt: 2023-03-28 08:17:35 -0400 (Tue, 28 Mar 2023)
EllapsedTime: 40.8 seconds
RetCode: 0
Status:   OK  
PackageFile: NBAMSeq_1.14.0.zip
PackageFileSize: 297.4 KiB

Command output

##############################################################################
##############################################################################
###
### Running command:
###
###   rm -rf NBAMSeq.buildbin-libdir && mkdir NBAMSeq.buildbin-libdir && F:\biocbuild\bbs-3.16-bioc\R\bin\R.exe CMD INSTALL --build --library=NBAMSeq.buildbin-libdir NBAMSeq_1.14.0.tar.gz
###
##############################################################################
##############################################################################


* installing *source* package 'NBAMSeq' ...
** using staged installation
** R
** inst
** byte-compile and prepare package for lazy loading
** help
*** installing help indices
** building package indices
** installing vignettes
** testing if installed package can be loaded from temporary location
** testing if installed package can be loaded from final location
** testing if installed package keeps a record of temporary installation path
* MD5 sums
packaged installation of 'NBAMSeq' as NBAMSeq_1.14.0.zip
* DONE (NBAMSeq)