Back to Multiple platform build/check report for BioC 3.16
ABCDEFGHIJKLM[N]OPQRSTUVWXYZ

This page was generated on 2022-08-12 11:05:17 -0400 (Fri, 12 Aug 2022).

HostnameOSArch (*)R versionInstalled pkgs
nebbiolo2Linux (Ubuntu 20.04.4 LTS)x86_644.2.1 (2022-06-23) -- "Funny-Looking Kid" 4375
palomino4Windows Server 2022 Datacenterx644.2.1 (2022-06-23 ucrt) -- "Funny-Looking Kid" 4159
lconwaymacOS 12.2.1 Montereyx86_644.2.1 Patched (2022-07-09 r82577) -- "Funny-Looking Kid" 4167
Click on any hostname to see more info about the system (e.g. compilers)      (*) as reported by 'uname -p', except on Windows and Mac OS X

CHECK results for NoRCE on nebbiolo2


To the developers/maintainers of the NoRCE package:
- Please allow up to 24 hours (and sometimes 48 hours) for your latest push to git@git.bioconductor.org:packages/NoRCE.git to
reflect on this report. See How and When does the builder pull? When will my changes propagate? for more information.
- Make sure to use the following settings in order to reproduce any error or warning you see on this page.

raw results

Package 1332/2139HostnameOS / ArchINSTALLBUILDCHECKBUILD BIN
NoRCE 1.9.0  (landing page)
Gulden Olgun
Snapshot Date: 2022-08-11 14:00:04 -0400 (Thu, 11 Aug 2022)
git_url: https://git.bioconductor.org/packages/NoRCE
git_branch: master
git_last_commit: 982c70b
git_last_commit_date: 2022-04-26 12:03:27 -0400 (Tue, 26 Apr 2022)
nebbiolo2Linux (Ubuntu 20.04.4 LTS) / x86_64  OK    OK    OK  UNNEEDED, same version is already published
palomino4Windows Server 2022 Datacenter / x64  OK    OK    OK    OK  UNNEEDED, same version is already published
lconwaymacOS 12.2.1 Monterey / x86_64  OK    OK    OK    OK  UNNEEDED, same version is already published

Summary

Package: NoRCE
Version: 1.9.0
Command: /home/biocbuild/bbs-3.16-bioc/R/bin/R CMD check --install=check:NoRCE.install-out.txt --library=/home/biocbuild/bbs-3.16-bioc/R/library --no-vignettes --timings NoRCE_1.9.0.tar.gz
StartedAt: 2022-08-11 21:08:23 -0400 (Thu, 11 Aug 2022)
EndedAt: 2022-08-11 21:15:10 -0400 (Thu, 11 Aug 2022)
EllapsedTime: 407.5 seconds
RetCode: 0
Status:   OK  
CheckDir: NoRCE.Rcheck
Warnings: 0

Command output

##############################################################################
##############################################################################
###
### Running command:
###
###   /home/biocbuild/bbs-3.16-bioc/R/bin/R CMD check --install=check:NoRCE.install-out.txt --library=/home/biocbuild/bbs-3.16-bioc/R/library --no-vignettes --timings NoRCE_1.9.0.tar.gz
###
##############################################################################
##############################################################################


* using log directory ‘/home/biocbuild/bbs-3.16-bioc/meat/NoRCE.Rcheck’
* using R version 4.2.1 (2022-06-23)
* using platform: x86_64-pc-linux-gnu (64-bit)
* using session charset: UTF-8
* using option ‘--no-vignettes’
* checking for file ‘NoRCE/DESCRIPTION’ ... OK
* checking extension type ... Package
* this is package ‘NoRCE’ version ‘1.9.0’
* package encoding: UTF-8
* checking package namespace information ... OK
* checking package dependencies ... OK
* checking if this is a source package ... OK
* checking if there is a namespace ... OK
* checking for hidden files and directories ... OK
* checking for portable file names ... OK
* checking for sufficient/correct file permissions ... OK
* checking whether package ‘NoRCE’ can be installed ... OK
* checking installed package size ... OK
* checking package directory ... OK
* checking ‘build’ directory ... OK
* checking DESCRIPTION meta-information ... OK
* checking top-level files ... OK
* checking for left-over files ... OK
* checking index information ... OK
* checking package subdirectories ... OK
* checking R files for non-ASCII characters ... OK
* checking R files for syntax errors ... OK
* checking whether the package can be loaded ... OK
* checking whether the package can be loaded with stated dependencies ... OK
* checking whether the package can be unloaded cleanly ... OK
* checking whether the namespace can be loaded with stated dependencies ... OK
* checking whether the namespace can be unloaded cleanly ... OK
* checking dependencies in R code ... OK
* checking S3 generic/method consistency ... OK
* checking replacement functions ... OK
* checking foreign function calls ... OK
* checking R code for possible problems ... OK
* checking Rd files ... OK
* checking Rd metadata ... OK
* checking Rd cross-references ... OK
* checking for missing documentation entries ... OK
* checking for code/documentation mismatches ... OK
* checking Rd \usage sections ... OK
* checking Rd contents ... OK
* checking for unstated dependencies in examples ... OK
* checking contents of ‘data’ directory ... OK
* checking data for non-ASCII characters ... OK
* checking LazyData ... OK
* checking data for ASCII and uncompressed saves ... OK
* checking files in ‘vignettes’ ... OK
* checking examples ... OK
Examples with CPU (user + system) or elapsed time > 5s
                      user system elapsed
KeggEnrichment      15.410  2.656  56.202
genePathwayEnricher 12.759  0.256  16.337
assembly            10.801  1.200  49.192
reactomeEnrichment   5.594  0.695   6.290
calculateCorr        5.211  0.247   5.458
mirnaGOEnricher      4.914  0.204   5.118
* checking for unstated dependencies in ‘tests’ ... OK
* checking tests ...
  Running ‘testthat.R’
 OK
* checking for unstated dependencies in vignettes ... OK
* checking package vignettes in ‘inst/doc’ ... OK
* checking running R code from vignettes ... SKIPPED
* checking re-building of vignette outputs ... SKIPPED
* checking PDF version of manual ... OK
* DONE

Status: OK


Installation output

NoRCE.Rcheck/00install.out

##############################################################################
##############################################################################
###
### Running command:
###
###   /home/biocbuild/bbs-3.16-bioc/R/bin/R CMD INSTALL NoRCE
###
##############################################################################
##############################################################################


* installing to library ‘/home/biocbuild/bbs-3.16-bioc/R/library’
* installing *source* package ‘NoRCE’ ...
** using staged installation
** R
** data
*** moving datasets to lazyload DB
** inst
** byte-compile and prepare package for lazy loading
** help
*** installing help indices
** building package indices
** installing vignettes
** testing if installed package can be loaded from temporary location
** testing if installed package can be loaded from final location
** testing if installed package keeps a record of temporary installation path
* DONE (NoRCE)

Tests output

NoRCE.Rcheck/tests/testthat.Rout


R version 4.2.1 (2022-06-23) -- "Funny-Looking Kid"
Copyright (C) 2022 The R Foundation for Statistical Computing
Platform: x86_64-pc-linux-gnu (64-bit)

R is free software and comes with ABSOLUTELY NO WARRANTY.
You are welcome to redistribute it under certain conditions.
Type 'license()' or 'licence()' for distribution details.

R is a collaborative project with many contributors.
Type 'contributors()' for more information and
'citation()' on how to cite R or R packages in publications.

Type 'demo()' for some demos, 'help()' for on-line help, or
'help.start()' for an HTML browser interface to help.
Type 'q()' to quit R.

> library(testthat)
> library(NoRCE)

> 
> test_check("NoRCE")
[ FAIL 0 | WARN 0 | SKIP 0 | PASS 1 ]
> 
> proc.time()
   user  system elapsed 
 11.136   0.663  11.784 

Example timings

NoRCE.Rcheck/NoRCE-Ex.timings

nameusersystemelapsed
KeggEnrichment15.410 2.65656.202
assembly10.801 1.20049.192
brain_disorder_ncRNA0.0040.0000.004
brain_mirna0.0020.0000.001
breastmRNA0.0010.0000.001
calculateCorr5.2110.2475.458
convertGeneID0.3360.0080.344
extractBiotype0.1090.0040.114
filterBiotype0.060.000.06
geneGOEnricher3.9740.3364.311
genePathwayEnricher12.759 0.25616.337
geneRegionGOEnricher3.2200.1683.388
geneRegionPathwayEnricher0.5520.0160.772
getGoDag2.0710.0992.378
getKeggDiagram2.0070.0562.271
getNearToExon1.1780.0481.226
getNearToIntron1.3990.0201.419
getReactomeDiagram4.2720.1484.420
getTADOverlap0.0960.0000.096
getUCSC0.1330.0000.134
goEnrichment2.1720.1352.309
listTAD0.0040.0000.004
mirna0.0010.0000.001
mirnaGOEnricher4.9140.2045.118
mirnaPathwayEnricher1.8720.0202.108
mirnaRegionGOEnricher3.7380.0843.822
mirnaRegionPathwayEnricher0.4570.0240.689
mrna0.0010.0000.001
ncRegion000
predictmiTargets1.0790.0551.509
reactomeEnrichment5.5940.6956.290
setParameters000
tad_dmel0.0010.0000.001
tad_hg190.0000.0000.001
tad_hg380.0000.0000.001
tad_mm100.0000.0000.001
writeEnrichment3.9710.2714.243