Back to Multiple platform build/check report for BioC 3.16
ABCDEFGH[I]JKLMNOPQRSTUVWXYZ

This page was generated on 2022-08-11 11:06:50 -0400 (Thu, 11 Aug 2022).

HostnameOSArch (*)R versionInstalled pkgs
nebbiolo2Linux (Ubuntu 20.04.4 LTS)x86_644.2.1 (2022-06-23) -- "Funny-Looking Kid" 4375
palomino4Windows Server 2022 Datacenterx644.2.1 (2022-06-23 ucrt) -- "Funny-Looking Kid" 4159
lconwaymacOS 12.2.1 Montereyx86_644.2.1 Patched (2022-07-09 r82577) -- "Funny-Looking Kid" 4165
Click on any hostname to see more info about the system (e.g. compilers)      (*) as reported by 'uname -p', except on Windows and Mac OS X

BUILD results for IsoCorrectoR on palomino4


To the developers/maintainers of the IsoCorrectoR package:
- Please allow up to 24 hours (and sometimes 48 hours) for your latest push to git@git.bioconductor.org:packages/IsoCorrectoR.git to
reflect on this report. See How and When does the builder pull? When will my changes propagate? for more information.
- Make sure to use the following settings in order to reproduce any error or warning you see on this page.

raw results

Package 984/2139HostnameOS / ArchINSTALLBUILDCHECKBUILD BIN
IsoCorrectoR 1.15.0  (landing page)
Christian Kohler
Snapshot Date: 2022-08-10 14:00:02 -0400 (Wed, 10 Aug 2022)
git_url: https://git.bioconductor.org/packages/IsoCorrectoR
git_branch: master
git_last_commit: 7e64d89
git_last_commit_date: 2022-04-26 11:51:10 -0400 (Tue, 26 Apr 2022)
nebbiolo2Linux (Ubuntu 20.04.4 LTS) / x86_64  OK    OK    OK  UNNEEDED, same version is already published
palomino4Windows Server 2022 Datacenter / x64  OK    OK    OK    OK  UNNEEDED, same version is already published
lconwaymacOS 12.2.1 Monterey / x86_64  OK    OK    OK    OK  UNNEEDED, same version is already published

Summary

Package: IsoCorrectoR
Version: 1.15.0
Command: chmod a+r IsoCorrectoR -R && F:\biocbuild\bbs-3.16-bioc\R\bin\R.exe CMD build --keep-empty-dirs --no-resave-data IsoCorrectoR
StartedAt: 2022-08-10 19:20:51 -0400 (Wed, 10 Aug 2022)
EndedAt: 2022-08-10 19:21:21 -0400 (Wed, 10 Aug 2022)
EllapsedTime: 30.3 seconds
RetCode: 0
Status:   OK  
PackageFile: IsoCorrectoR_1.15.0.tar.gz
PackageFileSize: 1.662 MiB

Command output

##############################################################################
##############################################################################
###
### Running command:
###
###   chmod a+r IsoCorrectoR -R && F:\biocbuild\bbs-3.16-bioc\R\bin\R.exe CMD build --keep-empty-dirs --no-resave-data IsoCorrectoR
###
##############################################################################
##############################################################################


* checking for file 'IsoCorrectoR/DESCRIPTION' ... OK
* preparing 'IsoCorrectoR':
* checking DESCRIPTION meta-information ... OK
* installing the package to build vignettes
* creating vignettes ... OK
* checking for LF line-endings in source and make files and shell scripts
* checking for empty or unneeded directories
* building 'IsoCorrectoR_1.15.0.tar.gz'