Back to Multiple platform build/check report for BioC 3.16:   simplified   long
ABCDEFGHIJKLMNOPQR[S]TUVWXYZ

This page was generated on 2023-03-27 11:05:45 -0400 (Mon, 27 Mar 2023).

HostnameOSArch (*)R versionInstalled pkgs
nebbiolo2Linux (Ubuntu 20.04.5 LTS)x86_644.2.3 (2023-03-15) -- "Shortstop Beagle" 4480
palomino4Windows Server 2022 Datacenterx644.2.3 (2023-03-15 ucrt) -- "Shortstop Beagle" 4276
lconwaymacOS 12.5.1 Montereyx86_644.2.3 (2023-03-15) -- "Shortstop Beagle" 4304
Click on any hostname to see more info about the system (e.g. compilers)      (*) as reported by 'uname -p', except on Windows and Mac OS X

INSTALL results for scPipe on palomino4


To the developers/maintainers of the scPipe package:
- Please allow up to 24 hours (and sometimes 48 hours) for your latest push to git@git.bioconductor.org:packages/scPipe.git to
reflect on this report. See How and When does the builder pull? When will my changes propagate? for more information.
- Make sure to use the following settings in order to reproduce any error or warning you see on this page.

raw results

Package 1815/2183HostnameOS / ArchINSTALLBUILDCHECKBUILD BIN
scPipe 1.20.6  (landing page)
Shian Su
Snapshot Date: 2023-03-24 14:00:04 -0400 (Fri, 24 Mar 2023)
git_url: https://git.bioconductor.org/packages/scPipe
git_branch: RELEASE_3_16
git_last_commit: defa6ff
git_last_commit_date: 2023-03-06 19:45:39 -0400 (Mon, 06 Mar 2023)
nebbiolo2Linux (Ubuntu 20.04.5 LTS) / x86_64  OK    OK    OK  UNNEEDED, same version is already published
palomino4Windows Server 2022 Datacenter / x64  OK    ERROR  skippedskipped
lconwaymacOS 12.5.1 Monterey / x86_64  OK    OK    OK    OK  UNNEEDED, same version is already published

Summary

Package: scPipe
Version: 1.20.6
Command: F:\biocbuild\bbs-3.16-bioc\R\bin\R.exe CMD INSTALL scPipe
StartedAt: 2023-03-24 16:25:00 -0400 (Fri, 24 Mar 2023)
EndedAt: 2023-03-24 16:28:22 -0400 (Fri, 24 Mar 2023)
EllapsedTime: 201.9 seconds
RetCode: 0
Status:   OK  

Command output

##############################################################################
##############################################################################
###
### Running command:
###
###   F:\biocbuild\bbs-3.16-bioc\R\bin\R.exe CMD INSTALL scPipe
###
##############################################################################
##############################################################################


* installing to library 'F:/biocbuild/bbs-3.16-bioc/R/library'
* installing *source* package 'scPipe' ...
** using staged installation
** libs
g++  -std=gnu++11 -I"F:/biocbuild/bbs-3.16-bioc/R/library/zlibbioc/include" -I"F:/biocbuild/bbs-3.16-bioc/R/include" -DNDEBUG -D_FILE_OFFSET_BITS=64 -I'F:/biocbuild/bbs-3.16-bioc/R/library/Rcpp/include' -I'F:/biocbuild/bbs-3.16-bioc/R/library/Rhtslib/include' -I'F:/biocbuild/bbs-3.16-bioc/R/library/zlibbioc/include' -I'F:/biocbuild/bbs-3.16-bioc/R/library/testthat/include'   -I"C:/rtools42/x86_64-w64-mingw32.static.posix/include"     -O2 -Wall  -mfpmath=sse -msse2 -mstackrealign  -c FragmentThread.cpp -o FragmentThread.o
g++  -std=gnu++11 -I"F:/biocbuild/bbs-3.16-bioc/R/library/zlibbioc/include" -I"F:/biocbuild/bbs-3.16-bioc/R/include" -DNDEBUG -D_FILE_OFFSET_BITS=64 -I'F:/biocbuild/bbs-3.16-bioc/R/library/Rcpp/include' -I'F:/biocbuild/bbs-3.16-bioc/R/library/Rhtslib/include' -I'F:/biocbuild/bbs-3.16-bioc/R/library/zlibbioc/include' -I'F:/biocbuild/bbs-3.16-bioc/R/library/testthat/include'   -I"C:/rtools42/x86_64-w64-mingw32.static.posix/include"     -O2 -Wall  -mfpmath=sse -msse2 -mstackrealign  -c FragmentUtils.cpp -o FragmentUtils.o
g++  -std=gnu++11 -I"F:/biocbuild/bbs-3.16-bioc/R/library/zlibbioc/include" -I"F:/biocbuild/bbs-3.16-bioc/R/include" -DNDEBUG -D_FILE_OFFSET_BITS=64 -I'F:/biocbuild/bbs-3.16-bioc/R/library/Rcpp/include' -I'F:/biocbuild/bbs-3.16-bioc/R/library/Rhtslib/include' -I'F:/biocbuild/bbs-3.16-bioc/R/library/zlibbioc/include' -I'F:/biocbuild/bbs-3.16-bioc/R/library/testthat/include'   -I"C:/rtools42/x86_64-w64-mingw32.static.posix/include"     -O2 -Wall  -mfpmath=sse -msse2 -mstackrealign  -c Gene.cpp -o Gene.o
g++  -std=gnu++11 -I"F:/biocbuild/bbs-3.16-bioc/R/library/zlibbioc/include" -I"F:/biocbuild/bbs-3.16-bioc/R/include" -DNDEBUG -D_FILE_OFFSET_BITS=64 -I'F:/biocbuild/bbs-3.16-bioc/R/library/Rcpp/include' -I'F:/biocbuild/bbs-3.16-bioc/R/library/Rhtslib/include' -I'F:/biocbuild/bbs-3.16-bioc/R/library/zlibbioc/include' -I'F:/biocbuild/bbs-3.16-bioc/R/library/testthat/include'   -I"C:/rtools42/x86_64-w64-mingw32.static.posix/include"     -O2 -Wall  -mfpmath=sse -msse2 -mstackrealign  -c Interval.cpp -o Interval.o
g++  -std=gnu++11 -I"F:/biocbuild/bbs-3.16-bioc/R/library/zlibbioc/include" -I"F:/biocbuild/bbs-3.16-bioc/R/include" -DNDEBUG -D_FILE_OFFSET_BITS=64 -I'F:/biocbuild/bbs-3.16-bioc/R/library/Rcpp/include' -I'F:/biocbuild/bbs-3.16-bioc/R/library/Rhtslib/include' -I'F:/biocbuild/bbs-3.16-bioc/R/library/zlibbioc/include' -I'F:/biocbuild/bbs-3.16-bioc/R/library/testthat/include'   -I"C:/rtools42/x86_64-w64-mingw32.static.posix/include"     -O2 -Wall  -mfpmath=sse -msse2 -mstackrealign  -c RcppExports.cpp -o RcppExports.o
g++  -std=gnu++11 -I"F:/biocbuild/bbs-3.16-bioc/R/library/zlibbioc/include" -I"F:/biocbuild/bbs-3.16-bioc/R/include" -DNDEBUG -D_FILE_OFFSET_BITS=64 -I'F:/biocbuild/bbs-3.16-bioc/R/library/Rcpp/include' -I'F:/biocbuild/bbs-3.16-bioc/R/library/Rhtslib/include' -I'F:/biocbuild/bbs-3.16-bioc/R/library/zlibbioc/include' -I'F:/biocbuild/bbs-3.16-bioc/R/library/testthat/include'   -I"C:/rtools42/x86_64-w64-mingw32.static.posix/include"     -O2 -Wall  -mfpmath=sse -msse2 -mstackrealign  -c ResizeArray.cpp -o ResizeArray.o
g++  -std=gnu++11 -I"F:/biocbuild/bbs-3.16-bioc/R/library/zlibbioc/include" -I"F:/biocbuild/bbs-3.16-bioc/R/include" -DNDEBUG -D_FILE_OFFSET_BITS=64 -I'F:/biocbuild/bbs-3.16-bioc/R/library/Rcpp/include' -I'F:/biocbuild/bbs-3.16-bioc/R/library/Rhtslib/include' -I'F:/biocbuild/bbs-3.16-bioc/R/library/zlibbioc/include' -I'F:/biocbuild/bbs-3.16-bioc/R/library/testthat/include'   -I"C:/rtools42/x86_64-w64-mingw32.static.posix/include"     -O2 -Wall  -mfpmath=sse -msse2 -mstackrealign  -c ThreadOutputFile.cpp -o ThreadOutputFile.o
g++  -std=gnu++11 -I"F:/biocbuild/bbs-3.16-bioc/R/library/zlibbioc/include" -I"F:/biocbuild/bbs-3.16-bioc/R/include" -DNDEBUG -D_FILE_OFFSET_BITS=64 -I'F:/biocbuild/bbs-3.16-bioc/R/library/Rcpp/include' -I'F:/biocbuild/bbs-3.16-bioc/R/library/Rhtslib/include' -I'F:/biocbuild/bbs-3.16-bioc/R/library/zlibbioc/include' -I'F:/biocbuild/bbs-3.16-bioc/R/library/testthat/include'   -I"C:/rtools42/x86_64-w64-mingw32.static.posix/include"     -O2 -Wall  -mfpmath=sse -msse2 -mstackrealign  -c Trie.cpp -o Trie.o
Trie.cpp: In member function 'void Trie::SeqMismatchAux(std::vector<MismatchResult>&, const string&, trie_node*, int, int, int) const':
Trie.cpp:265:21: warning: comparison of integer expressions of different signedness: 'int' and 'std::vector<trie_node*>::size_type' {aka 'long long unsigned int'} [-Wsign-compare]
  265 |   for (int i = 0; i < valid_nodes.size(); i++) {
      |                   ~~^~~~~~~~~~~~~~~~~~~~
Trie.cpp:274:22: warning: comparison of integer expressions of different signedness: 'int' and 'std::vector<trie_node*>::size_type' {aka 'long long unsigned int'} [-Wsign-compare]
  274 |    for (int i = 0; i < valid_nodes.size(); i++) {
      |                    ~~^~~~~~~~~~~~~~~~~~~~
gcc  -I"F:/biocbuild/bbs-3.16-bioc/R/library/zlibbioc/include" -I"F:/biocbuild/bbs-3.16-bioc/R/include" -DNDEBUG -D_FILE_OFFSET_BITS=64 -I'F:/biocbuild/bbs-3.16-bioc/R/library/Rcpp/include' -I'F:/biocbuild/bbs-3.16-bioc/R/library/Rhtslib/include' -I'F:/biocbuild/bbs-3.16-bioc/R/library/zlibbioc/include' -I'F:/biocbuild/bbs-3.16-bioc/R/library/testthat/include'   -I"C:/rtools42/x86_64-w64-mingw32.static.posix/include"     -O2 -Wall  -std=gnu99 -mfpmath=sse -msse2 -mstackrealign  -c bam.c -o bam.o
g++  -std=gnu++11 -I"F:/biocbuild/bbs-3.16-bioc/R/library/zlibbioc/include" -I"F:/biocbuild/bbs-3.16-bioc/R/include" -DNDEBUG -D_FILE_OFFSET_BITS=64 -I'F:/biocbuild/bbs-3.16-bioc/R/library/Rcpp/include' -I'F:/biocbuild/bbs-3.16-bioc/R/library/Rhtslib/include' -I'F:/biocbuild/bbs-3.16-bioc/R/library/zlibbioc/include' -I'F:/biocbuild/bbs-3.16-bioc/R/library/testthat/include'   -I"C:/rtools42/x86_64-w64-mingw32.static.posix/include"     -O2 -Wall  -mfpmath=sse -msse2 -mstackrealign  -c cellbarcode.cpp -o cellbarcode.o
g++  -std=gnu++11 -I"F:/biocbuild/bbs-3.16-bioc/R/library/zlibbioc/include" -I"F:/biocbuild/bbs-3.16-bioc/R/include" -DNDEBUG -D_FILE_OFFSET_BITS=64 -I'F:/biocbuild/bbs-3.16-bioc/R/library/Rcpp/include' -I'F:/biocbuild/bbs-3.16-bioc/R/library/Rhtslib/include' -I'F:/biocbuild/bbs-3.16-bioc/R/library/zlibbioc/include' -I'F:/biocbuild/bbs-3.16-bioc/R/library/testthat/include'   -I"C:/rtools42/x86_64-w64-mingw32.static.posix/include"     -O2 -Wall  -mfpmath=sse -msse2 -mstackrealign  -c check_barcode_reads.cpp -o check_barcode_reads.o
g++  -std=gnu++11 -I"F:/biocbuild/bbs-3.16-bioc/R/library/zlibbioc/include" -I"F:/biocbuild/bbs-3.16-bioc/R/include" -DNDEBUG -D_FILE_OFFSET_BITS=64 -I'F:/biocbuild/bbs-3.16-bioc/R/library/Rcpp/include' -I'F:/biocbuild/bbs-3.16-bioc/R/library/Rhtslib/include' -I'F:/biocbuild/bbs-3.16-bioc/R/library/zlibbioc/include' -I'F:/biocbuild/bbs-3.16-bioc/R/library/testthat/include'   -I"C:/rtools42/x86_64-w64-mingw32.static.posix/include"     -O2 -Wall  -mfpmath=sse -msse2 -mstackrealign  -c detect_barcode.cpp -o detect_barcode.o
g++  -std=gnu++11 -I"F:/biocbuild/bbs-3.16-bioc/R/library/zlibbioc/include" -I"F:/biocbuild/bbs-3.16-bioc/R/include" -DNDEBUG -D_FILE_OFFSET_BITS=64 -I'F:/biocbuild/bbs-3.16-bioc/R/library/Rcpp/include' -I'F:/biocbuild/bbs-3.16-bioc/R/library/Rhtslib/include' -I'F:/biocbuild/bbs-3.16-bioc/R/library/zlibbioc/include' -I'F:/biocbuild/bbs-3.16-bioc/R/library/testthat/include'   -I"C:/rtools42/x86_64-w64-mingw32.static.posix/include"     -O2 -Wall  -mfpmath=sse -msse2 -mstackrealign  -c parsebam.cpp -o parsebam.o
g++  -std=gnu++11 -I"F:/biocbuild/bbs-3.16-bioc/R/library/zlibbioc/include" -I"F:/biocbuild/bbs-3.16-bioc/R/include" -DNDEBUG -D_FILE_OFFSET_BITS=64 -I'F:/biocbuild/bbs-3.16-bioc/R/library/Rcpp/include' -I'F:/biocbuild/bbs-3.16-bioc/R/library/Rhtslib/include' -I'F:/biocbuild/bbs-3.16-bioc/R/library/zlibbioc/include' -I'F:/biocbuild/bbs-3.16-bioc/R/library/testthat/include'   -I"C:/rtools42/x86_64-w64-mingw32.static.posix/include"     -O2 -Wall  -mfpmath=sse -msse2 -mstackrealign  -c parsecount.cpp -o parsecount.o
g++  -std=gnu++11 -I"F:/biocbuild/bbs-3.16-bioc/R/library/zlibbioc/include" -I"F:/biocbuild/bbs-3.16-bioc/R/include" -DNDEBUG -D_FILE_OFFSET_BITS=64 -I'F:/biocbuild/bbs-3.16-bioc/R/library/Rcpp/include' -I'F:/biocbuild/bbs-3.16-bioc/R/library/Rhtslib/include' -I'F:/biocbuild/bbs-3.16-bioc/R/library/zlibbioc/include' -I'F:/biocbuild/bbs-3.16-bioc/R/library/testthat/include'   -I"C:/rtools42/x86_64-w64-mingw32.static.posix/include"     -O2 -Wall  -mfpmath=sse -msse2 -mstackrealign  -c qc_per_bc_file_helper.cpp -o qc_per_bc_file_helper.o
g++  -std=gnu++11 -I"F:/biocbuild/bbs-3.16-bioc/R/library/zlibbioc/include" -I"F:/biocbuild/bbs-3.16-bioc/R/include" -DNDEBUG -D_FILE_OFFSET_BITS=64 -I'F:/biocbuild/bbs-3.16-bioc/R/library/Rcpp/include' -I'F:/biocbuild/bbs-3.16-bioc/R/library/Rhtslib/include' -I'F:/biocbuild/bbs-3.16-bioc/R/library/zlibbioc/include' -I'F:/biocbuild/bbs-3.16-bioc/R/library/testthat/include'   -I"C:/rtools42/x86_64-w64-mingw32.static.posix/include"     -O2 -Wall  -mfpmath=sse -msse2 -mstackrealign  -c rcpp_scPipe_func.cpp -o rcpp_scPipe_func.o
g++  -std=gnu++11 -I"F:/biocbuild/bbs-3.16-bioc/R/library/zlibbioc/include" -I"F:/biocbuild/bbs-3.16-bioc/R/include" -DNDEBUG -D_FILE_OFFSET_BITS=64 -I'F:/biocbuild/bbs-3.16-bioc/R/library/Rcpp/include' -I'F:/biocbuild/bbs-3.16-bioc/R/library/Rhtslib/include' -I'F:/biocbuild/bbs-3.16-bioc/R/library/zlibbioc/include' -I'F:/biocbuild/bbs-3.16-bioc/R/library/testthat/include'   -I"C:/rtools42/x86_64-w64-mingw32.static.posix/include"     -O2 -Wall  -mfpmath=sse -msse2 -mstackrealign  -c sc_atac_create_fragments.cpp -o sc_atac_create_fragments.o
g++  -std=gnu++11 -I"F:/biocbuild/bbs-3.16-bioc/R/library/zlibbioc/include" -I"F:/biocbuild/bbs-3.16-bioc/R/include" -DNDEBUG -D_FILE_OFFSET_BITS=64 -I'F:/biocbuild/bbs-3.16-bioc/R/library/Rcpp/include' -I'F:/biocbuild/bbs-3.16-bioc/R/library/Rhtslib/include' -I'F:/biocbuild/bbs-3.16-bioc/R/library/zlibbioc/include' -I'F:/biocbuild/bbs-3.16-bioc/R/library/testthat/include'   -I"C:/rtools42/x86_64-w64-mingw32.static.posix/include"     -O2 -Wall  -mfpmath=sse -msse2 -mstackrealign  -c test-cpp.cpp -o test-cpp.o
g++  -std=gnu++11 -I"F:/biocbuild/bbs-3.16-bioc/R/library/zlibbioc/include" -I"F:/biocbuild/bbs-3.16-bioc/R/include" -DNDEBUG -D_FILE_OFFSET_BITS=64 -I'F:/biocbuild/bbs-3.16-bioc/R/library/Rcpp/include' -I'F:/biocbuild/bbs-3.16-bioc/R/library/Rhtslib/include' -I'F:/biocbuild/bbs-3.16-bioc/R/library/zlibbioc/include' -I'F:/biocbuild/bbs-3.16-bioc/R/library/testthat/include'   -I"C:/rtools42/x86_64-w64-mingw32.static.posix/include"     -O2 -Wall  -mfpmath=sse -msse2 -mstackrealign  -c test-example.cpp -o test-example.o
g++  -std=gnu++11 -I"F:/biocbuild/bbs-3.16-bioc/R/library/zlibbioc/include" -I"F:/biocbuild/bbs-3.16-bioc/R/include" -DNDEBUG -D_FILE_OFFSET_BITS=64 -I'F:/biocbuild/bbs-3.16-bioc/R/library/Rcpp/include' -I'F:/biocbuild/bbs-3.16-bioc/R/library/Rhtslib/include' -I'F:/biocbuild/bbs-3.16-bioc/R/library/zlibbioc/include' -I'F:/biocbuild/bbs-3.16-bioc/R/library/testthat/include'   -I"C:/rtools42/x86_64-w64-mingw32.static.posix/include"     -O2 -Wall  -mfpmath=sse -msse2 -mstackrealign  -c test-fragmentThread.cpp -o test-fragmentThread.o
g++  -std=gnu++11 -I"F:/biocbuild/bbs-3.16-bioc/R/library/zlibbioc/include" -I"F:/biocbuild/bbs-3.16-bioc/R/include" -DNDEBUG -D_FILE_OFFSET_BITS=64 -I'F:/biocbuild/bbs-3.16-bioc/R/library/Rcpp/include' -I'F:/biocbuild/bbs-3.16-bioc/R/library/Rhtslib/include' -I'F:/biocbuild/bbs-3.16-bioc/R/library/zlibbioc/include' -I'F:/biocbuild/bbs-3.16-bioc/R/library/testthat/include'   -I"C:/rtools42/x86_64-w64-mingw32.static.posix/include"     -O2 -Wall  -mfpmath=sse -msse2 -mstackrealign  -c test-resizearray.cpp -o test-resizearray.o
g++  -std=gnu++11 -I"F:/biocbuild/bbs-3.16-bioc/R/library/zlibbioc/include" -I"F:/biocbuild/bbs-3.16-bioc/R/include" -DNDEBUG -D_FILE_OFFSET_BITS=64 -I'F:/biocbuild/bbs-3.16-bioc/R/library/Rcpp/include' -I'F:/biocbuild/bbs-3.16-bioc/R/library/Rhtslib/include' -I'F:/biocbuild/bbs-3.16-bioc/R/library/zlibbioc/include' -I'F:/biocbuild/bbs-3.16-bioc/R/library/testthat/include'   -I"C:/rtools42/x86_64-w64-mingw32.static.posix/include"     -O2 -Wall  -mfpmath=sse -msse2 -mstackrealign  -c test-runner.cpp -o test-runner.o
g++  -std=gnu++11 -I"F:/biocbuild/bbs-3.16-bioc/R/library/zlibbioc/include" -I"F:/biocbuild/bbs-3.16-bioc/R/include" -DNDEBUG -D_FILE_OFFSET_BITS=64 -I'F:/biocbuild/bbs-3.16-bioc/R/library/Rcpp/include' -I'F:/biocbuild/bbs-3.16-bioc/R/library/Rhtslib/include' -I'F:/biocbuild/bbs-3.16-bioc/R/library/zlibbioc/include' -I'F:/biocbuild/bbs-3.16-bioc/R/library/testthat/include'   -I"C:/rtools42/x86_64-w64-mingw32.static.posix/include"     -O2 -Wall  -mfpmath=sse -msse2 -mstackrealign  -c test-trie_matching.cpp -o test-trie_matching.o
g++  -std=gnu++11 -I"F:/biocbuild/bbs-3.16-bioc/R/library/zlibbioc/include" -I"F:/biocbuild/bbs-3.16-bioc/R/include" -DNDEBUG -D_FILE_OFFSET_BITS=64 -I'F:/biocbuild/bbs-3.16-bioc/R/library/Rcpp/include' -I'F:/biocbuild/bbs-3.16-bioc/R/library/Rhtslib/include' -I'F:/biocbuild/bbs-3.16-bioc/R/library/zlibbioc/include' -I'F:/biocbuild/bbs-3.16-bioc/R/library/testthat/include'   -I"C:/rtools42/x86_64-w64-mingw32.static.posix/include"     -O2 -Wall  -mfpmath=sse -msse2 -mstackrealign  -c transcriptmapping.cpp -o transcriptmapping.o
g++  -std=gnu++11 -I"F:/biocbuild/bbs-3.16-bioc/R/library/zlibbioc/include" -I"F:/biocbuild/bbs-3.16-bioc/R/include" -DNDEBUG -D_FILE_OFFSET_BITS=64 -I'F:/biocbuild/bbs-3.16-bioc/R/library/Rcpp/include' -I'F:/biocbuild/bbs-3.16-bioc/R/library/Rhtslib/include' -I'F:/biocbuild/bbs-3.16-bioc/R/library/zlibbioc/include' -I'F:/biocbuild/bbs-3.16-bioc/R/library/testthat/include'   -I"C:/rtools42/x86_64-w64-mingw32.static.posix/include"     -O2 -Wall  -mfpmath=sse -msse2 -mstackrealign  -c trimbarcode.cpp -o trimbarcode.o
trimbarcode.cpp: In function 'void paired_fastq_to_fastq(char*, char*, char*, read_s, filter_s, bool)':
trimbarcode.cpp:613:24: warning: 'o_stream_gz' may be used uninitialized in this function [-Wmaybe-uninitialized]
  613 |             fq_gz_write(o_stream_gz, seq1, bc1_end); // write to gzipped fastq file
      |             ~~~~~~~~~~~^~~~~~~~~~~~~~~~~~~~~~~~~~~~
trimbarcode.cpp: In function 'std::vector<int> sc_atac_paired_fastq_to_fastq(const char*, std::vector<std::__cxx11::basic_string<char> >, const char*, const char*, const char*, bool, bool, bool, int, int, bool)':
trimbarcode.cpp:814:31: warning: 'seq3' may be used uninitialized in this function [-Wmaybe-uninitialized]
  814 |             if((l3 = kseq_read(seq3)) < 0){
      |                      ~~~~~~~~~^~~~~~
trimbarcode.cpp:983:16: warning: 'fq3' may be used uninitialized in this function [-Wmaybe-uninitialized]
  983 |         gzclose(fq3);
trimbarcode.cpp: In function 'std::vector<int> sc_atac_paired_fastq_to_csv(char*, char*, char*, char*, char*, int, int, char*, bool, bool, bool, int, int, int, int, int, int)':
trimbarcode.cpp:1164:9: warning: 'bc1_end' may be used uninitialized in this function [-Wmaybe-uninitialized]
 1164 |     int bc1_end, bc2_end; // get end position in the read of barcode and umi
      |         ^~~~~~~
trimbarcode.cpp:1420:26: warning: 'seq3' may be used uninitialized in this function [-Wmaybe-uninitialized]
 1420 |             seq3->name.s = (char*)realloc(seq3->name.s, new_name_length1 + 1); // allocate additional memory
      |             ~~~~~~~~~~~~~^~~~~~~~~~~~~~~~~~~~~~~~~~~~~~~~~~~~~~~~~~~~~~~~~~~~
trimbarcode.cpp:1500:16: warning: 'fq3' may be used uninitialized in this function [-Wmaybe-uninitialized]
 1500 |         gzclose(fq3);
g++  -std=gnu++11 -I"F:/biocbuild/bbs-3.16-bioc/R/library/zlibbioc/include" -I"F:/biocbuild/bbs-3.16-bioc/R/include" -DNDEBUG -D_FILE_OFFSET_BITS=64 -I'F:/biocbuild/bbs-3.16-bioc/R/library/Rcpp/include' -I'F:/biocbuild/bbs-3.16-bioc/R/library/Rhtslib/include' -I'F:/biocbuild/bbs-3.16-bioc/R/library/zlibbioc/include' -I'F:/biocbuild/bbs-3.16-bioc/R/library/testthat/include'   -I"C:/rtools42/x86_64-w64-mingw32.static.posix/include"     -O2 -Wall  -mfpmath=sse -msse2 -mstackrealign  -c tsscreatebins.cpp -o tsscreatebins.o
g++  -std=gnu++11 -I"F:/biocbuild/bbs-3.16-bioc/R/library/zlibbioc/include" -I"F:/biocbuild/bbs-3.16-bioc/R/include" -DNDEBUG -D_FILE_OFFSET_BITS=64 -I'F:/biocbuild/bbs-3.16-bioc/R/library/Rcpp/include' -I'F:/biocbuild/bbs-3.16-bioc/R/library/Rhtslib/include' -I'F:/biocbuild/bbs-3.16-bioc/R/library/zlibbioc/include' -I'F:/biocbuild/bbs-3.16-bioc/R/library/testthat/include'   -I"C:/rtools42/x86_64-w64-mingw32.static.posix/include"     -O2 -Wall  -mfpmath=sse -msse2 -mstackrealign  -c utils.cpp -o utils.o
g++ -shared -s -static-libgcc -o scPipe.dll tmp.def FragmentThread.o FragmentUtils.o Gene.o Interval.o RcppExports.o ResizeArray.o ThreadOutputFile.o Trie.o bam.o cellbarcode.o check_barcode_reads.o detect_barcode.o parsebam.o parsecount.o qc_per_bc_file_helper.o rcpp_scPipe_func.o sc_atac_create_fragments.o test-cpp.o test-example.o test-fragmentThread.o test-resizearray.o test-runner.o test-trie_matching.o transcriptmapping.o trimbarcode.o tsscreatebins.o utils.o F:/biocbuild/bbs-3.16-bioc/R/library/Rhtslib/usrlib/x64/libhts.a -lz -lm -lbz2 -llzma -lcurl -lidn2 -lunistring -liconv -lssl -lcrypto -lcrypt32 -lwsock32 -lwldap32 -lssh2 -lgcrypt -lgpg-error -lws2_32 -lzstd -lregex -LF:/biocbuild/bbs-3.16-bioc/R/library/zlibbioc/libs/x64 -lzlib1bioc -LC:/rtools42/x86_64-w64-mingw32.static.posix/lib/x64 -LC:/rtools42/x86_64-w64-mingw32.static.posix/lib -LF:/biocbuild/bbs-3.16-bioc/R/bin/x64 -lR
installing to F:/biocbuild/bbs-3.16-bioc/R/library/00LOCK-scPipe/00new/scPipe/libs/x64
** R
** data
** inst
** byte-compile and prepare package for lazy loading
** help
*** installing help indices
** building package indices
** installing vignettes
** testing if installed package can be loaded from temporary location
** testing if installed package can be loaded from final location
** testing if installed package keeps a record of temporary installation path
* DONE (scPipe)